BEGIN:VCALENDAR
PRODID:-//nuDatenautomaten//framework iCal4j //DE
VERSION:2.0
CALSCALE:GREGORIAN
BEGIN:VTIMEZONE
TZID:Europe/Berlin
LAST-MODIFIED:20260306T231828Z
TZURL:https://www.tzurl.org/zoneinfo/Europe/Berlin
X-LIC-LOCATION:Europe/Berlin
X-PROLEPTIC-TZNAME:LMT
BEGIN:STANDARD
TZNAME:CET
TZOFFSETFROM:+005328
TZOFFSETTO:+0100
DTSTART:18930401T000000
END:STANDARD
BEGIN:DAYLIGHT
TZNAME:CEST
TZOFFSETFROM:+0100
TZOFFSETTO:+0200
DTSTART:19160430T230000
RDATE:19400401T020000
RDATE:19430329T020000
RDATE:19460414T020000
RDATE:19470406T030000
RDATE:19480418T020000
RDATE:19490410T020000
RDATE:19800406T020000
END:DAYLIGHT
BEGIN:STANDARD
TZNAME:CET
TZOFFSETFROM:+0200
TZOFFSETTO:+0100
DTSTART:19161001T010000
RDATE:19421102T030000
RDATE:19431004T030000
RDATE:19441002T030000
RDATE:19451118T030000
RDATE:19461007T030000
END:STANDARD
BEGIN:DAYLIGHT
TZNAME:CEST
TZOFFSETFROM:+0100
TZOFFSETTO:+0200
DTSTART:19170416T020000
RRULE:FREQ=YEARLY;UNTIL=19180415T010000Z;BYMONTH=4;BYDAY=3MO
END:DAYLIGHT
BEGIN:STANDARD
TZNAME:CET
TZOFFSETFROM:+0200
TZOFFSETTO:+0100
DTSTART:19170917T030000
RRULE:FREQ=YEARLY;UNTIL=19180916T010000Z;BYMONTH=9;BYDAY=3MO
END:STANDARD
BEGIN:DAYLIGHT
TZNAME:CEST
TZOFFSETFROM:+0100
TZOFFSETTO:+0200
DTSTART:19440403T020000
RRULE:FREQ=YEARLY;UNTIL=19450402T010000Z;BYMONTH=4;BYDAY=1MO
END:DAYLIGHT
BEGIN:DAYLIGHT
TZNAME:CEMT
TZOFFSETFROM:+0200
TZOFFSETTO:+0300
DTSTART:19450524T020000
RDATE:19470511T030000
END:DAYLIGHT
BEGIN:DAYLIGHT
TZNAME:CEST
TZOFFSETFROM:+0300
TZOFFSETTO:+0200
DTSTART:19450924T030000
RDATE:19470629T030000
END:DAYLIGHT
BEGIN:STANDARD
TZNAME:CET
TZOFFSETFROM:+0100
TZOFFSETTO:+0100
DTSTART:19460101T000000
RDATE:19800101T000000
END:STANDARD
BEGIN:STANDARD
TZNAME:CET
TZOFFSETFROM:+0200
TZOFFSETTO:+0100
DTSTART:19471005T030000
RRULE:FREQ=YEARLY;UNTIL=19491002T010000Z;BYMONTH=10;BYDAY=1SU
END:STANDARD
BEGIN:STANDARD
TZNAME:CET
TZOFFSETFROM:+0200
TZOFFSETTO:+0100
DTSTART:19800928T030000
RRULE:FREQ=YEARLY;UNTIL=19950924T010000Z;BYMONTH=9;BYDAY=-1SU
END:STANDARD
BEGIN:DAYLIGHT
TZNAME:CEST
TZOFFSETFROM:+0100
TZOFFSETTO:+0200
DTSTART:19810329T020000
RRULE:FREQ=YEARLY;BYMONTH=3;BYDAY=-1SU
END:DAYLIGHT
BEGIN:STANDARD
TZNAME:CET
TZOFFSETFROM:+0200
TZOFFSETTO:+0100
DTSTART:19961027T030000
RRULE:FREQ=YEARLY;BYMONTH=10;BYDAY=-1SU
END:STANDARD
END:VTIMEZONE
BEGIN:VEVENT
DTSTAMP:20260424T084016Z
DTSTART;TZID=Europe/Berlin:20251209T193000
DTEND;TZID=Europe/Berlin:20251209T223000
SUMMARY:HE 4. Liga Gr. 2 Ostermundigen VII vs Langnau III (25)
UID:25e924db-0054-453e-94da-569f747c026a
STATUS:CONFIRMED
LAST-MODIFIED:20251216T120538Z
DESCRIPTION:4. Liga Herren Gruppe 2\nBegegnungs-Nr: 25\nHeim: Ostermundigen VII\nGast: Langnau III\n\nAdresse: Dennigkofenweg 169\, 3072 Ostermundigen\n
LOCATION:Dennigkofenweg 169\, 3072 Ostermundigen
CATEGORIES:Saison 2025/26
END:VEVENT
BEGIN:VEVENT
DTSTAMP:20260424T084016Z
DTSTART;TZID=Europe/Berlin:20251111T193000
DTEND;TZID=Europe/Berlin:20251111T223000
SUMMARY:HE 4. Liga Gr. 2 Ostermundigen VII vs Tiefenau (17)
UID:98596f49-b7ab-4617-8386-d11aca393d70
STATUS:CONFIRMED
LAST-MODIFIED:20251115T173638Z
DESCRIPTION:4. Liga Herren Gruppe 2\nBegegnungs-Nr: 17\nHeim: Ostermundigen VII\nGast: Tiefenau\n\nAdresse: Dennigkofenweg 169\, 3072 Ostermundigen\n
LOCATION:Dennigkofenweg 169\, 3072 Ostermundigen
CATEGORIES:Saison 2025/26
END:VEVENT
BEGIN:VEVENT
DTSTAMP:20260424T084016Z
DTSTART;TZID=Europe/Berlin:20250902T193000
DTEND;TZID=Europe/Berlin:20250902T223000
SUMMARY:HE 4. Liga Gr. 2 Ostermundigen VII vs Thun IV (1)
UID:2be934e5-d3ca-4c78-a7cf-83de4406bdb7
STATUS:CONFIRMED
LAST-MODIFIED:20250907T200040Z
DESCRIPTION:4. Liga Herren Gruppe 2\nBegegnungs-Nr: 1\nHeim: Ostermundigen VII\nGast: Thun IV\n\nAdresse: Dennigkofenweg 169\, 3072 Ostermundigen\n
LOCATION:Dennigkofenweg 169\, 3072 Ostermundigen
CATEGORIES:Saison 2025/26
END:VEVENT
BEGIN:VEVENT
DTSTAMP:20260424T084016Z
DTSTART;TZID=Europe/Berlin:20251022T194500
DTEND;TZID=Europe/Berlin:20251022T224500
SUMMARY:HE 4. Liga Gr. 2 Ostermundigen VII vs Stettlen (9)
UID:ae7f8567-bd28-4a6e-83dc-baa1303d1a91
STATUS:CONFIRMED
LAST-MODIFIED:20251029T220953Z
DESCRIPTION:4. Liga Herren Gruppe 2\nBegegnungs-Nr: 9\nHeim: Ostermundigen VII\nGast: Stettlen\n\nAdresse: Dennigkofenweg 169\, 3072 Ostermundigen\n
LOCATION:Dennigkofenweg 169\, 3072 Ostermundigen
CATEGORIES:Saison 2025/26
END:VEVENT
BEGIN:VEVENT
DTSTAMP:20260424T084016Z
DTSTART;TZID=Europe/Berlin:20260310T193000
DTEND;TZID=Europe/Berlin:20260310T223000
SUMMARY:HE 4. Liga Gr. 2 Ostermundigen VII vs Wohlensee III (21)
UID:0cafe066-3218-4af4-9e97-af8deddc6285
STATUS:CONFIRMED
LAST-MODIFIED:20260327T143525Z
DESCRIPTION:4. Liga Herren Gruppe 2\nBegegnungs-Nr: 21\nHeim: Ostermundigen VII\nGast: Wohlensee III\n\nAdresse: Dennigkofenweg 169\, 3072 Ostermundigen\n
LOCATION:Dennigkofenweg 169\, 3072 Ostermundigen
CATEGORIES:Saison 2025/26
END:VEVENT
BEGIN:VEVENT
DTSTAMP:20260424T084016Z
DTSTART;TZID=Europe/Berlin:20260224T193000
DTEND;TZID=Europe/Berlin:20260224T223000
SUMMARY:HE 4. Liga Gr. 2 Ostermundigen VII vs Bern VII (13)
UID:6411953b-93e2-4ec4-b7b0-5d6d06b4e364
STATUS:CONFIRMED
LAST-MODIFIED:20260302T144634Z
DESCRIPTION:4. Liga Herren Gruppe 2\nBegegnungs-Nr: 13\nHeim: Ostermundigen VII\nGast: Bern VII\n\nAdresse: Dennigkofenweg 169\, 3072 Ostermundigen\n
LOCATION:Dennigkofenweg 169\, 3072 Ostermundigen
CATEGORIES:Saison 2025/26
END:VEVENT
BEGIN:VEVENT
DTSTAMP:20260424T084016Z
DTSTART;TZID=Europe/Berlin:20260123T194500
DTEND;TZID=Europe/Berlin:20260123T224500
SUMMARY:HE 4. Liga Gr. 2 Ostermundigen VII vs Münsingen III (5)
UID:5ca4d212-52fe-4f5e-b3e2-742a0aeeb679
STATUS:CONFIRMED
LAST-MODIFIED:20260125T001714Z
DESCRIPTION:4. Liga Herren Gruppe 2\nBegegnungs-Nr: 5\nHeim: Ostermundigen VII\nGast: Münsingen III\n\nAdresse: Dennigkofenweg 169\, 3072 Ostermundigen\n
LOCATION:Dennigkofenweg 169\, 3072 Ostermundigen
CATEGORIES:Saison 2025/26
END:VEVENT
BEGIN:VEVENT
DTSTAMP:20260424T084016Z
DTSTART;TZID=Europe/Berlin:20250908T193000
DTEND;TZID=Europe/Berlin:20250908T223000
SUMMARY:HE 4. Liga Gr. 2 Münsingen III vs Ostermundigen VII (5)
UID:a7d3c402-0221-430f-8f5f-251f960dd5ec
STATUS:CONFIRMED
LAST-MODIFIED:20250918T140915Z
DESCRIPTION:4. Liga Herren Gruppe 2\nBegegnungs-Nr: 5\nHeim: Münsingen III\nGast: Ostermundigen VII\n\nAdresse: Turnhallenweg 8\, 3110 Münsingen\n
LOCATION:Turnhallenweg 8\, 3110 Münsingen
CATEGORIES:Saison 2025/26
END:VEVENT
BEGIN:VEVENT
DTSTAMP:20260424T084016Z
DTSTART;TZID=Europe/Berlin:20251127T194500
DTEND;TZID=Europe/Berlin:20251127T224500
SUMMARY:HE 4. Liga Gr. 2 Wohlensee III vs Ostermundigen VII (21)
UID:66c25666-f921-4d39-9a8d-6b7bef2bf0dc
STATUS:CONFIRMED
LAST-MODIFIED:20251207T172759Z
DESCRIPTION:4. Liga Herren Gruppe 2\nBegegnungs-Nr: 21\nHeim: Wohlensee III\nGast: Ostermundigen VII\n\nAdresse: Kappelenring 36 a\, 3032 Hinterkappelen\n
LOCATION:Kappelenring 36 a\, 3032 Hinterkappelen
CATEGORIES:Saison 2025/26
END:VEVENT
BEGIN:VEVENT
DTSTAMP:20260424T084016Z
DTSTART;TZID=Europe/Berlin:20251029T193000
DTEND;TZID=Europe/Berlin:20251029T223000
SUMMARY:HE 4. Liga Gr. 2 Bern VII vs Ostermundigen VII (13)
UID:1f92a0de-5526-49ec-9a69-e92bf7633ba8
STATUS:CONFIRMED
LAST-MODIFIED:20251111T072702Z
DESCRIPTION:4. Liga Herren Gruppe 2\nBegegnungs-Nr: 13\nHeim: Bern VII\nGast: Ostermundigen VII\n\nAdresse: Papiermühlestrasse 81\, 3014 Bern\n
LOCATION:Papiermühlestrasse 81\, 3014 Bern
CATEGORIES:Saison 2025/26
END:VEVENT
BEGIN:VEVENT
DTSTAMP:20260424T084016Z
DTSTART;TZID=Europe/Berlin:20260328T140000
DTEND;TZID=Europe/Berlin:20260328T170000
SUMMARY:HE 4. Liga Gr. 2 Langnau III vs Ostermundigen VII (25)
UID:1f8593f0-1b11-4d4e-9f17-1070c0780388
STATUS:CONFIRMED
LAST-MODIFIED:20260409T123446Z
DESCRIPTION:4. Liga Herren Gruppe 2\nBegegnungs-Nr: 25\nHeim: Langnau III\nGast: Ostermundigen VII\n\nAdresse: Bleicheweg 11\, 3550 Langnau\n
LOCATION:Bleicheweg 11\, 3550 Langnau
CATEGORIES:Saison 2025/26
END:VEVENT
BEGIN:VEVENT
DTSTAMP:20260424T084016Z
DTSTART;TZID=Europe/Berlin:20260326T194500
DTEND;TZID=Europe/Berlin:20260326T224500
SUMMARY:HE 4. Liga Gr. 2 Tiefenau vs Ostermundigen VII (17)
UID:09829bd5-9593-4538-99d0-ac59a1d603a3
STATUS:CONFIRMED
LAST-MODIFIED:20260409T123455Z
DESCRIPTION:4. Liga Herren Gruppe 2\nBegegnungs-Nr: 17\nHeim: Tiefenau\nGast: Ostermundigen VII\n\nAdresse: Studerstrasse 56\, 3004 Bern\n
LOCATION:Studerstrasse 56\, 3004 Bern
CATEGORIES:Saison 2025/26
END:VEVENT
BEGIN:VEVENT
DTSTAMP:20260424T084016Z
DTSTART;TZID=Europe/Berlin:20260105T000000
DTEND;TZID=Europe/Berlin:20260105T030000
SUMMARY:HE 4. Liga Gr. 2 Thun IV vs Ostermundigen VII (1)
UID:7a7486b8-3100-4948-b934-95d7cea7f5a5
STATUS:CONFIRMED
LAST-MODIFIED:20260125T001555Z
DESCRIPTION:4. Liga Herren Gruppe 2\nBegegnungs-Nr: 1\nHeim: Thun IV\nGast: Ostermundigen VII\n
LOCATION:
CATEGORIES:Saison 2025/26
END:VEVENT
BEGIN:VEVENT
DTSTAMP:20260424T084016Z
DTSTART;TZID=Europe/Berlin:20260211T194500
DTEND;TZID=Europe/Berlin:20260211T224500
SUMMARY:HE 4. Liga Gr. 2 Stettlen vs Ostermundigen VII (9)
UID:3530f5ac-cb30-4044-bce2-5b0835846e9a
STATUS:CONFIRMED
LAST-MODIFIED:20260217T215004Z
DESCRIPTION:4. Liga Herren Gruppe 2\nBegegnungs-Nr: 9\nHeim: Stettlen\nGast: Ostermundigen VII\n\nAdresse: Bernstrasse 45\, 3066 Stettlen\n
LOCATION:Bernstrasse 45\, 3066 Stettlen
CATEGORIES:Saison 2025/26
END:VEVENT
END:VCALENDAR
