BEGIN:VCALENDAR
PRODID:-//nuDatenautomaten//framework iCal4j //DE
VERSION:2.0
CALSCALE:GREGORIAN
BEGIN:VTIMEZONE
TZID:Europe/Berlin
LAST-MODIFIED:20260306T231828Z
TZURL:https://www.tzurl.org/zoneinfo/Europe/Berlin
X-LIC-LOCATION:Europe/Berlin
X-PROLEPTIC-TZNAME:LMT
BEGIN:STANDARD
TZNAME:CET
TZOFFSETFROM:+005328
TZOFFSETTO:+0100
DTSTART:18930401T000000
END:STANDARD
BEGIN:DAYLIGHT
TZNAME:CEST
TZOFFSETFROM:+0100
TZOFFSETTO:+0200
DTSTART:19160430T230000
RDATE:19400401T020000
RDATE:19430329T020000
RDATE:19460414T020000
RDATE:19470406T030000
RDATE:19480418T020000
RDATE:19490410T020000
RDATE:19800406T020000
END:DAYLIGHT
BEGIN:STANDARD
TZNAME:CET
TZOFFSETFROM:+0200
TZOFFSETTO:+0100
DTSTART:19161001T010000
RDATE:19421102T030000
RDATE:19431004T030000
RDATE:19441002T030000
RDATE:19451118T030000
RDATE:19461007T030000
END:STANDARD
BEGIN:DAYLIGHT
TZNAME:CEST
TZOFFSETFROM:+0100
TZOFFSETTO:+0200
DTSTART:19170416T020000
RRULE:FREQ=YEARLY;UNTIL=19180415T010000Z;BYMONTH=4;BYDAY=3MO
END:DAYLIGHT
BEGIN:STANDARD
TZNAME:CET
TZOFFSETFROM:+0200
TZOFFSETTO:+0100
DTSTART:19170917T030000
RRULE:FREQ=YEARLY;UNTIL=19180916T010000Z;BYMONTH=9;BYDAY=3MO
END:STANDARD
BEGIN:DAYLIGHT
TZNAME:CEST
TZOFFSETFROM:+0100
TZOFFSETTO:+0200
DTSTART:19440403T020000
RRULE:FREQ=YEARLY;UNTIL=19450402T010000Z;BYMONTH=4;BYDAY=1MO
END:DAYLIGHT
BEGIN:DAYLIGHT
TZNAME:CEMT
TZOFFSETFROM:+0200
TZOFFSETTO:+0300
DTSTART:19450524T020000
RDATE:19470511T030000
END:DAYLIGHT
BEGIN:DAYLIGHT
TZNAME:CEST
TZOFFSETFROM:+0300
TZOFFSETTO:+0200
DTSTART:19450924T030000
RDATE:19470629T030000
END:DAYLIGHT
BEGIN:STANDARD
TZNAME:CET
TZOFFSETFROM:+0100
TZOFFSETTO:+0100
DTSTART:19460101T000000
RDATE:19800101T000000
END:STANDARD
BEGIN:STANDARD
TZNAME:CET
TZOFFSETFROM:+0200
TZOFFSETTO:+0100
DTSTART:19471005T030000
RRULE:FREQ=YEARLY;UNTIL=19491002T010000Z;BYMONTH=10;BYDAY=1SU
END:STANDARD
BEGIN:STANDARD
TZNAME:CET
TZOFFSETFROM:+0200
TZOFFSETTO:+0100
DTSTART:19800928T030000
RRULE:FREQ=YEARLY;UNTIL=19950924T010000Z;BYMONTH=9;BYDAY=-1SU
END:STANDARD
BEGIN:DAYLIGHT
TZNAME:CEST
TZOFFSETFROM:+0100
TZOFFSETTO:+0200
DTSTART:19810329T020000
RRULE:FREQ=YEARLY;BYMONTH=3;BYDAY=-1SU
END:DAYLIGHT
BEGIN:STANDARD
TZNAME:CET
TZOFFSETFROM:+0200
TZOFFSETTO:+0100
DTSTART:19961027T030000
RRULE:FREQ=YEARLY;BYMONTH=10;BYDAY=-1SU
END:STANDARD
END:VTIMEZONE
BEGIN:VEVENT
DTSTAMP:20260424T134041Z
DTSTART;TZID=Europe/Berlin:20251007T194500
DTEND;TZID=Europe/Berlin:20251007T224500
SUMMARY:Ligue 5 Gr.2 Ph.A Silver Star IX vs Veyrier V (12)
UID:2a8e6812-a954-4dea-92e8-24884c734bb1
STATUS:CONFIRMED
LAST-MODIFIED:20251008T065914Z
DESCRIPTION:5ème ligue Hommes Gr.2 Phase A\nBegegnungs-Nr: 12\nHeim: Silver Star IX\nGast: Veyrier V\n
LOCATION:
CATEGORIES:Saison 2025/26
END:VEVENT
BEGIN:VEVENT
DTSTAMP:20260424T134041Z
DTSTART;TZID=Europe/Berlin:20250922T194500
DTEND;TZID=Europe/Berlin:20250922T224500
SUMMARY:Ligue 5 Gr.2 Ph.A Silver Star IX vs Châtelaine IX (8)
UID:8e0dc093-ab19-4716-881f-c73cef71a7b1
STATUS:CONFIRMED
LAST-MODIFIED:20250923T071806Z
DESCRIPTION:5ème ligue Hommes Gr.2 Phase A\nBegegnungs-Nr: 8\nHeim: Silver Star IX\nGast: Châtelaine IX\n
LOCATION:
CATEGORIES:Saison 2025/26
END:VEVENT
BEGIN:VEVENT
DTSTAMP:20260424T134041Z
DTSTART;TZID=Europe/Berlin:20250901T194500
DTEND;TZID=Europe/Berlin:20250901T224500
SUMMARY:Ligue 5 Gr.2 Ph.A Silver Star IX vs Bernex VI (2)
UID:5454496e-30fe-41dc-8de5-68bf16b07f34
STATUS:CONFIRMED
LAST-MODIFIED:20250902T073912Z
DESCRIPTION:5ème ligue Hommes Gr.2 Phase A\nBegegnungs-Nr: 2\nHeim: Silver Star IX\nGast: Bernex VI\n
LOCATION:
CATEGORIES:Saison 2025/26
END:VEVENT
BEGIN:VEVENT
DTSTAMP:20260424T134041Z
DTSTART;TZID=Europe/Berlin:20251110T194500
DTEND;TZID=Europe/Berlin:20251110T224500
SUMMARY:Ligue 5 Gr.2 Ph.A Silver Star IX vs Grand-Saconnex V (20)
UID:3bf28fea-a0be-43ef-a1a2-11a87e81f461
STATUS:CONFIRMED
LAST-MODIFIED:20251111T082043Z
DESCRIPTION:5ème ligue Hommes Gr.2 Phase A\nBegegnungs-Nr: 20\nHeim: Silver Star IX\nGast: Grand-Saconnex V\n
LOCATION:
CATEGORIES:Saison 2025/26
END:VEVENT
BEGIN:VEVENT
DTSTAMP:20260424T134041Z
DTSTART;TZID=Europe/Berlin:20251013T194500
DTEND;TZID=Europe/Berlin:20251013T224500
SUMMARY:Ligue 5 Gr.2 Ph.A Silver Star IX vs Versoix V (13)
UID:61963368-61d1-417a-87a2-ba256f6fec5f
STATUS:CONFIRMED
LAST-MODIFIED:20251014T080736Z
DESCRIPTION:5ème ligue Hommes Gr.2 Phase A\nBegegnungs-Nr: 13\nHeim: Silver Star IX\nGast: Versoix V\n\nAdresse: Rue de Vermont 33\, 1202 Genève\n
LOCATION:Rue de Vermont 33\, 1202 Genève
CATEGORIES:Saison 2025/26
END:VEVENT
BEGIN:VEVENT
DTSTAMP:20260424T134041Z
DTSTART;TZID=Europe/Berlin:20260427T194500
DTEND;TZID=Europe/Berlin:20260427T224500
SUMMARY:Ligue 5 Gr.3 Ph.B Silver Star IX vs Onex IV (29)
UID:1d82b4d0-0c4b-4763-91a3-73c3c0aedbc9
STATUS:CONFIRMED
DESCRIPTION:5ème ligue Hommes Gr.3 Phase B\nBegegnungs-Nr: 29\nHeim: Silver Star IX\nGast: Onex IV\n
LOCATION:
CATEGORIES:Saison 2025/26
END:VEVENT
BEGIN:VEVENT
DTSTAMP:20260424T134041Z
DTSTART;TZID=Europe/Berlin:20260309T194500
DTEND;TZID=Europe/Berlin:20260309T224500
SUMMARY:Ligue 5 Gr.3 Ph.B Silver Star IX vs Rapid-Genève IV (16)
UID:b313b6f7-af57-4f4a-b8c8-dcdeba3ec9f9
STATUS:CONFIRMED
LAST-MODIFIED:20260310T082241Z
DESCRIPTION:5ème ligue Hommes Gr.3 Phase B\nBegegnungs-Nr: 16\nHeim: Silver Star IX\nGast: Rapid-Genève IV\n
LOCATION:
CATEGORIES:Saison 2025/26
END:VEVENT
BEGIN:VEVENT
DTSTAMP:20260424T134041Z
DTSTART;TZID=Europe/Berlin:20260209T194500
DTEND;TZID=Europe/Berlin:20260209T224500
SUMMARY:Ligue 5 Gr.3 Ph.B Silver Star IX vs Grand-Saconnex IV (11)
UID:a84662cd-7203-4608-8c8b-815646dc61ed
STATUS:CONFIRMED
LAST-MODIFIED:20260210T174650Z
DESCRIPTION:5ème ligue Hommes Gr.3 Phase B\nBegegnungs-Nr: 11\nHeim: Silver Star IX\nGast: Grand-Saconnex IV\n
LOCATION:
CATEGORIES:Saison 2025/26
END:VEVENT
BEGIN:VEVENT
DTSTAMP:20260424T134041Z
DTSTART;TZID=Europe/Berlin:20260119T194500
DTEND;TZID=Europe/Berlin:20260119T224500
SUMMARY:Ligue 5 Gr.3 Ph.B Silver Star IX vs Versoix VI (5)
UID:98ba7106-4aaf-4d39-af52-bbf3427924b8
STATUS:CONFIRMED
LAST-MODIFIED:20260120T121114Z
DESCRIPTION:5ème ligue Hommes Gr.3 Phase B\nBegegnungs-Nr: 5\nHeim: Silver Star IX\nGast: Versoix VI\n
LOCATION:
CATEGORIES:Saison 2025/26
END:VEVENT
BEGIN:VEVENT
DTSTAMP:20260424T134041Z
DTSTART;TZID=Europe/Berlin:20251201T194500
DTEND;TZID=Europe/Berlin:20251201T224500
SUMMARY:Ligue 5 Gr.2 Ph.A Versoix V vs Silver Star IX (28)
UID:7c6e5c4e-4a27-44e8-8c6d-8d87597cd0ba
STATUS:CONFIRMED
LAST-MODIFIED:20251202T084633Z
DESCRIPTION:5ème ligue Hommes Gr.2 Phase A\nBegegnungs-Nr: 28\nHeim: Versoix V\nGast: Silver Star IX\n\nAdresse: Chemin Ami-Argand 40\, 1290 Versoix\n
LOCATION:Chemin Ami-Argand 40\, 1290 Versoix
CATEGORIES:Saison 2025/26
END:VEVENT
BEGIN:VEVENT
DTSTAMP:20260424T134041Z
DTSTART;TZID=Europe/Berlin:20251124T194500
DTEND;TZID=Europe/Berlin:20251124T224500
SUMMARY:Ligue 5 Gr.2 Ph.A Veyrier V vs Silver Star IX (27)
UID:0fdf14ed-8dcc-4a7a-8dda-bf48f91ce522
STATUS:CONFIRMED
LAST-MODIFIED:20251125T075624Z
DESCRIPTION:5ème ligue Hommes Gr.2 Phase A\nBegegnungs-Nr: 27\nHeim: Veyrier V\nGast: Silver Star IX\n\nAdresse: -\, 1255 Veyrier\n
LOCATION:-\, 1255 Veyrier
CATEGORIES:Saison 2025/26
END:VEVENT
BEGIN:VEVENT
DTSTAMP:20260424T134041Z
DTSTART;TZID=Europe/Berlin:20250915T194500
DTEND;TZID=Europe/Berlin:20250915T224500
SUMMARY:Ligue 5 Gr.2 Ph.A Grand-Saconnex V vs Silver Star IX (5)
UID:d98b8226-e6e2-42e4-9433-977a3776748e
STATUS:CONFIRMED
LAST-MODIFIED:20250916T073023Z
DESCRIPTION:5ème ligue Hommes Gr.2 Phase A\nBegegnungs-Nr: 5\nHeim: Grand-Saconnex V\nGast: Silver Star IX\n
LOCATION:
CATEGORIES:Saison 2025/26
END:VEVENT
BEGIN:VEVENT
DTSTAMP:20260424T134041Z
DTSTART;TZID=Europe/Berlin:20251027T194500
DTEND;TZID=Europe/Berlin:20251027T224500
SUMMARY:Ligue 5 Gr.2 Ph.A Bernex VI vs Silver Star IX (17)
UID:e0fdbf8b-c76b-4f80-8eb8-c4be7ef15644
STATUS:CONFIRMED
LAST-MODIFIED:20251028T194938Z
DESCRIPTION:5ème ligue Hommes Gr.2 Phase A\nBegegnungs-Nr: 17\nHeim: Bernex VI\nGast: Silver Star IX\n
LOCATION:
CATEGORIES:Saison 2025/26
END:VEVENT
BEGIN:VEVENT
DTSTAMP:20260424T134041Z
DTSTART;TZID=Europe/Berlin:20251119T194500
DTEND;TZID=Europe/Berlin:20251119T224500
SUMMARY:Ligue 5 Gr.2 Ph.A Châtelaine IX vs Silver Star IX (23)
UID:408e6d8a-58ca-41bd-8346-2b482d1ef333
STATUS:CONFIRMED
LAST-MODIFIED:20251121T184603Z
DESCRIPTION:5ème ligue Hommes Gr.2 Phase A\nBegegnungs-Nr: 23\nHeim: Châtelaine IX\nGast: Silver Star IX\n
LOCATION:
CATEGORIES:Saison 2025/26
END:VEVENT
BEGIN:VEVENT
DTSTAMP:20260424T134041Z
DTSTART;TZID=Europe/Berlin:20260330T194500
DTEND;TZID=Europe/Berlin:20260330T224500
SUMMARY:Ligue 5 Gr.3 Ph.B Grand-Saconnex IV vs Silver Star IX (26)
UID:0b7cd760-4000-4f0f-839c-2fb54b50a742
STATUS:CONFIRMED
LAST-MODIFIED:20260402T063924Z
DESCRIPTION:5ème ligue Hommes Gr.3 Phase B\nBegegnungs-Nr: 26\nHeim: Grand-Saconnex IV\nGast: Silver Star IX\n
LOCATION:
CATEGORIES:Saison 2025/26
END:VEVENT
BEGIN:VEVENT
DTSTAMP:20260424T134041Z
DTSTART;TZID=Europe/Berlin:20260316T194500
DTEND;TZID=Europe/Berlin:20260316T224500
SUMMARY:Ligue 5 Gr.3 Ph.B Versoix VI vs Silver Star IX (20)
UID:815f0523-ef87-424c-8d03-b2faca983132
STATUS:CONFIRMED
LAST-MODIFIED:20260317T211205Z
DESCRIPTION:5ème ligue Hommes Gr.3 Phase B\nBegegnungs-Nr: 20\nHeim: Versoix VI\nGast: Silver Star IX\n
LOCATION:
CATEGORIES:Saison 2025/26
END:VEVENT
BEGIN:VEVENT
DTSTAMP:20260424T134041Z
DTSTART;TZID=Europe/Berlin:20260219T194500
DTEND;TZID=Europe/Berlin:20260219T224500
SUMMARY:Ligue 5 Gr.3 Ph.B Onex IV vs Silver Star IX (14)
UID:cc219bbd-1fea-490b-b7d3-08b45e003983
STATUS:CONFIRMED
LAST-MODIFIED:20260220T081819Z
DESCRIPTION:5ème ligue Hommes Gr.3 Phase B\nBegegnungs-Nr: 14\nHeim: Onex IV\nGast: Silver Star IX\n
LOCATION:
CATEGORIES:Saison 2025/26
END:VEVENT
BEGIN:VEVENT
DTSTAMP:20260424T134041Z
DTSTART;TZID=Europe/Berlin:20260112T194500
DTEND;TZID=Europe/Berlin:20260112T224500
SUMMARY:Ligue 5 Gr.3 Ph.B Rapid-Genève IV vs Silver Star IX (1)
UID:04568b29-a823-41d5-b397-8d1960bf7e11
STATUS:CONFIRMED
LAST-MODIFIED:20260113T115413Z
DESCRIPTION:5ème ligue Hommes Gr.3 Phase B\nBegegnungs-Nr: 1\nHeim: Rapid-Genève IV\nGast: Silver Star IX\n
LOCATION:
CATEGORIES:Saison 2025/26
END:VEVENT
END:VCALENDAR
