BEGIN:VCALENDAR
PRODID:-//nuDatenautomaten//framework iCal4j //DE
VERSION:2.0
CALSCALE:GREGORIAN
BEGIN:VTIMEZONE
TZID:Europe/Berlin
LAST-MODIFIED:20260306T231828Z
TZURL:https://www.tzurl.org/zoneinfo/Europe/Berlin
X-LIC-LOCATION:Europe/Berlin
X-PROLEPTIC-TZNAME:LMT
BEGIN:STANDARD
TZNAME:CET
TZOFFSETFROM:+005328
TZOFFSETTO:+0100
DTSTART:18930401T000000
END:STANDARD
BEGIN:DAYLIGHT
TZNAME:CEST
TZOFFSETFROM:+0100
TZOFFSETTO:+0200
DTSTART:19160430T230000
RDATE:19400401T020000
RDATE:19430329T020000
RDATE:19460414T020000
RDATE:19470406T030000
RDATE:19480418T020000
RDATE:19490410T020000
RDATE:19800406T020000
END:DAYLIGHT
BEGIN:STANDARD
TZNAME:CET
TZOFFSETFROM:+0200
TZOFFSETTO:+0100
DTSTART:19161001T010000
RDATE:19421102T030000
RDATE:19431004T030000
RDATE:19441002T030000
RDATE:19451118T030000
RDATE:19461007T030000
END:STANDARD
BEGIN:DAYLIGHT
TZNAME:CEST
TZOFFSETFROM:+0100
TZOFFSETTO:+0200
DTSTART:19170416T020000
RRULE:FREQ=YEARLY;UNTIL=19180415T010000Z;BYMONTH=4;BYDAY=3MO
END:DAYLIGHT
BEGIN:STANDARD
TZNAME:CET
TZOFFSETFROM:+0200
TZOFFSETTO:+0100
DTSTART:19170917T030000
RRULE:FREQ=YEARLY;UNTIL=19180916T010000Z;BYMONTH=9;BYDAY=3MO
END:STANDARD
BEGIN:DAYLIGHT
TZNAME:CEST
TZOFFSETFROM:+0100
TZOFFSETTO:+0200
DTSTART:19440403T020000
RRULE:FREQ=YEARLY;UNTIL=19450402T010000Z;BYMONTH=4;BYDAY=1MO
END:DAYLIGHT
BEGIN:DAYLIGHT
TZNAME:CEMT
TZOFFSETFROM:+0200
TZOFFSETTO:+0300
DTSTART:19450524T020000
RDATE:19470511T030000
END:DAYLIGHT
BEGIN:DAYLIGHT
TZNAME:CEST
TZOFFSETFROM:+0300
TZOFFSETTO:+0200
DTSTART:19450924T030000
RDATE:19470629T030000
END:DAYLIGHT
BEGIN:STANDARD
TZNAME:CET
TZOFFSETFROM:+0100
TZOFFSETTO:+0100
DTSTART:19460101T000000
RDATE:19800101T000000
END:STANDARD
BEGIN:STANDARD
TZNAME:CET
TZOFFSETFROM:+0200
TZOFFSETTO:+0100
DTSTART:19471005T030000
RRULE:FREQ=YEARLY;UNTIL=19491002T010000Z;BYMONTH=10;BYDAY=1SU
END:STANDARD
BEGIN:STANDARD
TZNAME:CET
TZOFFSETFROM:+0200
TZOFFSETTO:+0100
DTSTART:19800928T030000
RRULE:FREQ=YEARLY;UNTIL=19950924T010000Z;BYMONTH=9;BYDAY=-1SU
END:STANDARD
BEGIN:DAYLIGHT
TZNAME:CEST
TZOFFSETFROM:+0100
TZOFFSETTO:+0200
DTSTART:19810329T020000
RRULE:FREQ=YEARLY;BYMONTH=3;BYDAY=-1SU
END:DAYLIGHT
BEGIN:STANDARD
TZNAME:CET
TZOFFSETFROM:+0200
TZOFFSETTO:+0100
DTSTART:19961027T030000
RRULE:FREQ=YEARLY;BYMONTH=10;BYDAY=-1SU
END:STANDARD
END:VTIMEZONE
BEGIN:VEVENT
DTSTAMP:20260424T151028Z
DTSTART;TZID=Europe/Berlin:20250910T194500
DTEND;TZID=Europe/Berlin:20250910T224500
SUMMARY:ME L2 Gr 3\, Tours 1&2 Forward-Morges III vs Eysins (0)
UID:a7e22a33-4c52-425a-a8af-ce7029ebca3a
STATUS:CONFIRMED
LAST-MODIFIED:20250911T184949Z
DESCRIPTION:2ème ligue Hommes Groupe 3\, Tours 1&2\nBegegnungs-Nr: 0\nHeim: Forward-Morges III\nGast: Eysins\n\nAdresse: Chemin de Tolochenaz\, 1110 Morges\n
LOCATION:Chemin de Tolochenaz\, 1110 Morges
CATEGORIES:Saison 2025/26
END:VEVENT
BEGIN:VEVENT
DTSTAMP:20260424T151028Z
DTSTART;TZID=Europe/Berlin:20251020T194500
DTEND;TZID=Europe/Berlin:20251020T224500
SUMMARY:ME L2 Gr 3\, Tours 1&2 Forward-Morges III vs Romanel (0)
UID:cbdbd169-250b-4caa-9e08-cb5d67e6d6e5
STATUS:CONFIRMED
LAST-MODIFIED:20251024T105207Z
DESCRIPTION:2ème ligue Hommes Groupe 3\, Tours 1&2\nBegegnungs-Nr: 0\nHeim: Forward-Morges III\nGast: Romanel\n\nAdresse: Chemin de Tolochenaz\, 1110 Morges\n
LOCATION:Chemin de Tolochenaz\, 1110 Morges
CATEGORIES:Saison 2025/26
END:VEVENT
BEGIN:VEVENT
DTSTAMP:20260424T151028Z
DTSTART;TZID=Europe/Berlin:20251008T194500
DTEND;TZID=Europe/Berlin:20251008T224500
SUMMARY:ME L2 Gr 3\, Tours 1&2 Forward-Morges III vs Eysins II (0)
UID:9130bad9-3457-4ba7-8d82-3c9226a550ad
STATUS:CONFIRMED
LAST-MODIFIED:20251009T102941Z
DESCRIPTION:2ème ligue Hommes Groupe 3\, Tours 1&2\nBegegnungs-Nr: 0\nHeim: Forward-Morges III\nGast: Eysins II\n\nAdresse: Chemin de Tolochenaz\, 1110 Morges\n
LOCATION:Chemin de Tolochenaz\, 1110 Morges
CATEGORIES:Saison 2025/26
END:VEVENT
BEGIN:VEVENT
DTSTAMP:20260424T151028Z
DTSTART;TZID=Europe/Berlin:20251029T194500
DTEND;TZID=Europe/Berlin:20251029T224500
SUMMARY:ME L2 Gr 3\, Tours 1&2 Forward-Morges III vs Lausanne III (0)
UID:8bda3fc3-1892-4cb2-a050-7751556312f6
STATUS:CONFIRMED
LAST-MODIFIED:20251103T123635Z
DESCRIPTION:2ème ligue Hommes Groupe 3\, Tours 1&2\nBegegnungs-Nr: 0\nHeim: Forward-Morges III\nGast: Lausanne III\n\nAdresse: Chemin de Tolochenaz\, 1110 Morges\n
LOCATION:Chemin de Tolochenaz\, 1110 Morges
CATEGORIES:Saison 2025/26
END:VEVENT
BEGIN:VEVENT
DTSTAMP:20260424T151028Z
DTSTART;TZID=Europe/Berlin:20251119T194500
DTEND;TZID=Europe/Berlin:20251119T224500
SUMMARY:ME L2 Gr 3\, Tours 1&2 Forward-Morges III vs Gland (0)
UID:2bd57b20-cc20-490f-973e-3ee60d5d69e2
STATUS:CONFIRMED
LAST-MODIFIED:20251125T150501Z
DESCRIPTION:2ème ligue Hommes Groupe 3\, Tours 1&2\nBegegnungs-Nr: 0\nHeim: Forward-Morges III\nGast: Gland\n\nAdresse: Chemin de Tolochenaz\, 1110 Morges\n
LOCATION:Chemin de Tolochenaz\, 1110 Morges
CATEGORIES:Saison 2025/26
END:VEVENT
BEGIN:VEVENT
DTSTAMP:20260424T151028Z
DTSTART;TZID=Europe/Berlin:20260204T194500
DTEND;TZID=Europe/Berlin:20260204T224500
SUMMARY:ME L2 Gr 3\, Tours 3&4 Forward-Morges III vs Eysins (0)
UID:0114600a-2493-4b2f-8ef1-8c81fc6d4896
STATUS:CONFIRMED
LAST-MODIFIED:20260205T224158Z
DESCRIPTION:2ème ligue Hommes Groupe 3\, Tours 3&4\nBegegnungs-Nr: 0\nHeim: Forward-Morges III\nGast: Eysins\n\nAdresse: Chemin de Tolochenaz\, 1110 Morges\n
LOCATION:Chemin de Tolochenaz\, 1110 Morges
CATEGORIES:Saison 2025/26
END:VEVENT
BEGIN:VEVENT
DTSTAMP:20260424T151028Z
DTSTART;TZID=Europe/Berlin:20260225T194500
DTEND;TZID=Europe/Berlin:20260225T224500
SUMMARY:ME L2 Gr 3\, Tours 3&4 Forward-Morges III vs Lausanne III (0)
UID:668e8f1b-a108-4a61-982d-90a5fc122b42
STATUS:CONFIRMED
LAST-MODIFIED:20260301T134932Z
DESCRIPTION:2ème ligue Hommes Groupe 3\, Tours 3&4\nBegegnungs-Nr: 0\nHeim: Forward-Morges III\nGast: Lausanne III\n\nAdresse: Chemin de Tolochenaz\, 1110 Morges\n
LOCATION:Chemin de Tolochenaz\, 1110 Morges
CATEGORIES:Saison 2025/26
END:VEVENT
BEGIN:VEVENT
DTSTAMP:20260424T151028Z
DTSTART;TZID=Europe/Berlin:20260318T194500
DTEND;TZID=Europe/Berlin:20260318T224500
SUMMARY:ME L2 Gr 3\, Tours 3&4 Forward-Morges III vs Vevey II (0)
UID:17e9dd2c-115a-473b-8ce9-ac33df9513c4
STATUS:CONFIRMED
LAST-MODIFIED:20260325T093200Z
DESCRIPTION:2ème ligue Hommes Groupe 3\, Tours 3&4\nBegegnungs-Nr: 0\nHeim: Forward-Morges III\nGast: Vevey II\n\nAdresse: Chemin de Tolochenaz\, 1110 Morges\n
LOCATION:Chemin de Tolochenaz\, 1110 Morges
CATEGORIES:Saison 2025/26
END:VEVENT
BEGIN:VEVENT
DTSTAMP:20260424T151028Z
DTSTART;TZID=Europe/Berlin:20260422T194500
DTEND;TZID=Europe/Berlin:20260422T224500
SUMMARY:ME L2 Gr 3\, Tours 3&4 Forward-Morges III vs Romanel II (0)
UID:28922a03-e8a2-4719-8fdd-e7f561849945
STATUS:CONFIRMED
LAST-MODIFIED:20260424T143037Z
DESCRIPTION:2ème ligue Hommes Groupe 3\, Tours 3&4\nBegegnungs-Nr: 0\nHeim: Forward-Morges III\nGast: Romanel II\n\nAdresse: Chemin de Tolochenaz\, 1110 Morges\n
LOCATION:Chemin de Tolochenaz\, 1110 Morges
CATEGORIES:Saison 2025/26
END:VEVENT
BEGIN:VEVENT
DTSTAMP:20260424T151028Z
DTSTART;TZID=Europe/Berlin:20260128T194500
DTEND;TZID=Europe/Berlin:20260128T224500
SUMMARY:ME L2 Gr 3\, Tours 3&4 Forward-Morges III vs Montriond-Ouchy  (0)
UID:77587b4d-d839-41bf-b3c2-bb3c9a4638dd
STATUS:CONFIRMED
LAST-MODIFIED:20260130T172938Z
DESCRIPTION:2ème ligue Hommes Groupe 3\, Tours 3&4\nBegegnungs-Nr: 0\nHeim: Forward-Morges III\nGast: Montriond-Ouchy \n\nAdresse: Chemin de Tolochenaz\, 1110 Morges\n
LOCATION:Chemin de Tolochenaz\, 1110 Morges
CATEGORIES:Saison 2025/26
END:VEVENT
BEGIN:VEVENT
DTSTAMP:20260424T151028Z
DTSTART;TZID=Europe/Berlin:20250901T200000
DTEND;TZID=Europe/Berlin:20250901T230000
SUMMARY:ME L2 Gr 3\, Tours 1&2 Lausanne III vs Forward-Morges III (0)
UID:c963ec31-6b68-489a-ab49-e54045a26425
STATUS:CONFIRMED
LAST-MODIFIED:20250903T212945Z
DESCRIPTION:2ème ligue Hommes Groupe 3\, Tours 1&2\nBegegnungs-Nr: 0\nHeim: Lausanne III\nGast: Forward-Morges III\n\nAdresse: Vaudoise Aréna\, Ch. du Viaduc 14\, 1008 Prilly\n
LOCATION:Vaudoise Aréna\, Ch. du Viaduc 14\, 1008 Prilly
CATEGORIES:Saison 2025/26
END:VEVENT
BEGIN:VEVENT
DTSTAMP:20260424T151028Z
DTSTART;TZID=Europe/Berlin:20250919T193000
DTEND;TZID=Europe/Berlin:20250919T223000
SUMMARY:ME L2 Gr 3\, Tours 1&2 Gland vs Forward-Morges III (0)
UID:22e55acc-861d-44ec-831e-04a348b49c09
STATUS:CONFIRMED
LAST-MODIFIED:20250920T101325Z
DESCRIPTION:2ème ligue Hommes Groupe 3\, Tours 1&2\nBegegnungs-Nr: 0\nHeim: Gland\nGast: Forward-Morges III\n\nAdresse: Chemin de la Perroude 1\, 1196 Gland\n
LOCATION:Chemin de la Perroude 1\, 1196 Gland
CATEGORIES:Saison 2025/26
END:VEVENT
BEGIN:VEVENT
DTSTAMP:20260424T151028Z
DTSTART;TZID=Europe/Berlin:20251105T200000
DTEND;TZID=Europe/Berlin:20251105T230000
SUMMARY:ME L2 Gr 3\, Tours 1&2 Eysins vs Forward-Morges III (0)
UID:1932d1b1-7af2-4d74-8b63-5b63eef820ef
STATUS:CONFIRMED
LAST-MODIFIED:20251109T122403Z
DESCRIPTION:2ème ligue Hommes Groupe 3\, Tours 1&2\nBegegnungs-Nr: 0\nHeim: Eysins\nGast: Forward-Morges III\n\nAdresse: En Bellossiez 1\, 1262 Eysins\n
LOCATION:En Bellossiez 1\, 1262 Eysins
CATEGORIES:Saison 2025/26
END:VEVENT
BEGIN:VEVENT
DTSTAMP:20260424T151028Z
DTSTART;TZID=Europe/Berlin:20251126T193000
DTEND;TZID=Europe/Berlin:20251126T223000
SUMMARY:ME L2 Gr 3\, Tours 1&2 Romanel vs Forward-Morges III (0)
UID:64a6ee0d-0452-42a1-b13f-b8fa2236c15b
STATUS:CONFIRMED
LAST-MODIFIED:20251128T203809Z
DESCRIPTION:2ème ligue Hommes Groupe 3\, Tours 1&2\nBegegnungs-Nr: 0\nHeim: Romanel\nGast: Forward-Morges III\n\nAdresse: Ch des Epinettes 1\, 1032 Romanel-sur-Lausanne\n
LOCATION:Ch des Epinettes 1\, 1032 Romanel-sur-Lausanne
CATEGORIES:Saison 2025/26
END:VEVENT
BEGIN:VEVENT
DTSTAMP:20260424T151028Z
DTSTART;TZID=Europe/Berlin:20251210T200000
DTEND;TZID=Europe/Berlin:20251210T230000
SUMMARY:ME L2 Gr 3\, Tours 1&2 Eysins II vs Forward-Morges III (0)
UID:dbde4456-5836-43a4-83a2-18c9d823d9c2
STATUS:CONFIRMED
LAST-MODIFIED:20251211T055554Z
DESCRIPTION:2ème ligue Hommes Groupe 3\, Tours 1&2\nBegegnungs-Nr: 0\nHeim: Eysins II\nGast: Forward-Morges III\n\nAdresse: En Bellossiez 1\, 1262 Eysins\n
LOCATION:En Bellossiez 1\, 1262 Eysins
CATEGORIES:Saison 2025/26
END:VEVENT
BEGIN:VEVENT
DTSTAMP:20260424T151028Z
DTSTART;TZID=Europe/Berlin:20260211T193000
DTEND;TZID=Europe/Berlin:20260211T223000
SUMMARY:ME L2 Gr 3\, Tours 3&4 Romanel II vs Forward-Morges III (0)
UID:e299e7a8-ed00-4f1e-81a4-93d37690ec33
STATUS:CONFIRMED
LAST-MODIFIED:20260212T112848Z
DESCRIPTION:2ème ligue Hommes Groupe 3\, Tours 3&4\nBegegnungs-Nr: 0\nHeim: Romanel II\nGast: Forward-Morges III\n\nAdresse: Ch des Epinettes 1\, 1032 Romanel-sur-Lausanne\n
LOCATION:Ch des Epinettes 1\, 1032 Romanel-sur-Lausanne
CATEGORIES:Saison 2025/26
END:VEVENT
BEGIN:VEVENT
DTSTAMP:20260424T151028Z
DTSTART;TZID=Europe/Berlin:20260313T193000
DTEND;TZID=Europe/Berlin:20260313T223000
SUMMARY:ME L2 Gr 3\, Tours 3&4 Montriond-Ouchy  vs Forward-Morges III (0)
UID:d9233578-b4cf-4f87-9f3b-8987026560df
STATUS:CONFIRMED
LAST-MODIFIED:20260315T145017Z
DESCRIPTION:2ème ligue Hommes Groupe 3\, Tours 3&4\nBegegnungs-Nr: 0\nHeim: Montriond-Ouchy \nGast: Forward-Morges III\n\nAdresse: Avenue d'Ouchy 45\, 1006 Lausanne\n
LOCATION:Avenue d'Ouchy 45\, 1006 Lausanne
CATEGORIES:Saison 2025/26
END:VEVENT
BEGIN:VEVENT
DTSTAMP:20260424T151028Z
DTSTART;TZID=Europe/Berlin:20260401T200000
DTEND;TZID=Europe/Berlin:20260401T230000
SUMMARY:ME L2 Gr 3\, Tours 3&4 Eysins vs Forward-Morges III (0)
UID:bade917a-938b-4719-93a3-8fbf8bbfa8c5
STATUS:CONFIRMED
LAST-MODIFIED:20260407T192939Z
DESCRIPTION:2ème ligue Hommes Groupe 3\, Tours 3&4\nBegegnungs-Nr: 0\nHeim: Eysins\nGast: Forward-Morges III\n\nAdresse: En Bellossiez 1\, 1262 Eysins\n
LOCATION:En Bellossiez 1\, 1262 Eysins
CATEGORIES:Saison 2025/26
END:VEVENT
BEGIN:VEVENT
DTSTAMP:20260424T151028Z
DTSTART;TZID=Europe/Berlin:20260427T200000
DTEND;TZID=Europe/Berlin:20260427T230000
SUMMARY:ME L2 Gr 3\, Tours 3&4 Lausanne III vs Forward-Morges III (0)
UID:a537d15c-530a-4774-97de-22a5d8b1e80f
STATUS:CONFIRMED
DESCRIPTION:2ème ligue Hommes Groupe 3\, Tours 3&4\nBegegnungs-Nr: 0\nHeim: Lausanne III\nGast: Forward-Morges III\n\nAdresse: Vaudoise Aréna\, Ch. du Viaduc 14\, 1008 Prilly\n
LOCATION:Vaudoise Aréna\, Ch. du Viaduc 14\, 1008 Prilly
CATEGORIES:Saison 2025/26
END:VEVENT
BEGIN:VEVENT
DTSTAMP:20260424T151028Z
DTSTART;TZID=Europe/Berlin:20260122T200000
DTEND;TZID=Europe/Berlin:20260122T230000
SUMMARY:ME L2 Gr 3\, Tours 3&4 Vevey II vs Forward-Morges III (0)
UID:ee2ff6ca-a192-4b10-8d14-08a0afb3e632
STATUS:CONFIRMED
LAST-MODIFIED:20260124T154220Z
DESCRIPTION:2ème ligue Hommes Groupe 3\, Tours 3&4\nBegegnungs-Nr: 0\nHeim: Vevey II\nGast: Forward-Morges III\n\nAdresse: Rue Louis-Meyer\, 1800 Vevey\n
LOCATION:Rue Louis-Meyer\, 1800 Vevey
CATEGORIES:Saison 2025/26
END:VEVENT
END:VCALENDAR
