BEGIN:VCALENDAR
PRODID:-//nuDatenautomaten//framework iCal4j //DE
VERSION:2.0
CALSCALE:GREGORIAN
BEGIN:VTIMEZONE
TZID:Europe/Berlin
LAST-MODIFIED:20260306T231828Z
TZURL:https://www.tzurl.org/zoneinfo/Europe/Berlin
X-LIC-LOCATION:Europe/Berlin
X-PROLEPTIC-TZNAME:LMT
BEGIN:STANDARD
TZNAME:CET
TZOFFSETFROM:+005328
TZOFFSETTO:+0100
DTSTART:18930401T000000
END:STANDARD
BEGIN:DAYLIGHT
TZNAME:CEST
TZOFFSETFROM:+0100
TZOFFSETTO:+0200
DTSTART:19160430T230000
RDATE:19400401T020000
RDATE:19430329T020000
RDATE:19460414T020000
RDATE:19470406T030000
RDATE:19480418T020000
RDATE:19490410T020000
RDATE:19800406T020000
END:DAYLIGHT
BEGIN:STANDARD
TZNAME:CET
TZOFFSETFROM:+0200
TZOFFSETTO:+0100
DTSTART:19161001T010000
RDATE:19421102T030000
RDATE:19431004T030000
RDATE:19441002T030000
RDATE:19451118T030000
RDATE:19461007T030000
END:STANDARD
BEGIN:DAYLIGHT
TZNAME:CEST
TZOFFSETFROM:+0100
TZOFFSETTO:+0200
DTSTART:19170416T020000
RRULE:FREQ=YEARLY;UNTIL=19180415T010000Z;BYMONTH=4;BYDAY=3MO
END:DAYLIGHT
BEGIN:STANDARD
TZNAME:CET
TZOFFSETFROM:+0200
TZOFFSETTO:+0100
DTSTART:19170917T030000
RRULE:FREQ=YEARLY;UNTIL=19180916T010000Z;BYMONTH=9;BYDAY=3MO
END:STANDARD
BEGIN:DAYLIGHT
TZNAME:CEST
TZOFFSETFROM:+0100
TZOFFSETTO:+0200
DTSTART:19440403T020000
RRULE:FREQ=YEARLY;UNTIL=19450402T010000Z;BYMONTH=4;BYDAY=1MO
END:DAYLIGHT
BEGIN:DAYLIGHT
TZNAME:CEMT
TZOFFSETFROM:+0200
TZOFFSETTO:+0300
DTSTART:19450524T020000
RDATE:19470511T030000
END:DAYLIGHT
BEGIN:DAYLIGHT
TZNAME:CEST
TZOFFSETFROM:+0300
TZOFFSETTO:+0200
DTSTART:19450924T030000
RDATE:19470629T030000
END:DAYLIGHT
BEGIN:STANDARD
TZNAME:CET
TZOFFSETFROM:+0100
TZOFFSETTO:+0100
DTSTART:19460101T000000
RDATE:19800101T000000
END:STANDARD
BEGIN:STANDARD
TZNAME:CET
TZOFFSETFROM:+0200
TZOFFSETTO:+0100
DTSTART:19471005T030000
RRULE:FREQ=YEARLY;UNTIL=19491002T010000Z;BYMONTH=10;BYDAY=1SU
END:STANDARD
BEGIN:STANDARD
TZNAME:CET
TZOFFSETFROM:+0200
TZOFFSETTO:+0100
DTSTART:19800928T030000
RRULE:FREQ=YEARLY;UNTIL=19950924T010000Z;BYMONTH=9;BYDAY=-1SU
END:STANDARD
BEGIN:DAYLIGHT
TZNAME:CEST
TZOFFSETFROM:+0100
TZOFFSETTO:+0200
DTSTART:19810329T020000
RRULE:FREQ=YEARLY;BYMONTH=3;BYDAY=-1SU
END:DAYLIGHT
BEGIN:STANDARD
TZNAME:CET
TZOFFSETFROM:+0200
TZOFFSETTO:+0100
DTSTART:19961027T030000
RRULE:FREQ=YEARLY;BYMONTH=10;BYDAY=-1SU
END:STANDARD
END:VTIMEZONE
BEGIN:VEVENT
DTSTAMP:20260424T122833Z
DTSTART;TZID=Europe/Berlin:20250919T200000
DTEND;TZID=Europe/Berlin:20250919T230000
SUMMARY:L2P1 Cortaillod III vs Le Locle (0)
UID:77ef80f4-375d-4e8a-be20-ed636d3de5f5
STATUS:CONFIRMED
LAST-MODIFIED:20250930T043942Z
DESCRIPTION:Ligue 2 phase 1\nBegegnungs-Nr: 0\nHeim: Cortaillod III\nGast: Le Locle\n\nAdresse: Coteaux 1\, 2016 Cortaillod\n
LOCATION:Coteaux 1\, 2016 Cortaillod
CATEGORIES:Saison 2025/26
END:VEVENT
BEGIN:VEVENT
DTSTAMP:20260424T122833Z
DTSTART;TZID=Europe/Berlin:20251024T200000
DTEND;TZID=Europe/Berlin:20251024T230000
SUMMARY:L2P1 Cortaillod III vs Moutier (0)
UID:61ecc554-1e3b-44b0-aef8-86b7997c6136
STATUS:CONFIRMED
LAST-MODIFIED:20251027T182516Z
DESCRIPTION:Ligue 2 phase 1\nBegegnungs-Nr: 0\nHeim: Cortaillod III\nGast: Moutier\n\nAdresse: Coteaux 1\, 2016 Cortaillod\n
LOCATION:Coteaux 1\, 2016 Cortaillod
CATEGORIES:Saison 2025/26
END:VEVENT
BEGIN:VEVENT
DTSTAMP:20260424T122833Z
DTSTART;TZID=Europe/Berlin:20251121T200000
DTEND;TZID=Europe/Berlin:20251121T230000
SUMMARY:L2P1 Cortaillod III vs Tramelan II (0)
UID:2214e158-5fad-4870-b2c0-ee52dff2a4a2
STATUS:CONFIRMED
LAST-MODIFIED:20251124T090352Z
DESCRIPTION:Ligue 2 phase 1\nBegegnungs-Nr: 0\nHeim: Cortaillod III\nGast: Tramelan II\n\nAdresse: Coteaux 1\, 2016 Cortaillod\n
LOCATION:Coteaux 1\, 2016 Cortaillod
CATEGORIES:Saison 2025/26
END:VEVENT
BEGIN:VEVENT
DTSTAMP:20260424T122833Z
DTSTART;TZID=Europe/Berlin:20251205T200000
DTEND;TZID=Europe/Berlin:20251205T230000
SUMMARY:L2P1 Cortaillod III vs La Chaux-de-Fonds II (0)
UID:0e32ca7a-3c15-45a1-b7d9-84da740c4d16
STATUS:CONFIRMED
LAST-MODIFIED:20251209T075220Z
DESCRIPTION:Ligue 2 phase 1\nBegegnungs-Nr: 0\nHeim: Cortaillod III\nGast: La Chaux-de-Fonds II\n\nAdresse: Coteaux 1\, 2016 Cortaillod\n
LOCATION:Coteaux 1\, 2016 Cortaillod
CATEGORIES:Saison 2025/26
END:VEVENT
BEGIN:VEVENT
DTSTAMP:20260424T122833Z
DTSTART;TZID=Europe/Berlin:20260213T200000
DTEND;TZID=Europe/Berlin:20260213T230000
SUMMARY:L2P2 Cortaillod III vs La Chaux-de-Fonds II (0)
UID:b18c3cd3-33f6-40e4-8952-6658f195b77e
STATUS:CONFIRMED
LAST-MODIFIED:20260216T161945Z
DESCRIPTION:Ligue 2 phase 2\nBegegnungs-Nr: 0\nHeim: Cortaillod III\nGast: La Chaux-de-Fonds II\n\nAdresse: Coteaux 1\, 2016 Cortaillod\n
LOCATION:Coteaux 1\, 2016 Cortaillod
CATEGORIES:Saison 2025/26
END:VEVENT
BEGIN:VEVENT
DTSTAMP:20260424T122833Z
DTSTART;TZID=Europe/Berlin:20260313T200000
DTEND;TZID=Europe/Berlin:20260313T230000
SUMMARY:L2P2 Cortaillod III vs Omega II (0)
UID:30092e52-ab8d-4e86-8155-97b7c98a1c6a
STATUS:CONFIRMED
LAST-MODIFIED:20260317T162037Z
DESCRIPTION:Ligue 2 phase 2\nBegegnungs-Nr: 0\nHeim: Cortaillod III\nGast: Omega II\n\nAdresse: Coteaux 1\, 2016 Cortaillod\n
LOCATION:Coteaux 1\, 2016 Cortaillod
CATEGORIES:Saison 2025/26
END:VEVENT
BEGIN:VEVENT
DTSTAMP:20260424T122833Z
DTSTART;TZID=Europe/Berlin:20260410T200000
DTEND;TZID=Europe/Berlin:20260410T230000
SUMMARY:L2P2 Cortaillod III vs Val-de-Ruz II (0)
UID:3fba5377-d343-4bf4-a6ad-8d34bdfa168c
STATUS:CONFIRMED
LAST-MODIFIED:20260415T064333Z
DESCRIPTION:Ligue 2 phase 2\nBegegnungs-Nr: 0\nHeim: Cortaillod III\nGast: Val-de-Ruz II\n\nAdresse: Coteaux 1\, 2016 Cortaillod\n
LOCATION:Coteaux 1\, 2016 Cortaillod
CATEGORIES:Saison 2025/26
END:VEVENT
BEGIN:VEVENT
DTSTAMP:20260424T122833Z
DTSTART;TZID=Europe/Berlin:20250908T193000
DTEND;TZID=Europe/Berlin:20250908T223000
SUMMARY:L2P1 Omega vs Cortaillod III (0)
UID:c501d3da-e0f8-4a5c-8ffd-a2974a8ce507
STATUS:CONFIRMED
LAST-MODIFIED:20250910T050752Z
DESCRIPTION:Ligue 2 phase 1\nBegegnungs-Nr: 0\nHeim: Omega\nGast: Cortaillod III\n\nAdresse: Tennisweg 1\, 2504 Biel-Bienne\n
LOCATION:Tennisweg 1\, 2504 Biel-Bienne
CATEGORIES:Saison 2025/26
END:VEVENT
BEGIN:VEVENT
DTSTAMP:20260424T122833Z
DTSTART;TZID=Europe/Berlin:20250905T200000
DTEND;TZID=Europe/Berlin:20250905T230000
SUMMARY:L2P1 Cortaillod II vs Cortaillod III (0)
UID:468f7adb-e330-40ae-bb83-4e112cfffa7b
STATUS:CONFIRMED
LAST-MODIFIED:20250910T050735Z
DESCRIPTION:Ligue 2 phase 1\nBegegnungs-Nr: 0\nHeim: Cortaillod II\nGast: Cortaillod III\n\nAdresse: Coteaux 1\, 2016 Cortaillod\n
LOCATION:Coteaux 1\, 2016 Cortaillod
CATEGORIES:Saison 2025/26
END:VEVENT
BEGIN:VEVENT
DTSTAMP:20260424T122833Z
DTSTART;TZID=Europe/Berlin:20251031T193000
DTEND;TZID=Europe/Berlin:20251031T223000
SUMMARY:L2P1 La Chaux-de-Fonds III vs Cortaillod III (0)
UID:682d6412-e002-4e22-ab18-0af3ebaeb5cd
STATUS:CONFIRMED
LAST-MODIFIED:20251101T051515Z
DESCRIPTION:Ligue 2 phase 1\nBegegnungs-Nr: 0\nHeim: La Chaux-de-Fonds III\nGast: Cortaillod III\n\nAdresse: Rue du Docteur-Kern 14\, 2300 La Chaux-de-Fonds\n
LOCATION:Rue du Docteur-Kern 14\, 2300 La Chaux-de-Fonds
CATEGORIES:Saison 2025/26
END:VEVENT
BEGIN:VEVENT
DTSTAMP:20260424T122833Z
DTSTART;TZID=Europe/Berlin:20260123T200000
DTEND;TZID=Europe/Berlin:20260123T230000
SUMMARY:L2P2 Cortaillod II vs Cortaillod III (0)
UID:1726d5ee-5df2-4310-a20f-f22f1379fec0
STATUS:CONFIRMED
LAST-MODIFIED:20260126T180331Z
DESCRIPTION:Ligue 2 phase 2\nBegegnungs-Nr: 0\nHeim: Cortaillod II\nGast: Cortaillod III\n\nAdresse: Coteaux 1\, 2016 Cortaillod\n
LOCATION:Coteaux 1\, 2016 Cortaillod
CATEGORIES:Saison 2025/26
END:VEVENT
BEGIN:VEVENT
DTSTAMP:20260424T122833Z
DTSTART;TZID=Europe/Berlin:20260320T201500
DTEND;TZID=Europe/Berlin:20260320T231500
SUMMARY:L2P2 Delémont III vs Cortaillod III (0)
UID:15086fee-da2e-46f4-b806-c67b2ffb0104
STATUS:CONFIRMED
LAST-MODIFIED:20260331T150007Z
DESCRIPTION:Ligue 2 phase 2\nBegegnungs-Nr: 0\nHeim: Delémont III\nGast: Cortaillod III\n\nAdresse: Rue de la Blancherie 4\, 2800 Delémont\n
LOCATION:Rue de la Blancherie 4\, 2800 Delémont
CATEGORIES:Saison 2025/26
END:VEVENT
BEGIN:VEVENT
DTSTAMP:20260424T122833Z
DTSTART;TZID=Europe/Berlin:20260424T200000
DTEND;TZID=Europe/Berlin:20260424T230000
SUMMARY:L2P2 Entente Pongiste Neuchâteloise III vs Cortaillod III (0)
UID:b39966d7-987b-4c15-90f6-20cb6a588749
STATUS:CONFIRMED
DESCRIPTION:Ligue 2 phase 2\nBegegnungs-Nr: 0\nHeim: Entente Pongiste Neuchâteloise III\nGast: Cortaillod III\n\nAdresse: Allée du 700e\, 2525 Le Landeron\n
LOCATION:Allée du 700e\, 2525 Le Landeron
CATEGORIES:Saison 2025/26
END:VEVENT
BEGIN:VEVENT
DTSTAMP:20260424T122833Z
DTSTART;TZID=Europe/Berlin:20260508T193000
DTEND;TZID=Europe/Berlin:20260508T223000
SUMMARY:L2P2 La Chaux-de-Fonds III vs Cortaillod III (0)
UID:710bc540-9db8-46dd-94cb-6046e732e004
STATUS:CONFIRMED
DESCRIPTION:Ligue 2 phase 2\nBegegnungs-Nr: 0\nHeim: La Chaux-de-Fonds III\nGast: Cortaillod III\n\nAdresse: Rue du Docteur-Kern 14\, 2300 La Chaux-de-Fonds\n
LOCATION:Rue du Docteur-Kern 14\, 2300 La Chaux-de-Fonds
CATEGORIES:Saison 2025/26
END:VEVENT
END:VCALENDAR
