BEGIN:VCALENDAR
PRODID:-//nuDatenautomaten//framework iCal4j //DE
VERSION:2.0
CALSCALE:GREGORIAN
BEGIN:VTIMEZONE
TZID:Europe/Berlin
LAST-MODIFIED:20260306T231828Z
TZURL:https://www.tzurl.org/zoneinfo/Europe/Berlin
X-LIC-LOCATION:Europe/Berlin
X-PROLEPTIC-TZNAME:LMT
BEGIN:STANDARD
TZNAME:CET
TZOFFSETFROM:+005328
TZOFFSETTO:+0100
DTSTART:18930401T000000
END:STANDARD
BEGIN:DAYLIGHT
TZNAME:CEST
TZOFFSETFROM:+0100
TZOFFSETTO:+0200
DTSTART:19160430T230000
RDATE:19400401T020000
RDATE:19430329T020000
RDATE:19460414T020000
RDATE:19470406T030000
RDATE:19480418T020000
RDATE:19490410T020000
RDATE:19800406T020000
END:DAYLIGHT
BEGIN:STANDARD
TZNAME:CET
TZOFFSETFROM:+0200
TZOFFSETTO:+0100
DTSTART:19161001T010000
RDATE:19421102T030000
RDATE:19431004T030000
RDATE:19441002T030000
RDATE:19451118T030000
RDATE:19461007T030000
END:STANDARD
BEGIN:DAYLIGHT
TZNAME:CEST
TZOFFSETFROM:+0100
TZOFFSETTO:+0200
DTSTART:19170416T020000
RRULE:FREQ=YEARLY;UNTIL=19180415T010000Z;BYMONTH=4;BYDAY=3MO
END:DAYLIGHT
BEGIN:STANDARD
TZNAME:CET
TZOFFSETFROM:+0200
TZOFFSETTO:+0100
DTSTART:19170917T030000
RRULE:FREQ=YEARLY;UNTIL=19180916T010000Z;BYMONTH=9;BYDAY=3MO
END:STANDARD
BEGIN:DAYLIGHT
TZNAME:CEST
TZOFFSETFROM:+0100
TZOFFSETTO:+0200
DTSTART:19440403T020000
RRULE:FREQ=YEARLY;UNTIL=19450402T010000Z;BYMONTH=4;BYDAY=1MO
END:DAYLIGHT
BEGIN:DAYLIGHT
TZNAME:CEMT
TZOFFSETFROM:+0200
TZOFFSETTO:+0300
DTSTART:19450524T020000
RDATE:19470511T030000
END:DAYLIGHT
BEGIN:DAYLIGHT
TZNAME:CEST
TZOFFSETFROM:+0300
TZOFFSETTO:+0200
DTSTART:19450924T030000
RDATE:19470629T030000
END:DAYLIGHT
BEGIN:STANDARD
TZNAME:CET
TZOFFSETFROM:+0100
TZOFFSETTO:+0100
DTSTART:19460101T000000
RDATE:19800101T000000
END:STANDARD
BEGIN:STANDARD
TZNAME:CET
TZOFFSETFROM:+0200
TZOFFSETTO:+0100
DTSTART:19471005T030000
RRULE:FREQ=YEARLY;UNTIL=19491002T010000Z;BYMONTH=10;BYDAY=1SU
END:STANDARD
BEGIN:STANDARD
TZNAME:CET
TZOFFSETFROM:+0200
TZOFFSETTO:+0100
DTSTART:19800928T030000
RRULE:FREQ=YEARLY;UNTIL=19950924T010000Z;BYMONTH=9;BYDAY=-1SU
END:STANDARD
BEGIN:DAYLIGHT
TZNAME:CEST
TZOFFSETFROM:+0100
TZOFFSETTO:+0200
DTSTART:19810329T020000
RRULE:FREQ=YEARLY;BYMONTH=3;BYDAY=-1SU
END:DAYLIGHT
BEGIN:STANDARD
TZNAME:CET
TZOFFSETFROM:+0200
TZOFFSETTO:+0100
DTSTART:19961027T030000
RRULE:FREQ=YEARLY;BYMONTH=10;BYDAY=-1SU
END:STANDARD
END:VTIMEZONE
BEGIN:VEVENT
DTSTAMP:20260424T151710Z
DTSTART;TZID=Europe/Berlin:20251217T193000
DTEND;TZID=Europe/Berlin:20251217T223000
SUMMARY:HE 3. Liga Gr. 2 Liebrüti vs Waldenburg (0)
UID:374387a7-331f-4275-a7bb-1dd4af55c073
STATUS:CONFIRMED
LAST-MODIFIED:20251218T122634Z
DESCRIPTION:3. Liga Herren Gruppe 2\nBegegnungs-Nr: 0\nHeim: Liebrüti\nGast: Waldenburg\n\nAdresse: Schwarzackerstr. 59\, 4303 Kaiseraugst\n
LOCATION:Schwarzackerstr. 59\, 4303 Kaiseraugst
CATEGORIES:Saison 2025/26
END:VEVENT
BEGIN:VEVENT
DTSTAMP:20260424T151710Z
DTSTART;TZID=Europe/Berlin:20260128T193000
DTEND;TZID=Europe/Berlin:20260128T223000
SUMMARY:HE 3. Liga Gr. 2 Liebrüti vs Pratteln (0)
UID:da2c091c-0698-4ddd-8276-81f289b41e3d
STATUS:CONFIRMED
LAST-MODIFIED:20260129T075017Z
DESCRIPTION:3. Liga Herren Gruppe 2\nBegegnungs-Nr: 0\nHeim: Liebrüti\nGast: Pratteln\n\nAdresse: Schwarzackerstr. 59\, 4303 Kaiseraugst\n
LOCATION:Schwarzackerstr. 59\, 4303 Kaiseraugst
CATEGORIES:Saison 2025/26
END:VEVENT
BEGIN:VEVENT
DTSTAMP:20260424T151710Z
DTSTART;TZID=Europe/Berlin:20260306T193000
DTEND;TZID=Europe/Berlin:20260306T223000
SUMMARY:HE 3. Liga Gr. 2 Liebrüti vs Gelterkinden (0)
UID:e5ae0fa3-5303-4c34-a6ba-7c4cf9d45dc0
STATUS:CONFIRMED
LAST-MODIFIED:20260313T125048Z
DESCRIPTION:3. Liga Herren Gruppe 2\nBegegnungs-Nr: 0\nHeim: Liebrüti\nGast: Gelterkinden\n\nAdresse: Friedhofstrasse 30\, 4127 Birsfelden\n
LOCATION:Friedhofstrasse 30\, 4127 Birsfelden
CATEGORIES:Saison 2025/26
END:VEVENT
BEGIN:VEVENT
DTSTAMP:20260424T151710Z
DTSTART;TZID=Europe/Berlin:20251015T193000
DTEND;TZID=Europe/Berlin:20251015T223000
SUMMARY:HE 3. Liga Gr. 2 Liebrüti vs Basel VII (0)
UID:a2a35d4e-fef9-4f4d-adb1-ac371d3fcf8e
STATUS:CONFIRMED
LAST-MODIFIED:20251016T145628Z
DESCRIPTION:3. Liga Herren Gruppe 2\nBegegnungs-Nr: 0\nHeim: Liebrüti\nGast: Basel VII\n\nAdresse: Schwarzackerstr. 59\, 4303 Kaiseraugst\n
LOCATION:Schwarzackerstr. 59\, 4303 Kaiseraugst
CATEGORIES:Saison 2025/26
END:VEVENT
BEGIN:VEVENT
DTSTAMP:20260424T151710Z
DTSTART;TZID=Europe/Berlin:20251029T193000
DTEND;TZID=Europe/Berlin:20251029T223000
SUMMARY:HE 3. Liga Gr. 2 Liebrüti vs Rio-Star Muttenz V (0)
UID:b698d9bc-2f2d-4469-9910-0da7032175a4
STATUS:CONFIRMED
LAST-MODIFIED:20251031T143135Z
DESCRIPTION:3. Liga Herren Gruppe 2\nBegegnungs-Nr: 0\nHeim: Liebrüti\nGast: Rio-Star Muttenz V\n\nAdresse: Schwarzackerstr. 59\, 4303 Kaiseraugst\n
LOCATION:Schwarzackerstr. 59\, 4303 Kaiseraugst
CATEGORIES:Saison 2025/26
END:VEVENT
BEGIN:VEVENT
DTSTAMP:20260424T151710Z
DTSTART;TZID=Europe/Berlin:20250903T193000
DTEND;TZID=Europe/Berlin:20250903T223000
SUMMARY:HE 3. Liga Gr. 2 Liebrüti vs Sisseln (0)
UID:cbfdbe7e-7a2f-4e2d-8292-c0d95ea9ace1
STATUS:CONFIRMED
LAST-MODIFIED:20250905T121036Z
DESCRIPTION:3. Liga Herren Gruppe 2\nBegegnungs-Nr: 0\nHeim: Liebrüti\nGast: Sisseln\n\nAdresse: Schwarzackerstr. 59\, 4303 Kaiseraugst\n
LOCATION:Schwarzackerstr. 59\, 4303 Kaiseraugst
CATEGORIES:Saison 2025/26
END:VEVENT
BEGIN:VEVENT
DTSTAMP:20260424T151710Z
DTSTART;TZID=Europe/Berlin:20251126T193000
DTEND;TZID=Europe/Berlin:20251126T223000
SUMMARY:HE 3. Liga Gr. 2 Liebrüti vs Möhlin (0)
UID:f1bfcd8e-77e2-410f-8fea-def4ebafda15
STATUS:CONFIRMED
LAST-MODIFIED:20251127T135352Z
DESCRIPTION:3. Liga Herren Gruppe 2\nBegegnungs-Nr: 0\nHeim: Liebrüti\nGast: Möhlin\n\nAdresse: Schwarzackerstr. 59\, 4303 Kaiseraugst\n
LOCATION:Schwarzackerstr. 59\, 4303 Kaiseraugst
CATEGORIES:Saison 2025/26
END:VEVENT
BEGIN:VEVENT
DTSTAMP:20260424T151710Z
DTSTART;TZID=Europe/Berlin:20260113T200000
DTEND;TZID=Europe/Berlin:20260113T230000
SUMMARY:HE 3. Liga Gr. 2 Sisseln vs Liebrüti (0)
UID:d0b7f0ce-90f5-4db1-bd31-6ea763c6319c
STATUS:CONFIRMED
LAST-MODIFIED:20260115T094331Z
DESCRIPTION:3. Liga Herren Gruppe 2\nBegegnungs-Nr: 0\nHeim: Sisseln\nGast: Liebrüti\n\nAdresse: Schulstrasse\, 4334 Sisseln\n
LOCATION:Schulstrasse\, 4334 Sisseln
CATEGORIES:Saison 2025/26
END:VEVENT
BEGIN:VEVENT
DTSTAMP:20260424T151710Z
DTSTART;TZID=Europe/Berlin:20260213T200000
DTEND;TZID=Europe/Berlin:20260213T230000
SUMMARY:HE 3. Liga Gr. 2 Basel VII vs Liebrüti (0)
UID:2943aef0-0371-472e-852b-d7c0c28799ef
STATUS:CONFIRMED
LAST-MODIFIED:20260218T071239Z
DESCRIPTION:3. Liga Herren Gruppe 2\nBegegnungs-Nr: 0\nHeim: Basel VII\nGast: Liebrüti\n\nAdresse: Schwarzwaldallee 107\, 4058 Basel\n
LOCATION:Schwarzwaldallee 107\, 4058 Basel
CATEGORIES:Saison 2025/26
END:VEVENT
BEGIN:VEVENT
DTSTAMP:20260424T151710Z
DTSTART;TZID=Europe/Berlin:20260305T193000
DTEND;TZID=Europe/Berlin:20260305T223000
SUMMARY:HE 3. Liga Gr. 2 Rio-Star Muttenz V vs Liebrüti (0)
UID:dcff8fd1-1ca4-4d37-b8c8-62aeda27f904
STATUS:CONFIRMED
LAST-MODIFIED:20260313T125039Z
DESCRIPTION:3. Liga Herren Gruppe 2\nBegegnungs-Nr: 0\nHeim: Rio-Star Muttenz V\nGast: Liebrüti\n\nAdresse: Gründenstrasse 32\, 4132 Muttenz\n
LOCATION:Gründenstrasse 32\, 4132 Muttenz
CATEGORIES:Saison 2025/26
END:VEVENT
BEGIN:VEVENT
DTSTAMP:20260424T151710Z
DTSTART;TZID=Europe/Berlin:20250818T200000
DTEND;TZID=Europe/Berlin:20250818T230000
SUMMARY:HE 3. Liga Gr. 2 Waldenburg vs Liebrüti (0)
UID:71085b8a-1384-4a2b-ae44-4adbb012f762
STATUS:CONFIRMED
LAST-MODIFIED:20250825T065338Z
DESCRIPTION:3. Liga Herren Gruppe 2\nBegegnungs-Nr: 0\nHeim: Waldenburg\nGast: Liebrüti\n\nAdresse: Hauptstrasse 30\, 4437 Waldenburg\n
LOCATION:Hauptstrasse 30\, 4437 Waldenburg
CATEGORIES:Saison 2025/26
END:VEVENT
BEGIN:VEVENT
DTSTAMP:20260424T151710Z
DTSTART;TZID=Europe/Berlin:20260327T200000
DTEND;TZID=Europe/Berlin:20260327T230000
SUMMARY:HE 3. Liga Gr. 2 Möhlin vs Liebrüti (0)
UID:3c0436ae-1581-4122-9464-2798534c0746
STATUS:CONFIRMED
LAST-MODIFIED:20260409T114617Z
DESCRIPTION:3. Liga Herren Gruppe 2\nBegegnungs-Nr: 0\nHeim: Möhlin\nGast: Liebrüti\n\nAdresse: Schulhausweg\, 4313 Möhlin\n
LOCATION:Schulhausweg\, 4313 Möhlin
CATEGORIES:Saison 2025/26
END:VEVENT
BEGIN:VEVENT
DTSTAMP:20260424T151710Z
DTSTART;TZID=Europe/Berlin:20250924T193000
DTEND;TZID=Europe/Berlin:20250924T223000
SUMMARY:HE 3. Liga Gr. 2 Pratteln vs Liebrüti (0)
UID:a730100d-3325-4b47-b336-3b0108e7e3d2
STATUS:CONFIRMED
LAST-MODIFIED:20250926T123429Z
DESCRIPTION:3. Liga Herren Gruppe 2\nBegegnungs-Nr: 0\nHeim: Pratteln\nGast: Liebrüti\n\nAdresse: Erliweg 16\, 4133 Pratteln\n
LOCATION:Erliweg 16\, 4133 Pratteln
CATEGORIES:Saison 2025/26
END:VEVENT
BEGIN:VEVENT
DTSTAMP:20260424T151710Z
DTSTART;TZID=Europe/Berlin:20251117T201500
DTEND;TZID=Europe/Berlin:20251117T231500
SUMMARY:HE 3. Liga Gr. 2 Gelterkinden vs Liebrüti (0)
UID:60a97b59-0554-47d8-b9a9-2e574b5be2a0
STATUS:CONFIRMED
LAST-MODIFIED:20251119T122925Z
DESCRIPTION:3. Liga Herren Gruppe 2\nBegegnungs-Nr: 0\nHeim: Gelterkinden\nGast: Liebrüti\n\nAdresse: Turnhallenstrasse 18\, 4460 Gelterkinden\n
LOCATION:Turnhallenstrasse 18\, 4460 Gelterkinden
CATEGORIES:Saison 2025/26
END:VEVENT
END:VCALENDAR
