BEGIN:VCALENDAR
PRODID:-//nuDatenautomaten//framework iCal4j //DE
VERSION:2.0
CALSCALE:GREGORIAN
BEGIN:VTIMEZONE
TZID:Europe/Berlin
LAST-MODIFIED:20260306T231828Z
TZURL:https://www.tzurl.org/zoneinfo/Europe/Berlin
X-LIC-LOCATION:Europe/Berlin
X-PROLEPTIC-TZNAME:LMT
BEGIN:STANDARD
TZNAME:CET
TZOFFSETFROM:+005328
TZOFFSETTO:+0100
DTSTART:18930401T000000
END:STANDARD
BEGIN:DAYLIGHT
TZNAME:CEST
TZOFFSETFROM:+0100
TZOFFSETTO:+0200
DTSTART:19160430T230000
RDATE:19400401T020000
RDATE:19430329T020000
RDATE:19460414T020000
RDATE:19470406T030000
RDATE:19480418T020000
RDATE:19490410T020000
RDATE:19800406T020000
END:DAYLIGHT
BEGIN:STANDARD
TZNAME:CET
TZOFFSETFROM:+0200
TZOFFSETTO:+0100
DTSTART:19161001T010000
RDATE:19421102T030000
RDATE:19431004T030000
RDATE:19441002T030000
RDATE:19451118T030000
RDATE:19461007T030000
END:STANDARD
BEGIN:DAYLIGHT
TZNAME:CEST
TZOFFSETFROM:+0100
TZOFFSETTO:+0200
DTSTART:19170416T020000
RRULE:FREQ=YEARLY;UNTIL=19180415T010000Z;BYMONTH=4;BYDAY=3MO
END:DAYLIGHT
BEGIN:STANDARD
TZNAME:CET
TZOFFSETFROM:+0200
TZOFFSETTO:+0100
DTSTART:19170917T030000
RRULE:FREQ=YEARLY;UNTIL=19180916T010000Z;BYMONTH=9;BYDAY=3MO
END:STANDARD
BEGIN:DAYLIGHT
TZNAME:CEST
TZOFFSETFROM:+0100
TZOFFSETTO:+0200
DTSTART:19440403T020000
RRULE:FREQ=YEARLY;UNTIL=19450402T010000Z;BYMONTH=4;BYDAY=1MO
END:DAYLIGHT
BEGIN:DAYLIGHT
TZNAME:CEMT
TZOFFSETFROM:+0200
TZOFFSETTO:+0300
DTSTART:19450524T020000
RDATE:19470511T030000
END:DAYLIGHT
BEGIN:DAYLIGHT
TZNAME:CEST
TZOFFSETFROM:+0300
TZOFFSETTO:+0200
DTSTART:19450924T030000
RDATE:19470629T030000
END:DAYLIGHT
BEGIN:STANDARD
TZNAME:CET
TZOFFSETFROM:+0100
TZOFFSETTO:+0100
DTSTART:19460101T000000
RDATE:19800101T000000
END:STANDARD
BEGIN:STANDARD
TZNAME:CET
TZOFFSETFROM:+0200
TZOFFSETTO:+0100
DTSTART:19471005T030000
RRULE:FREQ=YEARLY;UNTIL=19491002T010000Z;BYMONTH=10;BYDAY=1SU
END:STANDARD
BEGIN:STANDARD
TZNAME:CET
TZOFFSETFROM:+0200
TZOFFSETTO:+0100
DTSTART:19800928T030000
RRULE:FREQ=YEARLY;UNTIL=19950924T010000Z;BYMONTH=9;BYDAY=-1SU
END:STANDARD
BEGIN:DAYLIGHT
TZNAME:CEST
TZOFFSETFROM:+0100
TZOFFSETTO:+0200
DTSTART:19810329T020000
RRULE:FREQ=YEARLY;BYMONTH=3;BYDAY=-1SU
END:DAYLIGHT
BEGIN:STANDARD
TZNAME:CET
TZOFFSETFROM:+0200
TZOFFSETTO:+0100
DTSTART:19961027T030000
RRULE:FREQ=YEARLY;BYMONTH=10;BYDAY=-1SU
END:STANDARD
END:VTIMEZONE
BEGIN:VEVENT
DTSTAMP:20260424T140352Z
DTSTART;TZID=Europe/Berlin:20260321T100000
DTEND;TZID=Europe/Berlin:20260321T130000
SUMMARY:HE 5. Liga Gr. 2 Schlatt vs Gossau St.Gallen II (0)
UID:83988aa0-c778-42e1-9cd0-f73b42205d9f
STATUS:CONFIRMED
LAST-MODIFIED:20260326T152840Z
DESCRIPTION:5. Liga Herren Gruppe 2\nBegegnungs-Nr: 0\nHeim: Schlatt\nGast: Gossau St.Gallen II\n\nAdresse: Waltersteinerstrasse 79\, 8418 Schlatt ZH\n
LOCATION:Waltersteinerstrasse 79\, 8418 Schlatt ZH
CATEGORIES:Saison 2025/26
END:VEVENT
BEGIN:VEVENT
DTSTAMP:20260424T140352Z
DTSTART;TZID=Europe/Berlin:20251117T193000
DTEND;TZID=Europe/Berlin:20251117T223000
SUMMARY:HE 5. Liga Gr. 2 Schlatt vs Weinfelden III (0)
UID:d409209c-56f5-4eda-8525-51b297a3ca91
STATUS:CONFIRMED
LAST-MODIFIED:20251118T105533Z
DESCRIPTION:5. Liga Herren Gruppe 2\nBegegnungs-Nr: 0\nHeim: Schlatt\nGast: Weinfelden III\n\nAdresse: Waltersteinerstrasse 79\, 8418 Schlatt ZH\n
LOCATION:Waltersteinerstrasse 79\, 8418 Schlatt ZH
CATEGORIES:Saison 2025/26
END:VEVENT
BEGIN:VEVENT
DTSTAMP:20260424T140352Z
DTSTART;TZID=Europe/Berlin:20260209T193000
DTEND;TZID=Europe/Berlin:20260209T223000
SUMMARY:HE 5. Liga Gr. 2 Schlatt vs Wil SG IV (0)
UID:0efd584a-ce1f-46f4-accf-3226030f65f0
STATUS:CONFIRMED
LAST-MODIFIED:20260216T102746Z
DESCRIPTION:5. Liga Herren Gruppe 2\nBegegnungs-Nr: 0\nHeim: Schlatt\nGast: Wil SG IV\n\nAdresse: Waltersteinerstrasse 79\, 8418 Schlatt ZH\n
LOCATION:Waltersteinerstrasse 79\, 8418 Schlatt ZH
CATEGORIES:Saison 2025/26
END:VEVENT
BEGIN:VEVENT
DTSTAMP:20260424T140352Z
DTSTART;TZID=Europe/Berlin:20260302T193000
DTEND;TZID=Europe/Berlin:20260302T223000
SUMMARY:HE 5. Liga Gr. 2 Schlatt vs Frauenfeld II (0)
UID:782c2373-9f67-4cb1-b8fc-00777f90db40
STATUS:CONFIRMED
LAST-MODIFIED:20260303T110126Z
DESCRIPTION:5. Liga Herren Gruppe 2\nBegegnungs-Nr: 0\nHeim: Schlatt\nGast: Frauenfeld II\n\nAdresse: Waltersteinerstrasse 79\, 8418 Schlatt ZH\n
LOCATION:Waltersteinerstrasse 79\, 8418 Schlatt ZH
CATEGORIES:Saison 2025/26
END:VEVENT
BEGIN:VEVENT
DTSTAMP:20260424T140352Z
DTSTART;TZID=Europe/Berlin:20250922T193000
DTEND;TZID=Europe/Berlin:20250922T223000
SUMMARY:HE 5. Liga Gr. 2 Schlatt vs Ettenhausen III (0)
UID:d4cadc52-12f3-4b6b-bf60-384ccbf326eb
STATUS:CONFIRMED
LAST-MODIFIED:20250926T132040Z
DESCRIPTION:5. Liga Herren Gruppe 2\nBegegnungs-Nr: 0\nHeim: Schlatt\nGast: Ettenhausen III\n\nAdresse: Waltersteinerstrasse 79\, 8418 Schlatt ZH\n
LOCATION:Waltersteinerstrasse 79\, 8418 Schlatt ZH
CATEGORIES:Saison 2025/26
END:VEVENT
BEGIN:VEVENT
DTSTAMP:20260424T140352Z
DTSTART;TZID=Europe/Berlin:20251208T193000
DTEND;TZID=Europe/Berlin:20251208T223000
SUMMARY:HE 5. Liga Gr. 2 Schlatt vs St. Gallen VII (0)
UID:9bc9d42c-429b-4b75-a25e-eca77e1fd1b4
STATUS:CONFIRMED
LAST-MODIFIED:20251210T085232Z
DESCRIPTION:5. Liga Herren Gruppe 2\nBegegnungs-Nr: 0\nHeim: Schlatt\nGast: St. Gallen VII\n\nAdresse: Waltersteinerstrasse 79\, 8418 Schlatt ZH\n
LOCATION:Waltersteinerstrasse 79\, 8418 Schlatt ZH
CATEGORIES:Saison 2025/26
END:VEVENT
BEGIN:VEVENT
DTSTAMP:20260424T140352Z
DTSTART;TZID=Europe/Berlin:20251201T193000
DTEND;TZID=Europe/Berlin:20251201T223000
SUMMARY:HE 5. Liga Gr. 2 Schlatt vs Wallenwil III (0)
UID:444e5c97-d5d1-485f-99a0-c9039213abe3
STATUS:CONFIRMED
LAST-MODIFIED:20251205T130655Z
DESCRIPTION:5. Liga Herren Gruppe 2\nBegegnungs-Nr: 0\nHeim: Schlatt\nGast: Wallenwil III\n\nAdresse: Waltersteinerstrasse 79\, 8418 Schlatt ZH\n
LOCATION:Waltersteinerstrasse 79\, 8418 Schlatt ZH
CATEGORIES:Saison 2025/26
END:VEVENT
BEGIN:VEVENT
DTSTAMP:20260424T140352Z
DTSTART;TZID=Europe/Berlin:20260316T201500
DTEND;TZID=Europe/Berlin:20260316T231500
SUMMARY:HE 5. Liga Gr. 2 Wallenwil III vs Schlatt (0)
UID:3c4d646e-e59e-455e-9807-733e602f2f9a
STATUS:CONFIRMED
LAST-MODIFIED:20260317T135740Z
DESCRIPTION:5. Liga Herren Gruppe 2\nBegegnungs-Nr: 0\nHeim: Wallenwil III\nGast: Schlatt\n\nAdresse: Stationsstrasse 29\, 8360 Wallenwil\n
LOCATION:Stationsstrasse 29\, 8360 Wallenwil
CATEGORIES:Saison 2025/26
END:VEVENT
BEGIN:VEVENT
DTSTAMP:20260424T140352Z
DTSTART;TZID=Europe/Berlin:20260106T200000
DTEND;TZID=Europe/Berlin:20260106T230000
SUMMARY:HE 5. Liga Gr. 2 Weinfelden III vs Schlatt (0)
UID:4c750ee7-4d68-4fb8-a62b-9c26c4888217
STATUS:CONFIRMED
LAST-MODIFIED:20260109T075741Z
DESCRIPTION:5. Liga Herren Gruppe 2\nBegegnungs-Nr: 0\nHeim: Weinfelden III\nGast: Schlatt\n\nAdresse: Bleichestrasse 3 (neben Hallenbad)\, 8570 Weinfelden\n
LOCATION:Bleichestrasse 3 (neben Hallenbad)\, 8570 Weinfelden
CATEGORIES:Saison 2025/26
END:VEVENT
BEGIN:VEVENT
DTSTAMP:20260424T140352Z
DTSTART;TZID=Europe/Berlin:20250902T201500
DTEND;TZID=Europe/Berlin:20250902T231500
SUMMARY:HE 5. Liga Gr. 2 Wil SG IV vs Schlatt (0)
UID:37b55383-7947-4a9a-b54b-c24112cd85bf
STATUS:CONFIRMED
LAST-MODIFIED:20250905T124319Z
DESCRIPTION:5. Liga Herren Gruppe 2\nBegegnungs-Nr: 0\nHeim: Wil SG IV\nGast: Schlatt\n\nAdresse: Lindenhofstr. 23\, 9500 Wil\n
LOCATION:Lindenhofstr. 23\, 9500 Wil
CATEGORIES:Saison 2025/26
END:VEVENT
BEGIN:VEVENT
DTSTAMP:20260424T140352Z
DTSTART;TZID=Europe/Berlin:20260225T201500
DTEND;TZID=Europe/Berlin:20260225T231500
SUMMARY:HE 5. Liga Gr. 2 Ettenhausen III vs Schlatt (0)
UID:b5c522d1-c43d-4a2d-b97c-73bbf7a7a5e9
STATUS:CONFIRMED
LAST-MODIFIED:20260226T134937Z
DESCRIPTION:5. Liga Herren Gruppe 2\nBegegnungs-Nr: 0\nHeim: Ettenhausen III\nGast: Schlatt\n\nAdresse: Weidlistrasse 12\, 8356 Ettenhausen\n
LOCATION:Weidlistrasse 12\, 8356 Ettenhausen
CATEGORIES:Saison 2025/26
END:VEVENT
BEGIN:VEVENT
DTSTAMP:20260424T140352Z
DTSTART;TZID=Europe/Berlin:20260313T200000
DTEND;TZID=Europe/Berlin:20260313T230000
SUMMARY:HE 5. Liga Gr. 2 St. Gallen VII vs Schlatt (0)
UID:a3c43fbb-9a75-468e-8c97-0252d34e0fd5
STATUS:CONFIRMED
LAST-MODIFIED:20260317T135731Z
DESCRIPTION:5. Liga Herren Gruppe 2\nBegegnungs-Nr: 0\nHeim: St. Gallen VII\nGast: Schlatt\n\nAdresse: Zilstrasse 61\, 9016 St.Gallen\n
LOCATION:Zilstrasse 61\, 9016 St.Gallen
CATEGORIES:Saison 2025/26
END:VEVENT
BEGIN:VEVENT
DTSTAMP:20260424T140352Z
DTSTART;TZID=Europe/Berlin:20250925T200000
DTEND;TZID=Europe/Berlin:20250925T230000
SUMMARY:HE 5. Liga Gr. 2 Frauenfeld II vs Schlatt (0)
UID:13a51771-47d3-46cd-a626-fd1a8258274a
STATUS:CONFIRMED
LAST-MODIFIED:20250926T132110Z
DESCRIPTION:5. Liga Herren Gruppe 2\nBegegnungs-Nr: 0\nHeim: Frauenfeld II\nGast: Schlatt\n\nAdresse: Scheuchenstrasse\, 8500 Frauenfeld\n
LOCATION:Scheuchenstrasse\, 8500 Frauenfeld
CATEGORIES:Saison 2025/26
END:VEVENT
BEGIN:VEVENT
DTSTAMP:20260424T140352Z
DTSTART;TZID=Europe/Berlin:20251104T200000
DTEND;TZID=Europe/Berlin:20251104T230000
SUMMARY:HE 5. Liga Gr. 2 Gossau St.Gallen II vs Schlatt (0)
UID:d4d73a0e-1c0b-4a3b-be18-987d591f7ccd
STATUS:CONFIRMED
LAST-MODIFIED:20251107T145012Z
DESCRIPTION:5. Liga Herren Gruppe 2\nBegegnungs-Nr: 0\nHeim: Gossau St.Gallen II\nGast: Schlatt\n\nAdresse: Falkenstrasse 21\, 9200 Gossau\n
LOCATION:Falkenstrasse 21\, 9200 Gossau
CATEGORIES:Saison 2025/26
END:VEVENT
END:VCALENDAR
