BEGIN:VCALENDAR
PRODID:-//nuDatenautomaten//framework iCal4j //DE
VERSION:2.0
CALSCALE:GREGORIAN
BEGIN:VTIMEZONE
TZID:Europe/Berlin
LAST-MODIFIED:20260306T231828Z
TZURL:https://www.tzurl.org/zoneinfo/Europe/Berlin
X-LIC-LOCATION:Europe/Berlin
X-PROLEPTIC-TZNAME:LMT
BEGIN:STANDARD
TZNAME:CET
TZOFFSETFROM:+005328
TZOFFSETTO:+0100
DTSTART:18930401T000000
END:STANDARD
BEGIN:DAYLIGHT
TZNAME:CEST
TZOFFSETFROM:+0100
TZOFFSETTO:+0200
DTSTART:19160430T230000
RDATE:19400401T020000
RDATE:19430329T020000
RDATE:19460414T020000
RDATE:19470406T030000
RDATE:19480418T020000
RDATE:19490410T020000
RDATE:19800406T020000
END:DAYLIGHT
BEGIN:STANDARD
TZNAME:CET
TZOFFSETFROM:+0200
TZOFFSETTO:+0100
DTSTART:19161001T010000
RDATE:19421102T030000
RDATE:19431004T030000
RDATE:19441002T030000
RDATE:19451118T030000
RDATE:19461007T030000
END:STANDARD
BEGIN:DAYLIGHT
TZNAME:CEST
TZOFFSETFROM:+0100
TZOFFSETTO:+0200
DTSTART:19170416T020000
RRULE:FREQ=YEARLY;UNTIL=19180415T010000Z;BYMONTH=4;BYDAY=3MO
END:DAYLIGHT
BEGIN:STANDARD
TZNAME:CET
TZOFFSETFROM:+0200
TZOFFSETTO:+0100
DTSTART:19170917T030000
RRULE:FREQ=YEARLY;UNTIL=19180916T010000Z;BYMONTH=9;BYDAY=3MO
END:STANDARD
BEGIN:DAYLIGHT
TZNAME:CEST
TZOFFSETFROM:+0100
TZOFFSETTO:+0200
DTSTART:19440403T020000
RRULE:FREQ=YEARLY;UNTIL=19450402T010000Z;BYMONTH=4;BYDAY=1MO
END:DAYLIGHT
BEGIN:DAYLIGHT
TZNAME:CEMT
TZOFFSETFROM:+0200
TZOFFSETTO:+0300
DTSTART:19450524T020000
RDATE:19470511T030000
END:DAYLIGHT
BEGIN:DAYLIGHT
TZNAME:CEST
TZOFFSETFROM:+0300
TZOFFSETTO:+0200
DTSTART:19450924T030000
RDATE:19470629T030000
END:DAYLIGHT
BEGIN:STANDARD
TZNAME:CET
TZOFFSETFROM:+0100
TZOFFSETTO:+0100
DTSTART:19460101T000000
RDATE:19800101T000000
END:STANDARD
BEGIN:STANDARD
TZNAME:CET
TZOFFSETFROM:+0200
TZOFFSETTO:+0100
DTSTART:19471005T030000
RRULE:FREQ=YEARLY;UNTIL=19491002T010000Z;BYMONTH=10;BYDAY=1SU
END:STANDARD
BEGIN:STANDARD
TZNAME:CET
TZOFFSETFROM:+0200
TZOFFSETTO:+0100
DTSTART:19800928T030000
RRULE:FREQ=YEARLY;UNTIL=19950924T010000Z;BYMONTH=9;BYDAY=-1SU
END:STANDARD
BEGIN:DAYLIGHT
TZNAME:CEST
TZOFFSETFROM:+0100
TZOFFSETTO:+0200
DTSTART:19810329T020000
RRULE:FREQ=YEARLY;BYMONTH=3;BYDAY=-1SU
END:DAYLIGHT
BEGIN:STANDARD
TZNAME:CET
TZOFFSETFROM:+0200
TZOFFSETTO:+0100
DTSTART:19961027T030000
RRULE:FREQ=YEARLY;BYMONTH=10;BYDAY=-1SU
END:STANDARD
END:VTIMEZONE
BEGIN:VEVENT
DTSTAMP:20260424T135213Z
DTSTART;TZID=Europe/Berlin:20250830T143000
DTEND;TZID=Europe/Berlin:20250830T173000
SUMMARY:JUG\, 2.Li\, Gr.3\, VR Winterthur vs Zürich-Affoltern II (4)
UID:aca24d68-4242-42f5-b590-74ab2147a500
STATUS:CONFIRMED
LAST-MODIFIED:20250902T094720Z
DESCRIPTION:Jugend\, 2. Liga\, Gruppe 3\, Vorrunde\nBegegnungs-Nr: 4\nHeim: Winterthur\nGast: Zürich-Affoltern II\n\nAdresse: Buchackerstrasse 54\, 8400 Winterthur\n
LOCATION:Buchackerstrasse 54\, 8400 Winterthur
CATEGORIES:Saison 2025/26
END:VEVENT
BEGIN:VEVENT
DTSTAMP:20260424T135213Z
DTSTART;TZID=Europe/Berlin:20250830T130000
DTEND;TZID=Europe/Berlin:20250830T160000
SUMMARY:JUG\, 2.Li\, Gr.3\, VR Winterthur vs Meilen-Männedorf (1)
UID:8ad9b6d1-9176-4f79-a06b-0be479943309
STATUS:CONFIRMED
LAST-MODIFIED:20250902T094645Z
DESCRIPTION:Jugend\, 2. Liga\, Gruppe 3\, Vorrunde\nBegegnungs-Nr: 1\nHeim: Winterthur\nGast: Meilen-Männedorf\nHalle: Poule in Winterthur\, TH Schachen\nAdresse: Buchackerstrasse 54\, 8400 Winterthur\n
LOCATION:Poule in Winterthur\, TH Schachen Buchackerstrasse 54\, 8400 Winterthur
CATEGORIES:Saison 2025/26
END:VEVENT
BEGIN:VEVENT
DTSTAMP:20260424T135213Z
DTSTART;TZID=Europe/Berlin:20251115T160000
DTEND;TZID=Europe/Berlin:20251115T190000
SUMMARY:JUG\, 2.Li\, Gr.2\, ZR Winterthur vs Affoltern A/A II (6)
UID:2aeb2e15-c521-47f0-8ebd-d57bd17653d7
STATUS:CONFIRMED
LAST-MODIFIED:20251121T095546Z
DESCRIPTION:Jugend\, 2. Liga\, Gruppe 2\, Zwischenrunde\nBegegnungs-Nr: 6\nHeim: Winterthur\nGast: Affoltern A/A II\n\nAdresse: Buchackerstrasse 54\, 8400 Winterthur\n
LOCATION:Buchackerstrasse 54\, 8400 Winterthur
CATEGORIES:Saison 2025/26
END:VEVENT
BEGIN:VEVENT
DTSTAMP:20260424T135213Z
DTSTART;TZID=Europe/Berlin:20260328T160000
DTEND;TZID=Europe/Berlin:20260328T190000
SUMMARY:JUG\, 2.Li\, Gr.1\, Final Winterthur vs Affoltern A/A (6)
UID:e631e13d-f793-4844-9ce3-715701f639cf
STATUS:CONFIRMED
LAST-MODIFIED:20260401T133709Z
DESCRIPTION:Jugend\, 2. Liga\, Gruppe 1\, Final\nBegegnungs-Nr: 6\nHeim: Winterthur\nGast: Affoltern A/A\n\nAdresse: Buchackerstrasse 54\, 8400 Winterthur\n
LOCATION:Buchackerstrasse 54\, 8400 Winterthur
CATEGORIES:Saison 2025/26
END:VEVENT
BEGIN:VEVENT
DTSTAMP:20260424T135213Z
DTSTART;TZID=Europe/Berlin:20250830T160000
DTEND;TZID=Europe/Berlin:20250830T190000
SUMMARY:JUG\, 2.Li\, Gr.3\, VR Neuhausen II vs Winterthur (6)
UID:d2f79e8e-5ec6-4fc2-b951-11a2708aed37
STATUS:CONFIRMED
LAST-MODIFIED:20250902T094743Z
DESCRIPTION:Jugend\, 2. Liga\, Gruppe 3\, Vorrunde\nBegegnungs-Nr: 6\nHeim: Neuhausen II\nGast: Winterthur\n\nAdresse: Ebnatstrasse 35\, 8200 Schaffhausen\n
LOCATION:Ebnatstrasse 35\, 8200 Schaffhausen
CATEGORIES:Saison 2025/26
END:VEVENT
BEGIN:VEVENT
DTSTAMP:20260424T135213Z
DTSTART;TZID=Europe/Berlin:20251115T143000
DTEND;TZID=Europe/Berlin:20251115T173000
SUMMARY:JUG\, 2.Li\, Gr.2\, ZR Young Stars ZH II vs Winterthur (3)
UID:0e65ee03-b575-43bc-a140-b97037141c8d
STATUS:CONFIRMED
LAST-MODIFIED:20251121T095402Z
DESCRIPTION:Jugend\, 2. Liga\, Gruppe 2\, Zwischenrunde\nBegegnungs-Nr: 3\nHeim: Young Stars ZH II\nGast: Winterthur\n\nAdresse: Balgriststrasse 55\, 8008 Zürich\n
LOCATION:Balgriststrasse 55\, 8008 Zürich
CATEGORIES:Saison 2025/26
END:VEVENT
BEGIN:VEVENT
DTSTAMP:20260424T135213Z
DTSTART;TZID=Europe/Berlin:20251115T130000
DTEND;TZID=Europe/Berlin:20251115T160000
SUMMARY:JUG\, 2.Li\, Gr.2\, ZR St. Gallen II vs Winterthur (2)
UID:4b991d94-08ec-4edf-863f-440112051113
STATUS:CONFIRMED
LAST-MODIFIED:20251121T095352Z
DESCRIPTION:Jugend\, 2. Liga\, Gruppe 2\, Zwischenrunde\nBegegnungs-Nr: 2\nHeim: St. Gallen II\nGast: Winterthur\n\nAdresse: Zilstrasse 61\, 9016 St.Gallen\n
LOCATION:Zilstrasse 61\, 9016 St.Gallen
CATEGORIES:Saison 2025/26
END:VEVENT
BEGIN:VEVENT
DTSTAMP:20260424T135213Z
DTSTART;TZID=Europe/Berlin:20260328T130000
DTEND;TZID=Europe/Berlin:20260328T160000
SUMMARY:JUG\, 2.Li\, Gr.1\, Final Chur vs Winterthur (2)
UID:fb01d27e-0ede-4e2a-bd81-789baa92a86f
STATUS:CONFIRMED
LAST-MODIFIED:20260401T133617Z
DESCRIPTION:Jugend\, 2. Liga\, Gruppe 1\, Final\nBegegnungs-Nr: 2\nHeim: Chur\nGast: Winterthur\n\nAdresse: Sandstr. 35\, 7000 Chur\n
LOCATION:Sandstr. 35\, 7000 Chur
CATEGORIES:Saison 2025/26
END:VEVENT
BEGIN:VEVENT
DTSTAMP:20260424T135213Z
DTSTART;TZID=Europe/Berlin:20260328T143000
DTEND;TZID=Europe/Berlin:20260328T173000
SUMMARY:JUG\, 2.Li\, Gr.1\, Final Affoltern A/A II vs Winterthur (3)
UID:0545dd11-9fb0-49d7-86bd-144d17825bc8
STATUS:CONFIRMED
LAST-MODIFIED:20260401T133627Z
DESCRIPTION:Jugend\, 2. Liga\, Gruppe 1\, Final\nBegegnungs-Nr: 3\nHeim: Affoltern A/A II\nGast: Winterthur\n\nAdresse: Butzenstrasse 8\, 8910 Affoltern am Albis\n
LOCATION:Butzenstrasse 8\, 8910 Affoltern am Albis
CATEGORIES:Saison 2025/26
END:VEVENT
END:VCALENDAR
