BEGIN:VCALENDAR
PRODID:-//nuDatenautomaten//framework iCal4j //DE
VERSION:2.0
CALSCALE:GREGORIAN
BEGIN:VTIMEZONE
TZID:Europe/Berlin
LAST-MODIFIED:20260306T231828Z
TZURL:https://www.tzurl.org/zoneinfo/Europe/Berlin
X-LIC-LOCATION:Europe/Berlin
X-PROLEPTIC-TZNAME:LMT
BEGIN:STANDARD
TZNAME:CET
TZOFFSETFROM:+005328
TZOFFSETTO:+0100
DTSTART:18930401T000000
END:STANDARD
BEGIN:DAYLIGHT
TZNAME:CEST
TZOFFSETFROM:+0100
TZOFFSETTO:+0200
DTSTART:19160430T230000
RDATE:19400401T020000
RDATE:19430329T020000
RDATE:19460414T020000
RDATE:19470406T030000
RDATE:19480418T020000
RDATE:19490410T020000
RDATE:19800406T020000
END:DAYLIGHT
BEGIN:STANDARD
TZNAME:CET
TZOFFSETFROM:+0200
TZOFFSETTO:+0100
DTSTART:19161001T010000
RDATE:19421102T030000
RDATE:19431004T030000
RDATE:19441002T030000
RDATE:19451118T030000
RDATE:19461007T030000
END:STANDARD
BEGIN:DAYLIGHT
TZNAME:CEST
TZOFFSETFROM:+0100
TZOFFSETTO:+0200
DTSTART:19170416T020000
RRULE:FREQ=YEARLY;UNTIL=19180415T010000Z;BYMONTH=4;BYDAY=3MO
END:DAYLIGHT
BEGIN:STANDARD
TZNAME:CET
TZOFFSETFROM:+0200
TZOFFSETTO:+0100
DTSTART:19170917T030000
RRULE:FREQ=YEARLY;UNTIL=19180916T010000Z;BYMONTH=9;BYDAY=3MO
END:STANDARD
BEGIN:DAYLIGHT
TZNAME:CEST
TZOFFSETFROM:+0100
TZOFFSETTO:+0200
DTSTART:19440403T020000
RRULE:FREQ=YEARLY;UNTIL=19450402T010000Z;BYMONTH=4;BYDAY=1MO
END:DAYLIGHT
BEGIN:DAYLIGHT
TZNAME:CEMT
TZOFFSETFROM:+0200
TZOFFSETTO:+0300
DTSTART:19450524T020000
RDATE:19470511T030000
END:DAYLIGHT
BEGIN:DAYLIGHT
TZNAME:CEST
TZOFFSETFROM:+0300
TZOFFSETTO:+0200
DTSTART:19450924T030000
RDATE:19470629T030000
END:DAYLIGHT
BEGIN:STANDARD
TZNAME:CET
TZOFFSETFROM:+0100
TZOFFSETTO:+0100
DTSTART:19460101T000000
RDATE:19800101T000000
END:STANDARD
BEGIN:STANDARD
TZNAME:CET
TZOFFSETFROM:+0200
TZOFFSETTO:+0100
DTSTART:19471005T030000
RRULE:FREQ=YEARLY;UNTIL=19491002T010000Z;BYMONTH=10;BYDAY=1SU
END:STANDARD
BEGIN:STANDARD
TZNAME:CET
TZOFFSETFROM:+0200
TZOFFSETTO:+0100
DTSTART:19800928T030000
RRULE:FREQ=YEARLY;UNTIL=19950924T010000Z;BYMONTH=9;BYDAY=-1SU
END:STANDARD
BEGIN:DAYLIGHT
TZNAME:CEST
TZOFFSETFROM:+0100
TZOFFSETTO:+0200
DTSTART:19810329T020000
RRULE:FREQ=YEARLY;BYMONTH=3;BYDAY=-1SU
END:DAYLIGHT
BEGIN:STANDARD
TZNAME:CET
TZOFFSETFROM:+0200
TZOFFSETTO:+0100
DTSTART:19961027T030000
RRULE:FREQ=YEARLY;BYMONTH=10;BYDAY=-1SU
END:STANDARD
END:VTIMEZONE
BEGIN:VEVENT
DTSTAMP:20260424T083902Z
DTSTART;TZID=Europe/Berlin:20251015T200000
DTEND;TZID=Europe/Berlin:20251015T230000
SUMMARY:HE 3. Liga Gr. 2 Münchenbuchsee II vs Bern IV (9)
UID:e55e04e6-9f22-4aa0-9d66-3debefd379d8
STATUS:CONFIRMED
LAST-MODIFIED:20251016T191512Z
DESCRIPTION:3. Liga Herren Gruppe 2\nBegegnungs-Nr: 9\nHeim: Münchenbuchsee II\nGast: Bern IV\n\nAdresse: Laubbergweg 41\, 3053 Münchenbuchsee\n
LOCATION:Laubbergweg 41\, 3053 Münchenbuchsee
CATEGORIES:Saison 2025/26
END:VEVENT
BEGIN:VEVENT
DTSTAMP:20260424T083902Z
DTSTART;TZID=Europe/Berlin:20251217T200000
DTEND;TZID=Europe/Berlin:20251217T230000
SUMMARY:HE 3. Liga Gr. 2 Münchenbuchsee II vs Aarberg II (25)
UID:a7eb7e6e-cdeb-410c-9a4e-80c6460815a2
STATUS:CONFIRMED
LAST-MODIFIED:20251218T122054Z
DESCRIPTION:3. Liga Herren Gruppe 2\nBegegnungs-Nr: 25\nHeim: Münchenbuchsee II\nGast: Aarberg II\n\nAdresse: Laubbergweg 41\, 3053 Münchenbuchsee\n
LOCATION:Laubbergweg 41\, 3053 Münchenbuchsee
CATEGORIES:Saison 2025/26
END:VEVENT
BEGIN:VEVENT
DTSTAMP:20260424T083902Z
DTSTART;TZID=Europe/Berlin:20250903T200000
DTEND;TZID=Europe/Berlin:20250903T230000
SUMMARY:HE 3. Liga Gr. 2 Münchenbuchsee II vs Ostermundigen IV (1)
UID:b314a859-1ece-4b40-8941-c5eed8b55f3c
STATUS:CONFIRMED
LAST-MODIFIED:20250907T195931Z
DESCRIPTION:3. Liga Herren Gruppe 2\nBegegnungs-Nr: 1\nHeim: Münchenbuchsee II\nGast: Ostermundigen IV\n\nAdresse: Laubbergweg 41\, 3053 Münchenbuchsee\n
LOCATION:Laubbergweg 41\, 3053 Münchenbuchsee
CATEGORIES:Saison 2025/26
END:VEVENT
BEGIN:VEVENT
DTSTAMP:20260424T083902Z
DTSTART;TZID=Europe/Berlin:20251112T200000
DTEND;TZID=Europe/Berlin:20251112T230000
SUMMARY:HE 3. Liga Gr. 2 Münchenbuchsee II vs Düdingen (17)
UID:2ae8584a-1c34-4f15-a563-22b456474d97
STATUS:CONFIRMED
LAST-MODIFIED:20251115T171703Z
DESCRIPTION:3. Liga Herren Gruppe 2\nBegegnungs-Nr: 17\nHeim: Münchenbuchsee II\nGast: Düdingen\n\nAdresse: Laubbergweg 41\, 3053 Münchenbuchsee\n
LOCATION:Laubbergweg 41\, 3053 Münchenbuchsee
CATEGORIES:Saison 2025/26
END:VEVENT
BEGIN:VEVENT
DTSTAMP:20260424T083902Z
DTSTART;TZID=Europe/Berlin:20260318T200000
DTEND;TZID=Europe/Berlin:20260318T230000
SUMMARY:HE 3. Liga Gr. 2 Münchenbuchsee II vs Ittigen (21)
UID:dbcfbf48-cd7f-4360-994f-772c63aef8bb
STATUS:CONFIRMED
LAST-MODIFIED:20260327T143347Z
DESCRIPTION:3. Liga Herren Gruppe 2\nBegegnungs-Nr: 21\nHeim: Münchenbuchsee II\nGast: Ittigen\n\nAdresse: Laubbergweg 41\, 3053 Münchenbuchsee\n
LOCATION:Laubbergweg 41\, 3053 Münchenbuchsee
CATEGORIES:Saison 2025/26
END:VEVENT
BEGIN:VEVENT
DTSTAMP:20260424T083902Z
DTSTART;TZID=Europe/Berlin:20260218T200000
DTEND;TZID=Europe/Berlin:20260218T230000
SUMMARY:HE 3. Liga Gr. 2 Münchenbuchsee II vs Langnau II (13)
UID:d4dcf8e6-a369-45a1-b690-21376c57dabc
STATUS:CONFIRMED
LAST-MODIFIED:20260220T123233Z
DESCRIPTION:3. Liga Herren Gruppe 2\nBegegnungs-Nr: 13\nHeim: Münchenbuchsee II\nGast: Langnau II\n\nAdresse: Laubbergweg 41\, 3053 Münchenbuchsee\n
LOCATION:Laubbergweg 41\, 3053 Münchenbuchsee
CATEGORIES:Saison 2025/26
END:VEVENT
BEGIN:VEVENT
DTSTAMP:20260424T083902Z
DTSTART;TZID=Europe/Berlin:20260121T200000
DTEND;TZID=Europe/Berlin:20260121T230000
SUMMARY:HE 3. Liga Gr. 2 Münchenbuchsee II vs Heimberg V (5)
UID:b8bcca98-2fca-4a8b-8f4d-393d37c44ca5
STATUS:CONFIRMED
LAST-MODIFIED:20260125T000623Z
DESCRIPTION:3. Liga Herren Gruppe 2\nBegegnungs-Nr: 5\nHeim: Münchenbuchsee II\nGast: Heimberg V\n\nAdresse: Laubbergweg 41\, 3053 Münchenbuchsee\n
LOCATION:Laubbergweg 41\, 3053 Münchenbuchsee
CATEGORIES:Saison 2025/26
END:VEVENT
BEGIN:VEVENT
DTSTAMP:20260424T083902Z
DTSTART;TZID=Europe/Berlin:20251027T193000
DTEND;TZID=Europe/Berlin:20251027T223000
SUMMARY:HE 3. Liga Gr. 2 Heimberg V vs Münchenbuchsee II (5)
UID:e44cca55-6425-4675-a3b2-02d805b26ca4
STATUS:CONFIRMED
LAST-MODIFIED:20251029T220838Z
DESCRIPTION:3. Liga Herren Gruppe 2\nBegegnungs-Nr: 5\nHeim: Heimberg V\nGast: Münchenbuchsee II\n\nAdresse: Schulhausstrasse 20\, 3672 Oberdiessbach\n
LOCATION:Schulhausstrasse 20\, 3672 Oberdiessbach
CATEGORIES:Saison 2025/26
END:VEVENT
BEGIN:VEVENT
DTSTAMP:20260424T083902Z
DTSTART;TZID=Europe/Berlin:20251124T194500
DTEND;TZID=Europe/Berlin:20251124T224500
SUMMARY:HE 3. Liga Gr. 2 Ittigen vs Münchenbuchsee II (21)
UID:565eed02-29eb-4dc4-8094-6bed29e428be
STATUS:CONFIRMED
LAST-MODIFIED:20251206T233549Z
DESCRIPTION:3. Liga Herren Gruppe 2\nBegegnungs-Nr: 21\nHeim: Ittigen\nGast: Münchenbuchsee II\n\nAdresse: Fischrainweg 17\, 3048 Worblaufen\n
LOCATION:Fischrainweg 17\, 3048 Worblaufen
CATEGORIES:Saison 2025/26
END:VEVENT
BEGIN:VEVENT
DTSTAMP:20260424T083902Z
DTSTART;TZID=Europe/Berlin:20251108T140000
DTEND;TZID=Europe/Berlin:20251108T170000
SUMMARY:HE 3. Liga Gr. 2 Langnau II vs Münchenbuchsee II (13)
UID:3ec4e5ac-d9de-4a46-82c0-c5bbf62f489b
STATUS:CONFIRMED
LAST-MODIFIED:20251115T171651Z
DESCRIPTION:3. Liga Herren Gruppe 2\nBegegnungs-Nr: 13\nHeim: Langnau II\nGast: Münchenbuchsee II\n\nAdresse: Bleicheweg 11\, 3550 Langnau\n
LOCATION:Bleicheweg 11\, 3550 Langnau
CATEGORIES:Saison 2025/26
END:VEVENT
BEGIN:VEVENT
DTSTAMP:20260424T083902Z
DTSTART;TZID=Europe/Berlin:20260325T201500
DTEND;TZID=Europe/Berlin:20260325T231500
SUMMARY:HE 3. Liga Gr. 2 Aarberg II vs Münchenbuchsee II (25)
UID:b1946612-6d1d-40db-abb6-ec99d1d1d792
STATUS:CONFIRMED
LAST-MODIFIED:20260409T115117Z
DESCRIPTION:3. Liga Herren Gruppe 2\nBegegnungs-Nr: 25\nHeim: Aarberg II\nGast: Münchenbuchsee II\n\nAdresse: Nidaustrasse 7\, 3270 Aarberg\n
LOCATION:Nidaustrasse 7\, 3270 Aarberg
CATEGORIES:Saison 2025/26
END:VEVENT
BEGIN:VEVENT
DTSTAMP:20260424T083902Z
DTSTART;TZID=Europe/Berlin:20260302T194500
DTEND;TZID=Europe/Berlin:20260302T224500
SUMMARY:HE 3. Liga Gr. 2 Düdingen vs Münchenbuchsee II (17)
UID:eb4a1f21-12c0-4b81-a480-152321ad0fb7
STATUS:CONFIRMED
LAST-MODIFIED:20260308T173713Z
DESCRIPTION:3. Liga Herren Gruppe 2\nBegegnungs-Nr: 17\nHeim: Düdingen\nGast: Münchenbuchsee II\n\nAdresse: Alfons-Aeby-Strasse\, 3186 Düdingen\n
LOCATION:Alfons-Aeby-Strasse\, 3186 Düdingen
CATEGORIES:Saison 2025/26
END:VEVENT
BEGIN:VEVENT
DTSTAMP:20260424T083902Z
DTSTART;TZID=Europe/Berlin:20260114T194500
DTEND;TZID=Europe/Berlin:20260114T224500
SUMMARY:HE 3. Liga Gr. 2 Ostermundigen IV vs Münchenbuchsee II (1)
UID:4b877b4b-3360-445c-869b-021ea49f2803
STATUS:CONFIRMED
LAST-MODIFIED:20260125T000511Z
DESCRIPTION:3. Liga Herren Gruppe 2\nBegegnungs-Nr: 1\nHeim: Ostermundigen IV\nGast: Münchenbuchsee II\n\nAdresse: Dennigkofenweg 169\, 3072 Ostermundigen\n
LOCATION:Dennigkofenweg 169\, 3072 Ostermundigen
CATEGORIES:Saison 2025/26
END:VEVENT
BEGIN:VEVENT
DTSTAMP:20260424T083902Z
DTSTART;TZID=Europe/Berlin:20260205T200000
DTEND;TZID=Europe/Berlin:20260205T230000
SUMMARY:HE 3. Liga Gr. 2 Bern IV vs Münchenbuchsee II (9)
UID:2bd117ba-b0c9-4d19-af8b-49b1caa717ad
STATUS:CONFIRMED
LAST-MODIFIED:20260217T215046Z
DESCRIPTION:3. Liga Herren Gruppe 2\nBegegnungs-Nr: 9\nHeim: Bern IV\nGast: Münchenbuchsee II\n\nAdresse: Mädergutstrasse 58\, 3018 Bern\n
LOCATION:Mädergutstrasse 58\, 3018 Bern
CATEGORIES:Saison 2025/26
END:VEVENT
END:VCALENDAR
