BEGIN:VCALENDAR
PRODID:-//nuDatenautomaten//framework iCal4j //DE
VERSION:2.0
CALSCALE:GREGORIAN
BEGIN:VTIMEZONE
TZID:Europe/Berlin
LAST-MODIFIED:20260306T231828Z
TZURL:https://www.tzurl.org/zoneinfo/Europe/Berlin
X-LIC-LOCATION:Europe/Berlin
X-PROLEPTIC-TZNAME:LMT
BEGIN:STANDARD
TZNAME:CET
TZOFFSETFROM:+005328
TZOFFSETTO:+0100
DTSTART:18930401T000000
END:STANDARD
BEGIN:DAYLIGHT
TZNAME:CEST
TZOFFSETFROM:+0100
TZOFFSETTO:+0200
DTSTART:19160430T230000
RDATE:19400401T020000
RDATE:19430329T020000
RDATE:19460414T020000
RDATE:19470406T030000
RDATE:19480418T020000
RDATE:19490410T020000
RDATE:19800406T020000
END:DAYLIGHT
BEGIN:STANDARD
TZNAME:CET
TZOFFSETFROM:+0200
TZOFFSETTO:+0100
DTSTART:19161001T010000
RDATE:19421102T030000
RDATE:19431004T030000
RDATE:19441002T030000
RDATE:19451118T030000
RDATE:19461007T030000
END:STANDARD
BEGIN:DAYLIGHT
TZNAME:CEST
TZOFFSETFROM:+0100
TZOFFSETTO:+0200
DTSTART:19170416T020000
RRULE:FREQ=YEARLY;UNTIL=19180415T010000Z;BYMONTH=4;BYDAY=3MO
END:DAYLIGHT
BEGIN:STANDARD
TZNAME:CET
TZOFFSETFROM:+0200
TZOFFSETTO:+0100
DTSTART:19170917T030000
RRULE:FREQ=YEARLY;UNTIL=19180916T010000Z;BYMONTH=9;BYDAY=3MO
END:STANDARD
BEGIN:DAYLIGHT
TZNAME:CEST
TZOFFSETFROM:+0100
TZOFFSETTO:+0200
DTSTART:19440403T020000
RRULE:FREQ=YEARLY;UNTIL=19450402T010000Z;BYMONTH=4;BYDAY=1MO
END:DAYLIGHT
BEGIN:DAYLIGHT
TZNAME:CEMT
TZOFFSETFROM:+0200
TZOFFSETTO:+0300
DTSTART:19450524T020000
RDATE:19470511T030000
END:DAYLIGHT
BEGIN:DAYLIGHT
TZNAME:CEST
TZOFFSETFROM:+0300
TZOFFSETTO:+0200
DTSTART:19450924T030000
RDATE:19470629T030000
END:DAYLIGHT
BEGIN:STANDARD
TZNAME:CET
TZOFFSETFROM:+0100
TZOFFSETTO:+0100
DTSTART:19460101T000000
RDATE:19800101T000000
END:STANDARD
BEGIN:STANDARD
TZNAME:CET
TZOFFSETFROM:+0200
TZOFFSETTO:+0100
DTSTART:19471005T030000
RRULE:FREQ=YEARLY;UNTIL=19491002T010000Z;BYMONTH=10;BYDAY=1SU
END:STANDARD
BEGIN:STANDARD
TZNAME:CET
TZOFFSETFROM:+0200
TZOFFSETTO:+0100
DTSTART:19800928T030000
RRULE:FREQ=YEARLY;UNTIL=19950924T010000Z;BYMONTH=9;BYDAY=-1SU
END:STANDARD
BEGIN:DAYLIGHT
TZNAME:CEST
TZOFFSETFROM:+0100
TZOFFSETTO:+0200
DTSTART:19810329T020000
RRULE:FREQ=YEARLY;BYMONTH=3;BYDAY=-1SU
END:DAYLIGHT
BEGIN:STANDARD
TZNAME:CET
TZOFFSETFROM:+0200
TZOFFSETTO:+0100
DTSTART:19961027T030000
RRULE:FREQ=YEARLY;BYMONTH=10;BYDAY=-1SU
END:STANDARD
END:VTIMEZONE
BEGIN:VEVENT
DTSTAMP:20260424T115251Z
DTSTART;TZID=Europe/Berlin:20251206T160000
DTEND;TZID=Europe/Berlin:20251206T190000
SUMMARY:HE NLC Gr. 2 Fribourg vs Rossens (27)
UID:d493e0d7-ccd0-497c-9065-98a9f1e52f14
STATUS:CONFIRMED
LAST-MODIFIED:20251209T094803Z
DESCRIPTION:Herren Nationalliga C Gruppe 2\nBegegnungs-Nr: 27\nHeim: Fribourg\nGast: Rossens\n\nAdresse: Avenue Général Guisan 61\, 1700 Fribourg\n
LOCATION:Avenue Général Guisan 61\, 1700 Fribourg
CATEGORIES:Saison 2025/26
END:VEVENT
BEGIN:VEVENT
DTSTAMP:20260424T115251Z
DTSTART;TZID=Europe/Berlin:20250914T180000
DTEND;TZID=Europe/Berlin:20250914T210000
SUMMARY:HE NLC Gr. 2 Fribourg vs UGS-Chênois III (1)
UID:94a0f4c4-c3a9-4bc1-a07c-01735da53377
STATUS:CONFIRMED
LAST-MODIFIED:20250918T112345Z
DESCRIPTION:Herren Nationalliga C Gruppe 2\nBegegnungs-Nr: 1\nHeim: Fribourg\nGast: UGS-Chênois III\n\nAdresse: Avenue Général Guisan 61\, 1700 Fribourg\n
LOCATION:Avenue Général Guisan 61\, 1700 Fribourg
CATEGORIES:Saison 2025/26
END:VEVENT
BEGIN:VEVENT
DTSTAMP:20260424T115251Z
DTSTART;TZID=Europe/Berlin:20251012T160000
DTEND;TZID=Europe/Berlin:20251012T190000
SUMMARY:HE NLC Gr. 2 Fribourg vs La Chaux-de-Fonds (9)
UID:1d84a8e2-9315-4d5e-aa1d-d3c76d3512d3
STATUS:CONFIRMED
LAST-MODIFIED:20251016T145435Z
DESCRIPTION:Herren Nationalliga C Gruppe 2\nBegegnungs-Nr: 9\nHeim: Fribourg\nGast: La Chaux-de-Fonds\n\nAdresse: Avenue Général Guisan 61\, 1700 Fribourg\n
LOCATION:Avenue Général Guisan 61\, 1700 Fribourg
CATEGORIES:Saison 2025/26
END:VEVENT
BEGIN:VEVENT
DTSTAMP:20260424T115251Z
DTSTART;TZID=Europe/Berlin:20251109T160000
DTEND;TZID=Europe/Berlin:20251109T190000
SUMMARY:HE NLC Gr. 2 Fribourg vs Sierre (17)
UID:2856afe8-7e53-4b18-9de7-e2f2d4eab4de
STATUS:CONFIRMED
LAST-MODIFIED:20251110T074534Z
DESCRIPTION:Herren Nationalliga C Gruppe 2\nBegegnungs-Nr: 17\nHeim: Fribourg\nGast: Sierre\n\nAdresse: Avenue Général Guisan 61\, 1700 Fribourg\n
LOCATION:Avenue Général Guisan 61\, 1700 Fribourg
CATEGORIES:Saison 2025/26
END:VEVENT
BEGIN:VEVENT
DTSTAMP:20260424T115251Z
DTSTART;TZID=Europe/Berlin:20260228T160000
DTEND;TZID=Europe/Berlin:20260228T190000
SUMMARY:HE NLC Gr. 2 Fribourg vs Burgdorf II (13)
UID:3e0d4273-568a-4258-ad70-8564cbbbdb0f
STATUS:CONFIRMED
LAST-MODIFIED:20260302T214812Z
DESCRIPTION:Herren Nationalliga C Gruppe 2\nBegegnungs-Nr: 13\nHeim: Fribourg\nGast: Burgdorf II\n\nAdresse: Avenue Général Guisan 61\, 1700 Fribourg\n
LOCATION:Avenue Général Guisan 61\, 1700 Fribourg
CATEGORIES:Saison 2025/26
END:VEVENT
BEGIN:VEVENT
DTSTAMP:20260424T115251Z
DTSTART;TZID=Europe/Berlin:20260131T160000
DTEND;TZID=Europe/Berlin:20260131T190000
SUMMARY:HE NLC Gr. 2 Fribourg vs Ostermundigen II (7)
UID:f1d3e17f-5d01-4388-8e28-f0d44a4c3d51
STATUS:CONFIRMED
LAST-MODIFIED:20260203T081338Z
DESCRIPTION:Herren Nationalliga C Gruppe 2\nBegegnungs-Nr: 7\nHeim: Fribourg\nGast: Ostermundigen II\n\nAdresse: Avenue Général Guisan 61\, 1700 Fribourg\n
LOCATION:Avenue Général Guisan 61\, 1700 Fribourg
CATEGORIES:Saison 2025/26
END:VEVENT
BEGIN:VEVENT
DTSTAMP:20260424T115251Z
DTSTART;TZID=Europe/Berlin:20260418T160000
DTEND;TZID=Europe/Berlin:20260418T190000
SUMMARY:HE NLC Gr. 2 Fribourg vs Port (21)
UID:59c544d4-be50-435a-91ea-419866bfa4c6
STATUS:CONFIRMED
LAST-MODIFIED:20260420T082927Z
DESCRIPTION:Herren Nationalliga C Gruppe 2\nBegegnungs-Nr: 21\nHeim: Fribourg\nGast: Port\n\nAdresse: Avenue Général Guisan 61\, 1700 Fribourg\n
LOCATION:Avenue Général Guisan 61\, 1700 Fribourg
CATEGORIES:Saison 2025/26
END:VEVENT
BEGIN:VEVENT
DTSTAMP:20260424T115251Z
DTSTART;TZID=Europe/Berlin:20251115T140000
DTEND;TZID=Europe/Berlin:20251115T170000
SUMMARY:HE NLC Gr. 2 Port vs Fribourg (21)
UID:4a9f0d08-0cfe-4929-a3ae-17597ea32833
STATUS:CONFIRMED
LAST-MODIFIED:20251117T125115Z
DESCRIPTION:Herren Nationalliga C Gruppe 2\nBegegnungs-Nr: 21\nHeim: Port\nGast: Fribourg\n\nAdresse: Allmendstrasse 23\, 2562 Port\n
LOCATION:Allmendstrasse 23\, 2562 Port
CATEGORIES:Saison 2025/26
END:VEVENT
BEGIN:VEVENT
DTSTAMP:20260424T115251Z
DTSTART;TZID=Europe/Berlin:20251025T140000
DTEND;TZID=Europe/Berlin:20251025T170000
SUMMARY:HE NLC Gr. 2 Burgdorf II vs Fribourg (13)
UID:fc373524-ab4c-40db-a80b-fd9030378b66
STATUS:CONFIRMED
LAST-MODIFIED:20251029T082812Z
DESCRIPTION:Herren Nationalliga C Gruppe 2\nBegegnungs-Nr: 13\nHeim: Burgdorf II\nGast: Fribourg\n\nAdresse: Pestalozzistrasse 69\, 3400 Burgdorf\n
LOCATION:Pestalozzistrasse 69\, 3400 Burgdorf
CATEGORIES:Saison 2025/26
END:VEVENT
BEGIN:VEVENT
DTSTAMP:20260424T115251Z
DTSTART;TZID=Europe/Berlin:20250916T191500
DTEND;TZID=Europe/Berlin:20250916T221500
SUMMARY:HE NLC Gr. 2 Ostermundigen II vs Fribourg (7)
UID:aaa31d71-155b-4713-a7b7-33fe468f0b33
STATUS:CONFIRMED
LAST-MODIFIED:20250918T112356Z
DESCRIPTION:Herren Nationalliga C Gruppe 2\nBegegnungs-Nr: 7\nHeim: Ostermundigen II\nGast: Fribourg\n\nAdresse: Dennigkofenweg 169\, 3072 Ostermundigen\n
LOCATION:Dennigkofenweg 169\, 3072 Ostermundigen
CATEGORIES:Saison 2025/26
END:VEVENT
BEGIN:VEVENT
DTSTAMP:20260424T115251Z
DTSTART;TZID=Europe/Berlin:20260111T130000
DTEND;TZID=Europe/Berlin:20260111T160000
SUMMARY:HE NLC Gr. 2 UGS-Chênois III vs Fribourg (1)
UID:6d5cf2b7-4f0a-4df5-99c5-2e178b1e9ee7
STATUS:CONFIRMED
LAST-MODIFIED:20260112T203301Z
DESCRIPTION:Herren Nationalliga C Gruppe 2\nBegegnungs-Nr: 1\nHeim: UGS-Chênois III\nGast: Fribourg\n\nAdresse: Route de Frontenex 68\, 1208 Genève\n
LOCATION:Route de Frontenex 68\, 1208 Genève
CATEGORIES:Saison 2025/26
END:VEVENT
BEGIN:VEVENT
DTSTAMP:20260424T115251Z
DTSTART;TZID=Europe/Berlin:20260221T191500
DTEND;TZID=Europe/Berlin:20260221T221500
SUMMARY:HE NLC Gr. 2 La Chaux-de-Fonds vs Fribourg (9)
UID:828f74ac-8017-413d-a289-ef746ed8a02f
STATUS:CONFIRMED
LAST-MODIFIED:20260223T153527Z
DESCRIPTION:Herren Nationalliga C Gruppe 2\nBegegnungs-Nr: 9\nHeim: La Chaux-de-Fonds\nGast: Fribourg\n\nAdresse: Rue du Docteur-Kern 14\, 2300 La Chaux-de-Fonds\n
LOCATION:Rue du Docteur-Kern 14\, 2300 La Chaux-de-Fonds
CATEGORIES:Saison 2025/26
END:VEVENT
BEGIN:VEVENT
DTSTAMP:20260424T115251Z
DTSTART;TZID=Europe/Berlin:20260328T170000
DTEND;TZID=Europe/Berlin:20260328T200000
SUMMARY:HE NLC Gr. 2 Sierre vs Fribourg (17)
UID:953a8c3f-6656-4215-96da-e2824f7dc56a
STATUS:CONFIRMED
LAST-MODIFIED:20260330T080023Z
DESCRIPTION:Herren Nationalliga C Gruppe 2\nBegegnungs-Nr: 17\nHeim: Sierre\nGast: Fribourg\n\nAdresse: Rte des Liddes 6\, 3960 Sierre\n
LOCATION:Rte des Liddes 6\, 3960 Sierre
CATEGORIES:Saison 2025/26
END:VEVENT
BEGIN:VEVENT
DTSTAMP:20260424T115251Z
DTSTART;TZID=Europe/Berlin:20260419T150000
DTEND;TZID=Europe/Berlin:20260419T180000
SUMMARY:HE NLC Gr. 2 Rossens vs Fribourg (27)
UID:f40a83ae-06db-4992-8c2f-5fe3ee0b5954
STATUS:CONFIRMED
LAST-MODIFIED:20260420T083123Z
DESCRIPTION:Herren Nationalliga C Gruppe 2\nBegegnungs-Nr: 27\nHeim: Rossens\nGast: Fribourg\n\nAdresse: Route du Jordil 14\, 1728 Rossens\n
LOCATION:Route du Jordil 14\, 1728 Rossens
CATEGORIES:Saison 2025/26
END:VEVENT
END:VCALENDAR
