BEGIN:VCALENDAR
PRODID:-//nuDatenautomaten//framework iCal4j //DE
VERSION:2.0
CALSCALE:GREGORIAN
BEGIN:VTIMEZONE
TZID:Europe/Berlin
LAST-MODIFIED:20260306T231828Z
TZURL:https://www.tzurl.org/zoneinfo/Europe/Berlin
X-LIC-LOCATION:Europe/Berlin
X-PROLEPTIC-TZNAME:LMT
BEGIN:STANDARD
TZNAME:CET
TZOFFSETFROM:+005328
TZOFFSETTO:+0100
DTSTART:18930401T000000
END:STANDARD
BEGIN:DAYLIGHT
TZNAME:CEST
TZOFFSETFROM:+0100
TZOFFSETTO:+0200
DTSTART:19160430T230000
RDATE:19400401T020000
RDATE:19430329T020000
RDATE:19460414T020000
RDATE:19470406T030000
RDATE:19480418T020000
RDATE:19490410T020000
RDATE:19800406T020000
END:DAYLIGHT
BEGIN:STANDARD
TZNAME:CET
TZOFFSETFROM:+0200
TZOFFSETTO:+0100
DTSTART:19161001T010000
RDATE:19421102T030000
RDATE:19431004T030000
RDATE:19441002T030000
RDATE:19451118T030000
RDATE:19461007T030000
END:STANDARD
BEGIN:DAYLIGHT
TZNAME:CEST
TZOFFSETFROM:+0100
TZOFFSETTO:+0200
DTSTART:19170416T020000
RRULE:FREQ=YEARLY;UNTIL=19180415T010000Z;BYMONTH=4;BYDAY=3MO
END:DAYLIGHT
BEGIN:STANDARD
TZNAME:CET
TZOFFSETFROM:+0200
TZOFFSETTO:+0100
DTSTART:19170917T030000
RRULE:FREQ=YEARLY;UNTIL=19180916T010000Z;BYMONTH=9;BYDAY=3MO
END:STANDARD
BEGIN:DAYLIGHT
TZNAME:CEST
TZOFFSETFROM:+0100
TZOFFSETTO:+0200
DTSTART:19440403T020000
RRULE:FREQ=YEARLY;UNTIL=19450402T010000Z;BYMONTH=4;BYDAY=1MO
END:DAYLIGHT
BEGIN:DAYLIGHT
TZNAME:CEMT
TZOFFSETFROM:+0200
TZOFFSETTO:+0300
DTSTART:19450524T020000
RDATE:19470511T030000
END:DAYLIGHT
BEGIN:DAYLIGHT
TZNAME:CEST
TZOFFSETFROM:+0300
TZOFFSETTO:+0200
DTSTART:19450924T030000
RDATE:19470629T030000
END:DAYLIGHT
BEGIN:STANDARD
TZNAME:CET
TZOFFSETFROM:+0100
TZOFFSETTO:+0100
DTSTART:19460101T000000
RDATE:19800101T000000
END:STANDARD
BEGIN:STANDARD
TZNAME:CET
TZOFFSETFROM:+0200
TZOFFSETTO:+0100
DTSTART:19471005T030000
RRULE:FREQ=YEARLY;UNTIL=19491002T010000Z;BYMONTH=10;BYDAY=1SU
END:STANDARD
BEGIN:STANDARD
TZNAME:CET
TZOFFSETFROM:+0200
TZOFFSETTO:+0100
DTSTART:19800928T030000
RRULE:FREQ=YEARLY;UNTIL=19950924T010000Z;BYMONTH=9;BYDAY=-1SU
END:STANDARD
BEGIN:DAYLIGHT
TZNAME:CEST
TZOFFSETFROM:+0100
TZOFFSETTO:+0200
DTSTART:19810329T020000
RRULE:FREQ=YEARLY;BYMONTH=3;BYDAY=-1SU
END:DAYLIGHT
BEGIN:STANDARD
TZNAME:CET
TZOFFSETFROM:+0200
TZOFFSETTO:+0100
DTSTART:19961027T030000
RRULE:FREQ=YEARLY;BYMONTH=10;BYDAY=-1SU
END:STANDARD
END:VTIMEZONE
BEGIN:VEVENT
DTSTAMP:20260423T224814Z
DTSTART;TZID=Europe/Berlin:20250830T160000
DTEND;TZID=Europe/Berlin:20250830T190000
SUMMARY:U13 R1 GrB Rapid Luzern II vs Baar II (6)
UID:5778c3dd-b004-4c43-b438-715bbfa08a06
STATUS:CONFIRMED
LAST-MODIFIED:20250901T200126Z
DESCRIPTION:U13\, 1. Runde\, Gruppe B\nBegegnungs-Nr: 6\nHeim: Rapid Luzern II\nGast: Baar II\n\nAdresse: Kreuzbuchstr. 60\, 6006 Luzern\n
LOCATION:Kreuzbuchstr. 60\, 6006 Luzern
CATEGORIES:Saison 2025/26
END:VEVENT
BEGIN:VEVENT
DTSTAMP:20260423T224814Z
DTSTART;TZID=Europe/Berlin:20251213T130000
DTEND;TZID=Europe/Berlin:20251213T160000
SUMMARY:U13 R2 GrB Rapid Luzern II vs Rapid Luzern V (2)
UID:7b656c35-15d3-4f07-9a18-03b499a4e3c7
STATUS:CONFIRMED
LAST-MODIFIED:20251217T183103Z
DESCRIPTION:U13\, 2. Runde\, Gruppe B\nBegegnungs-Nr: 2\nHeim: Rapid Luzern II\nGast: Rapid Luzern V\n\nAdresse: Kreuzbuchstr. 60\, 6006 Luzern\n
LOCATION:Kreuzbuchstr. 60\, 6006 Luzern
CATEGORIES:Saison 2025/26
END:VEVENT
BEGIN:VEVENT
DTSTAMP:20260423T224814Z
DTSTART;TZID=Europe/Berlin:20260307T160000
DTEND;TZID=Europe/Berlin:20260307T190000
SUMMARY:U13 F 1.Div Rapid Luzern II vs Emmen (6)
UID:d1b764d9-7289-4005-a21b-75950aefc147
STATUS:CONFIRMED
LAST-MODIFIED:20260313T080230Z
DESCRIPTION:U13\, Finalrunde\, 1. Division\nBegegnungs-Nr: 6\nHeim: Rapid Luzern II\nGast: Emmen\n\nAdresse: Kreuzbuchstr. 60\, 6006 Luzern\n
LOCATION:Kreuzbuchstr. 60\, 6006 Luzern
CATEGORIES:Saison 2025/26
END:VEVENT
BEGIN:VEVENT
DTSTAMP:20260423T224814Z
DTSTART;TZID=Europe/Berlin:20250830T130000
DTEND;TZID=Europe/Berlin:20250830T160000
SUMMARY:U13 R1 GrB Emmen vs Rapid Luzern II (2)
UID:d4658c74-9c1d-46da-a88f-c00c6963dcb4
STATUS:CONFIRMED
LAST-MODIFIED:20250901T195757Z
DESCRIPTION:U13\, 1. Runde\, Gruppe B\nBegegnungs-Nr: 2\nHeim: Emmen\nGast: Rapid Luzern II\n
LOCATION:
CATEGORIES:Saison 2025/26
END:VEVENT
BEGIN:VEVENT
DTSTAMP:20260423T224814Z
DTSTART;TZID=Europe/Berlin:20251213T143000
DTEND;TZID=Europe/Berlin:20251213T173000
SUMMARY:U13 R2 GrB Schenkon vs Rapid Luzern II (4)
UID:d48ab603-57ec-46d4-8785-8140a914acc5
STATUS:CONFIRMED
LAST-MODIFIED:20251217T183310Z
DESCRIPTION:U13\, 2. Runde\, Gruppe B\nBegegnungs-Nr: 4\nHeim: Schenkon\nGast: Rapid Luzern II\n
LOCATION:
CATEGORIES:Saison 2025/26
END:VEVENT
BEGIN:VEVENT
DTSTAMP:20260423T224814Z
DTSTART;TZID=Europe/Berlin:20260307T130000
DTEND;TZID=Europe/Berlin:20260307T160000
SUMMARY:U13 F 1.Div Rapid Luzern vs Rapid Luzern II (2)
UID:ce07afd4-3c78-4e1d-8b3e-8db9d587e8c9
STATUS:CONFIRMED
LAST-MODIFIED:20260313T075550Z
DESCRIPTION:U13\, Finalrunde\, 1. Division\nBegegnungs-Nr: 2\nHeim: Rapid Luzern\nGast: Rapid Luzern II\n\nAdresse: Kreuzbuchstr. 60\, 6006 Luzern\n
LOCATION:Kreuzbuchstr. 60\, 6006 Luzern
CATEGORIES:Saison 2025/26
END:VEVENT
BEGIN:VEVENT
DTSTAMP:20260423T224814Z
DTSTART;TZID=Europe/Berlin:20260307T143000
DTEND;TZID=Europe/Berlin:20260307T173000
SUMMARY:U13 F 1.Div Rapid Luzern IV vs Rapid Luzern II (3)
UID:c3c07356-d4f9-4f4e-b512-36f6d98034c1
STATUS:CONFIRMED
LAST-MODIFIED:20260313T075808Z
DESCRIPTION:U13\, Finalrunde\, 1. Division\nBegegnungs-Nr: 3\nHeim: Rapid Luzern IV\nGast: Rapid Luzern II\n\nAdresse: Kreuzbuchstr. 60\, 6006 Luzern\n
LOCATION:Kreuzbuchstr. 60\, 6006 Luzern
CATEGORIES:Saison 2025/26
END:VEVENT
END:VCALENDAR
