BEGIN:VCALENDAR
PRODID:-//nuDatenautomaten//framework iCal4j //DE
VERSION:2.0
CALSCALE:GREGORIAN
BEGIN:VTIMEZONE
TZID:Europe/Berlin
LAST-MODIFIED:20260306T231828Z
TZURL:https://www.tzurl.org/zoneinfo/Europe/Berlin
X-LIC-LOCATION:Europe/Berlin
X-PROLEPTIC-TZNAME:LMT
BEGIN:STANDARD
TZNAME:CET
TZOFFSETFROM:+005328
TZOFFSETTO:+0100
DTSTART:18930401T000000
END:STANDARD
BEGIN:DAYLIGHT
TZNAME:CEST
TZOFFSETFROM:+0100
TZOFFSETTO:+0200
DTSTART:19160430T230000
RDATE:19400401T020000
RDATE:19430329T020000
RDATE:19460414T020000
RDATE:19470406T030000
RDATE:19480418T020000
RDATE:19490410T020000
RDATE:19800406T020000
END:DAYLIGHT
BEGIN:STANDARD
TZNAME:CET
TZOFFSETFROM:+0200
TZOFFSETTO:+0100
DTSTART:19161001T010000
RDATE:19421102T030000
RDATE:19431004T030000
RDATE:19441002T030000
RDATE:19451118T030000
RDATE:19461007T030000
END:STANDARD
BEGIN:DAYLIGHT
TZNAME:CEST
TZOFFSETFROM:+0100
TZOFFSETTO:+0200
DTSTART:19170416T020000
RRULE:FREQ=YEARLY;UNTIL=19180415T010000Z;BYMONTH=4;BYDAY=3MO
END:DAYLIGHT
BEGIN:STANDARD
TZNAME:CET
TZOFFSETFROM:+0200
TZOFFSETTO:+0100
DTSTART:19170917T030000
RRULE:FREQ=YEARLY;UNTIL=19180916T010000Z;BYMONTH=9;BYDAY=3MO
END:STANDARD
BEGIN:DAYLIGHT
TZNAME:CEST
TZOFFSETFROM:+0100
TZOFFSETTO:+0200
DTSTART:19440403T020000
RRULE:FREQ=YEARLY;UNTIL=19450402T010000Z;BYMONTH=4;BYDAY=1MO
END:DAYLIGHT
BEGIN:DAYLIGHT
TZNAME:CEMT
TZOFFSETFROM:+0200
TZOFFSETTO:+0300
DTSTART:19450524T020000
RDATE:19470511T030000
END:DAYLIGHT
BEGIN:DAYLIGHT
TZNAME:CEST
TZOFFSETFROM:+0300
TZOFFSETTO:+0200
DTSTART:19450924T030000
RDATE:19470629T030000
END:DAYLIGHT
BEGIN:STANDARD
TZNAME:CET
TZOFFSETFROM:+0100
TZOFFSETTO:+0100
DTSTART:19460101T000000
RDATE:19800101T000000
END:STANDARD
BEGIN:STANDARD
TZNAME:CET
TZOFFSETFROM:+0200
TZOFFSETTO:+0100
DTSTART:19471005T030000
RRULE:FREQ=YEARLY;UNTIL=19491002T010000Z;BYMONTH=10;BYDAY=1SU
END:STANDARD
BEGIN:STANDARD
TZNAME:CET
TZOFFSETFROM:+0200
TZOFFSETTO:+0100
DTSTART:19800928T030000
RRULE:FREQ=YEARLY;UNTIL=19950924T010000Z;BYMONTH=9;BYDAY=-1SU
END:STANDARD
BEGIN:DAYLIGHT
TZNAME:CEST
TZOFFSETFROM:+0100
TZOFFSETTO:+0200
DTSTART:19810329T020000
RRULE:FREQ=YEARLY;BYMONTH=3;BYDAY=-1SU
END:DAYLIGHT
BEGIN:STANDARD
TZNAME:CET
TZOFFSETFROM:+0200
TZOFFSETTO:+0100
DTSTART:19961027T030000
RRULE:FREQ=YEARLY;BYMONTH=10;BYDAY=-1SU
END:STANDARD
END:VTIMEZONE
BEGIN:VEVENT
DTSTAMP:20260424T133958Z
DTSTART;TZID=Europe/Berlin:20251003T201500
DTEND;TZID=Europe/Berlin:20251003T231500
SUMMARY:1° Divisione Lugano III vs ABTT II (4)
UID:441bd368-5d27-4beb-941d-e59284ff0c7f
STATUS:CONFIRMED
LAST-MODIFIED:20251004T073014Z
DESCRIPTION:1° Divisione\nBegegnungs-Nr: 4\nHeim: Lugano III\nGast: ABTT II\n\nAdresse: Via al Chioso 7\, 6900 Lugano-Cassarate\n
LOCATION:Via al Chioso 7\, 6900 Lugano-Cassarate
CATEGORIES:Saison 2025/26
END:VEVENT
BEGIN:VEVENT
DTSTAMP:20260424T133958Z
DTSTART;TZID=Europe/Berlin:20251017T201500
DTEND;TZID=Europe/Berlin:20251017T231500
SUMMARY:1° Divisione Lugano III vs Locarno II (9)
UID:247594f7-203b-4c63-9a01-3d8faf224419
STATUS:CONFIRMED
LAST-MODIFIED:20251020T094433Z
DESCRIPTION:1° Divisione\nBegegnungs-Nr: 9\nHeim: Lugano III\nGast: Locarno II\n\nAdresse: Via al Chioso 7\, 6900 Lugano-Cassarate\n
LOCATION:Via al Chioso 7\, 6900 Lugano-Cassarate
CATEGORIES:Saison 2025/26
END:VEVENT
BEGIN:VEVENT
DTSTAMP:20260424T133958Z
DTSTART;TZID=Europe/Berlin:20251212T201500
DTEND;TZID=Europe/Berlin:20251212T231500
SUMMARY:1° Divisione Lugano III vs Riva S.Vitale (17)
UID:a8d89b7f-d3a6-4451-a1aa-434b957da0ae
STATUS:CONFIRMED
LAST-MODIFIED:20251215T082516Z
DESCRIPTION:1° Divisione\nBegegnungs-Nr: 17\nHeim: Lugano III\nGast: Riva S.Vitale\n\nAdresse: Via al Chioso 7\, 6900 Lugano-Cassarate\n
LOCATION:Via al Chioso 7\, 6900 Lugano-Cassarate
CATEGORIES:Saison 2025/26
END:VEVENT
BEGIN:VEVENT
DTSTAMP:20260424T133958Z
DTSTART;TZID=Europe/Berlin:20260306T201500
DTEND;TZID=Europe/Berlin:20260306T231500
SUMMARY:1° Divisione Lugano III vs Tenero (27)
UID:c75c307d-c8a7-4000-98aa-79fc0afa6366
STATUS:CONFIRMED
LAST-MODIFIED:20260307T065330Z
DESCRIPTION:1° Divisione\nBegegnungs-Nr: 27\nHeim: Lugano III\nGast: Tenero\n\nAdresse: Via al Chioso 7\, 6900 Lugano-Cassarate\n
LOCATION:Via al Chioso 7\, 6900 Lugano-Cassarate
CATEGORIES:Saison 2025/26
END:VEVENT
BEGIN:VEVENT
DTSTAMP:20260424T133958Z
DTSTART;TZID=Europe/Berlin:20260320T201500
DTEND;TZID=Europe/Berlin:20260320T231500
SUMMARY:1° Divisione Lugano III vs Locarno (29)
UID:2c40ab0e-177d-41ef-950a-bdf4a0757e4b
STATUS:CONFIRMED
LAST-MODIFIED:20260323T085457Z
DESCRIPTION:1° Divisione\nBegegnungs-Nr: 29\nHeim: Lugano III\nGast: Locarno\n\nAdresse: Via al Chioso 7\, 6900 Lugano-Cassarate\n
LOCATION:Via al Chioso 7\, 6900 Lugano-Cassarate
CATEGORIES:Saison 2025/26
END:VEVENT
BEGIN:VEVENT
DTSTAMP:20260424T133958Z
DTSTART;TZID=Europe/Berlin:20250919T203000
DTEND;TZID=Europe/Berlin:20250919T233000
SUMMARY:1° Divisione Riva S.Vitale vs Lugano III (2)
UID:04f93044-2d38-4e1e-a7c0-4d00438ca9d3
STATUS:CONFIRMED
LAST-MODIFIED:20250922T065813Z
DESCRIPTION:1° Divisione\nBegegnungs-Nr: 2\nHeim: Riva S.Vitale\nGast: Lugano III\n\nAdresse: Via Monsignor Sesti\, 6826 Riva San Vitale\n
LOCATION:Via Monsignor Sesti\, 6826 Riva San Vitale
CATEGORIES:Saison 2025/26
END:VEVENT
BEGIN:VEVENT
DTSTAMP:20260424T133958Z
DTSTART;TZID=Europe/Berlin:20251114T194500
DTEND;TZID=Europe/Berlin:20251114T224500
SUMMARY:1° Divisione Tenero vs Lugano III (12)
UID:b452b358-096d-49e7-af41-9eaf224f8a67
STATUS:CONFIRMED
LAST-MODIFIED:20251117T074405Z
DESCRIPTION:1° Divisione\nBegegnungs-Nr: 12\nHeim: Tenero\nGast: Lugano III\n\nAdresse: Palestra Naviglio\, Gottardo\, Squash\, 6598 Tenero\n
LOCATION:Palestra Naviglio\, Gottardo\, Squash\, 6598 Tenero
CATEGORIES:Saison 2025/26
END:VEVENT
BEGIN:VEVENT
DTSTAMP:20260424T133958Z
DTSTART;TZID=Europe/Berlin:20251128T201500
DTEND;TZID=Europe/Berlin:20251128T231500
SUMMARY:1° Divisione Locarno vs Lugano III (14)
UID:daff2292-2e29-482a-bf51-ed2662f3721f
STATUS:CONFIRMED
LAST-MODIFIED:20251201T080852Z
DESCRIPTION:1° Divisione\nBegegnungs-Nr: 14\nHeim: Locarno\nGast: Lugano III\n\nAdresse: Via alla Morettina 3\, 6600 Locarno\n
LOCATION:Via alla Morettina 3\, 6600 Locarno
CATEGORIES:Saison 2025/26
END:VEVENT
BEGIN:VEVENT
DTSTAMP:20260424T133958Z
DTSTART;TZID=Europe/Berlin:20260123T201500
DTEND;TZID=Europe/Berlin:20260123T231500
SUMMARY:1° Divisione ABTT II vs Lugano III (19)
UID:29334dde-a747-4e36-a312-747b2d44324c
STATUS:CONFIRMED
LAST-MODIFIED:20260126T072651Z
DESCRIPTION:1° Divisione\nBegegnungs-Nr: 19\nHeim: ABTT II\nGast: Lugano III\n\nAdresse: Francesco Chiesa 2a\, 6500 Bellinzona\n
LOCATION:Francesco Chiesa 2a\, 6500 Bellinzona
CATEGORIES:Saison 2025/26
END:VEVENT
BEGIN:VEVENT
DTSTAMP:20260424T133958Z
DTSTART;TZID=Europe/Berlin:20260203T203000
DTEND;TZID=Europe/Berlin:20260203T233000
SUMMARY:1° Divisione Locarno II vs Lugano III (24)
UID:ef6a3cd1-228c-4681-9c8a-503d976a8b0a
STATUS:CONFIRMED
LAST-MODIFIED:20260205T134905Z
DESCRIPTION:1° Divisione\nBegegnungs-Nr: 24\nHeim: Locarno II\nGast: Lugano III\n\nAdresse: Via alla Morettina 3\, 6600 Locarno\n
LOCATION:Via alla Morettina 3\, 6600 Locarno
CATEGORIES:Saison 2025/26
END:VEVENT
END:VCALENDAR
