BEGIN:VCALENDAR
PRODID:-//nuDatenautomaten//framework iCal4j //DE
VERSION:2.0
CALSCALE:GREGORIAN
BEGIN:VTIMEZONE
TZID:Europe/Berlin
LAST-MODIFIED:20260306T231828Z
TZURL:https://www.tzurl.org/zoneinfo/Europe/Berlin
X-LIC-LOCATION:Europe/Berlin
X-PROLEPTIC-TZNAME:LMT
BEGIN:STANDARD
TZNAME:CET
TZOFFSETFROM:+005328
TZOFFSETTO:+0100
DTSTART:18930401T000000
END:STANDARD
BEGIN:DAYLIGHT
TZNAME:CEST
TZOFFSETFROM:+0100
TZOFFSETTO:+0200
DTSTART:19160430T230000
RDATE:19400401T020000
RDATE:19430329T020000
RDATE:19460414T020000
RDATE:19470406T030000
RDATE:19480418T020000
RDATE:19490410T020000
RDATE:19800406T020000
END:DAYLIGHT
BEGIN:STANDARD
TZNAME:CET
TZOFFSETFROM:+0200
TZOFFSETTO:+0100
DTSTART:19161001T010000
RDATE:19421102T030000
RDATE:19431004T030000
RDATE:19441002T030000
RDATE:19451118T030000
RDATE:19461007T030000
END:STANDARD
BEGIN:DAYLIGHT
TZNAME:CEST
TZOFFSETFROM:+0100
TZOFFSETTO:+0200
DTSTART:19170416T020000
RRULE:FREQ=YEARLY;UNTIL=19180415T010000Z;BYMONTH=4;BYDAY=3MO
END:DAYLIGHT
BEGIN:STANDARD
TZNAME:CET
TZOFFSETFROM:+0200
TZOFFSETTO:+0100
DTSTART:19170917T030000
RRULE:FREQ=YEARLY;UNTIL=19180916T010000Z;BYMONTH=9;BYDAY=3MO
END:STANDARD
BEGIN:DAYLIGHT
TZNAME:CEST
TZOFFSETFROM:+0100
TZOFFSETTO:+0200
DTSTART:19440403T020000
RRULE:FREQ=YEARLY;UNTIL=19450402T010000Z;BYMONTH=4;BYDAY=1MO
END:DAYLIGHT
BEGIN:DAYLIGHT
TZNAME:CEMT
TZOFFSETFROM:+0200
TZOFFSETTO:+0300
DTSTART:19450524T020000
RDATE:19470511T030000
END:DAYLIGHT
BEGIN:DAYLIGHT
TZNAME:CEST
TZOFFSETFROM:+0300
TZOFFSETTO:+0200
DTSTART:19450924T030000
RDATE:19470629T030000
END:DAYLIGHT
BEGIN:STANDARD
TZNAME:CET
TZOFFSETFROM:+0100
TZOFFSETTO:+0100
DTSTART:19460101T000000
RDATE:19800101T000000
END:STANDARD
BEGIN:STANDARD
TZNAME:CET
TZOFFSETFROM:+0200
TZOFFSETTO:+0100
DTSTART:19471005T030000
RRULE:FREQ=YEARLY;UNTIL=19491002T010000Z;BYMONTH=10;BYDAY=1SU
END:STANDARD
BEGIN:STANDARD
TZNAME:CET
TZOFFSETFROM:+0200
TZOFFSETTO:+0100
DTSTART:19800928T030000
RRULE:FREQ=YEARLY;UNTIL=19950924T010000Z;BYMONTH=9;BYDAY=-1SU
END:STANDARD
BEGIN:DAYLIGHT
TZNAME:CEST
TZOFFSETFROM:+0100
TZOFFSETTO:+0200
DTSTART:19810329T020000
RRULE:FREQ=YEARLY;BYMONTH=3;BYDAY=-1SU
END:DAYLIGHT
BEGIN:STANDARD
TZNAME:CET
TZOFFSETFROM:+0200
TZOFFSETTO:+0100
DTSTART:19961027T030000
RRULE:FREQ=YEARLY;BYMONTH=10;BYDAY=-1SU
END:STANDARD
END:VTIMEZONE
BEGIN:VEVENT
DTSTAMP:20260424T084049Z
DTSTART;TZID=Europe/Berlin:20251022T194500
DTEND;TZID=Europe/Berlin:20251022T224500
SUMMARY:HE 2. Liga Gr. 2 Solothurn III vs Burgdorf IV (17)
UID:bbff5143-3985-4610-beb0-6744c3217e01
STATUS:CONFIRMED
LAST-MODIFIED:20251029T220738Z
DESCRIPTION:2. Liga Herren Gruppe 2\nBegegnungs-Nr: 17\nHeim: Solothurn III\nGast: Burgdorf IV\n\nAdresse: Untere Sternengasse 24\, 4500 Solothurn\n
LOCATION:Untere Sternengasse 24\, 4500 Solothurn
CATEGORIES:Saison 2025/26
END:VEVENT
BEGIN:VEVENT
DTSTAMP:20260424T084049Z
DTSTART;TZID=Europe/Berlin:20250917T194500
DTEND;TZID=Europe/Berlin:20250917T224500
SUMMARY:HE 2. Liga Gr. 2 Solothurn III vs Port IV (10)
UID:343d5d29-6722-450a-8dd5-a2dc10c2cbe0
STATUS:CONFIRMED
LAST-MODIFIED:20250918T141258Z
DESCRIPTION:2. Liga Herren Gruppe 2\nBegegnungs-Nr: 10\nHeim: Solothurn III\nGast: Port IV\n\nAdresse: Untere Sternengasse 24\, 4500 Solothurn\n
LOCATION:Untere Sternengasse 24\, 4500 Solothurn
CATEGORIES:Saison 2025/26
END:VEVENT
BEGIN:VEVENT
DTSTAMP:20260424T084049Z
DTSTART;TZID=Europe/Berlin:20260311T194500
DTEND;TZID=Europe/Berlin:20260311T224500
SUMMARY:HE 2. Liga Gr. 2 Solothurn III vs Kirchberg (34)
UID:562b65a7-6dff-40f1-812c-2c1a01f9ff50
STATUS:CONFIRMED
LAST-MODIFIED:20260315T225748Z
DESCRIPTION:2. Liga Herren Gruppe 2\nBegegnungs-Nr: 34\nHeim: Solothurn III\nGast: Kirchberg\n\nAdresse: Untere Sternengasse 24\, 4500 Solothurn\n
LOCATION:Untere Sternengasse 24\, 4500 Solothurn
CATEGORIES:Saison 2025/26
END:VEVENT
BEGIN:VEVENT
DTSTAMP:20260424T084049Z
DTSTART;TZID=Europe/Berlin:20260128T194500
DTEND;TZID=Europe/Berlin:20260128T224500
SUMMARY:HE 2. Liga Gr. 2 Solothurn III vs Thun III (11)
UID:7382721e-e0c5-4441-b6f3-a168accab758
STATUS:CONFIRMED
LAST-MODIFIED:20260217T212142Z
DESCRIPTION:2. Liga Herren Gruppe 2\nBegegnungs-Nr: 11\nHeim: Solothurn III\nGast: Thun III\n\nAdresse: Untere Sternengasse 24\, 4500 Solothurn\n
LOCATION:Untere Sternengasse 24\, 4500 Solothurn
CATEGORIES:Saison 2025/26
END:VEVENT
BEGIN:VEVENT
DTSTAMP:20260424T084049Z
DTSTART;TZID=Europe/Berlin:20260107T194500
DTEND;TZID=Europe/Berlin:20260107T224500
SUMMARY:HE 2. Liga Gr. 2 Solothurn III vs Royal Bern (4)
UID:72838a8f-75bf-4008-adfa-e3a34a6a419d
STATUS:CONFIRMED
LAST-MODIFIED:20260125T000205Z
DESCRIPTION:2. Liga Herren Gruppe 2\nBegegnungs-Nr: 4\nHeim: Solothurn III\nGast: Royal Bern\n\nAdresse: Untere Sternengasse 24\, 4500 Solothurn\n
LOCATION:Untere Sternengasse 24\, 4500 Solothurn
CATEGORIES:Saison 2025/26
END:VEVENT
BEGIN:VEVENT
DTSTAMP:20260424T084049Z
DTSTART;TZID=Europe/Berlin:20260318T194500
DTEND;TZID=Europe/Berlin:20260318T224500
SUMMARY:HE 2. Liga Gr. 2 Solothurn III vs Bern II (39)
UID:a1478bf4-2d82-4bdf-bb29-1ce9b432d480
STATUS:CONFIRMED
LAST-MODIFIED:20260327T143249Z
DESCRIPTION:2. Liga Herren Gruppe 2\nBegegnungs-Nr: 39\nHeim: Solothurn III\nGast: Bern II\n\nAdresse: Untere Sternengasse 24\, 4500 Solothurn\n
LOCATION:Untere Sternengasse 24\, 4500 Solothurn
CATEGORIES:Saison 2025/26
END:VEVENT
BEGIN:VEVENT
DTSTAMP:20260424T084049Z
DTSTART;TZID=Europe/Berlin:20251219T200000
DTEND;TZID=Europe/Berlin:20251219T230000
SUMMARY:HE 2. Liga Gr. 2 Solothurn III vs Grenchen (44)
UID:0cdf675d-a7bb-408d-bbda-cdbd31519615
STATUS:CONFIRMED
LAST-MODIFIED:20251223T090858Z
DESCRIPTION:2. Liga Herren Gruppe 2\nBegegnungs-Nr: 44\nHeim: Solothurn III\nGast: Grenchen\n\nAdresse: Untere Sternengasse 24\, 4500 Solothurn\n
LOCATION:Untere Sternengasse 24\, 4500 Solothurn
CATEGORIES:Saison 2025/26
END:VEVENT
BEGIN:VEVENT
DTSTAMP:20260424T084049Z
DTSTART;TZID=Europe/Berlin:20251119T194500
DTEND;TZID=Europe/Berlin:20251119T224500
SUMMARY:HE 2. Liga Gr. 2 Solothurn III vs Köniz (28)
UID:6c343324-2ae0-41ed-a3f1-d26959130623
STATUS:CONFIRMED
LAST-MODIFIED:20251122T091527Z
DESCRIPTION:2. Liga Herren Gruppe 2\nBegegnungs-Nr: 28\nHeim: Solothurn III\nGast: Köniz\n\nAdresse: Untere Sternengasse 24\, 4500 Solothurn\n
LOCATION:Untere Sternengasse 24\, 4500 Solothurn
CATEGORIES:Saison 2025/26
END:VEVENT
BEGIN:VEVENT
DTSTAMP:20260424T084049Z
DTSTART;TZID=Europe/Berlin:20251105T194500
DTEND;TZID=Europe/Berlin:20251105T224500
SUMMARY:HE 2. Liga Gr. 2 Solothurn III vs Wohlensee (25)
UID:e6877f2c-f313-412f-ad16-a2f2f957b0de
STATUS:CONFIRMED
LAST-MODIFIED:20251115T171225Z
DESCRIPTION:2. Liga Herren Gruppe 2\nBegegnungs-Nr: 25\nHeim: Solothurn III\nGast: Wohlensee\n\nAdresse: Untere Sternengasse 24\, 4500 Solothurn\n
LOCATION:Untere Sternengasse 24\, 4500 Solothurn
CATEGORIES:Saison 2025/26
END:VEVENT
BEGIN:VEVENT
DTSTAMP:20260424T084049Z
DTSTART;TZID=Europe/Berlin:20251108T130000
DTEND;TZID=Europe/Berlin:20251108T160000
SUMMARY:HE 2. Liga Gr. 2 Thun III vs Solothurn III (11)
UID:a98bb262-cd6e-4d0c-b1db-8ca41bf2b169
STATUS:CONFIRMED
LAST-MODIFIED:20251115T171400Z
DESCRIPTION:2. Liga Herren Gruppe 2\nBegegnungs-Nr: 11\nHeim: Thun III\nGast: Solothurn III\n\nAdresse: Hallerstrasse 28\, 3604 Thun\n
LOCATION:Hallerstrasse 28\, 3604 Thun
CATEGORIES:Saison 2025/26
END:VEVENT
BEGIN:VEVENT
DTSTAMP:20260424T084049Z
DTSTART;TZID=Europe/Berlin:20250903T194500
DTEND;TZID=Europe/Berlin:20250903T224500
SUMMARY:HE 2. Liga Gr. 2 Royal Bern vs Solothurn III (4)
UID:98c18903-cd00-49cc-8b7b-1dbc6de549c1
STATUS:CONFIRMED
LAST-MODIFIED:20250907T200238Z
DESCRIPTION:2. Liga Herren Gruppe 2\nBegegnungs-Nr: 4\nHeim: Royal Bern\nGast: Solothurn III\n\nAdresse: Dändlikerweg 60\, 3014 Bern\n
LOCATION:Dändlikerweg 60\, 3014 Bern
CATEGORIES:Saison 2025/26
END:VEVENT
BEGIN:VEVENT
DTSTAMP:20260424T084049Z
DTSTART;TZID=Europe/Berlin:20260302T200000
DTEND;TZID=Europe/Berlin:20260302T230000
SUMMARY:HE 2. Liga Gr. 2 Köniz vs Solothurn III (28)
UID:169eb79e-22ea-4db9-af59-91cfeaa03efe
STATUS:CONFIRMED
LAST-MODIFIED:20260308T173401Z
DESCRIPTION:2. Liga Herren Gruppe 2\nBegegnungs-Nr: 28\nHeim: Köniz\nGast: Solothurn III\n\nAdresse: Kirchstrasse 72-76\, 3084 Wabern\n
LOCATION:Kirchstrasse 72-76\, 3084 Wabern
CATEGORIES:Saison 2025/26
END:VEVENT
BEGIN:VEVENT
DTSTAMP:20260424T084049Z
DTSTART;TZID=Europe/Berlin:20260225T193000
DTEND;TZID=Europe/Berlin:20260225T223000
SUMMARY:HE 2. Liga Gr. 2 Wohlensee vs Solothurn III (25)
UID:8e9a0a35-b4ef-49d2-87b3-36371c49732a
STATUS:CONFIRMED
LAST-MODIFIED:20260302T144420Z
DESCRIPTION:2. Liga Herren Gruppe 2\nBegegnungs-Nr: 25\nHeim: Wohlensee\nGast: Solothurn III\n\nAdresse: Kappelenring 36 a\, 3032 Hinterkappelen\n
LOCATION:Kappelenring 36 a\, 3032 Hinterkappelen
CATEGORIES:Saison 2025/26
END:VEVENT
BEGIN:VEVENT
DTSTAMP:20260424T084049Z
DTSTART;TZID=Europe/Berlin:20260213T193000
DTEND;TZID=Europe/Berlin:20260213T223000
SUMMARY:HE 2. Liga Gr. 2 Burgdorf IV vs Solothurn III (17)
UID:3fa5040f-dad3-4479-9a20-67db0a9f1afa
STATUS:CONFIRMED
LAST-MODIFIED:20260217T212616Z
DESCRIPTION:2. Liga Herren Gruppe 2\nBegegnungs-Nr: 17\nHeim: Burgdorf IV\nGast: Solothurn III\n\nAdresse: Pestalozzistrasse 69\, 3400 Burgdorf\n
LOCATION:Pestalozzistrasse 69\, 3400 Burgdorf
CATEGORIES:Saison 2025/26
END:VEVENT
BEGIN:VEVENT
DTSTAMP:20260424T084049Z
DTSTART;TZID=Europe/Berlin:20260116T194500
DTEND;TZID=Europe/Berlin:20260116T224500
SUMMARY:HE 2. Liga Gr. 2 Port IV vs Solothurn III (10)
UID:4baf3596-9204-4c6d-9113-d47d9a65e1ff
STATUS:CONFIRMED
LAST-MODIFIED:20260125T000239Z
DESCRIPTION:2. Liga Herren Gruppe 2\nBegegnungs-Nr: 10\nHeim: Port IV\nGast: Solothurn III\n\nAdresse: Allmendstrasse 23\, 2562 Port\n
LOCATION:Allmendstrasse 23\, 2562 Port
CATEGORIES:Saison 2025/26
END:VEVENT
BEGIN:VEVENT
DTSTAMP:20260424T084049Z
DTSTART;TZID=Europe/Berlin:20260327T194500
DTEND;TZID=Europe/Berlin:20260327T224500
SUMMARY:HE 2. Liga Gr. 2 Grenchen vs Solothurn III (44)
UID:ac57db22-23bd-4970-bdec-265b2a079a78
STATUS:CONFIRMED
LAST-MODIFIED:20260409T122843Z
DESCRIPTION:2. Liga Herren Gruppe 2\nBegegnungs-Nr: 44\nHeim: Grenchen\nGast: Solothurn III\n\nAdresse: Witmattstrasse\, 2540 Grenchen\n
LOCATION:Witmattstrasse\, 2540 Grenchen
CATEGORIES:Saison 2025/26
END:VEVENT
BEGIN:VEVENT
DTSTAMP:20260424T084049Z
DTSTART;TZID=Europe/Berlin:20251117T193000
DTEND;TZID=Europe/Berlin:20251117T223000
SUMMARY:HE 2. Liga Gr. 2 Bern II vs Solothurn III (39)
UID:dd9284f1-e332-4bb5-b4cf-708a63c9bda6
STATUS:CONFIRMED
LAST-MODIFIED:20251122T091622Z
DESCRIPTION:2. Liga Herren Gruppe 2\nBegegnungs-Nr: 39\nHeim: Bern II\nGast: Solothurn III\n\nAdresse: Mädergutstrasse 58\, 3018 Bern\n
LOCATION:Mädergutstrasse 58\, 3018 Bern
CATEGORIES:Saison 2025/26
END:VEVENT
BEGIN:VEVENT
DTSTAMP:20260424T084049Z
DTSTART;TZID=Europe/Berlin:20250909T194500
DTEND;TZID=Europe/Berlin:20250909T224500
SUMMARY:HE 2. Liga Gr. 2 Kirchberg vs Solothurn III (34)
UID:7d1c18b1-318c-4b5e-8009-f791409501a4
STATUS:CONFIRMED
LAST-MODIFIED:20250918T141341Z
DESCRIPTION:2. Liga Herren Gruppe 2\nBegegnungs-Nr: 34\nHeim: Kirchberg\nGast: Solothurn III\n\nAdresse: Reinhardweg\, 3422 Kirchberg\n
LOCATION:Reinhardweg\, 3422 Kirchberg
CATEGORIES:Saison 2025/26
END:VEVENT
END:VCALENDAR
