BEGIN:VCALENDAR
PRODID:-//nuDatenautomaten//framework iCal4j //DE
VERSION:2.0
CALSCALE:GREGORIAN
BEGIN:VTIMEZONE
TZID:Europe/Berlin
LAST-MODIFIED:20260306T231828Z
TZURL:https://www.tzurl.org/zoneinfo/Europe/Berlin
X-LIC-LOCATION:Europe/Berlin
X-PROLEPTIC-TZNAME:LMT
BEGIN:STANDARD
TZNAME:CET
TZOFFSETFROM:+005328
TZOFFSETTO:+0100
DTSTART:18930401T000000
END:STANDARD
BEGIN:DAYLIGHT
TZNAME:CEST
TZOFFSETFROM:+0100
TZOFFSETTO:+0200
DTSTART:19160430T230000
RDATE:19400401T020000
RDATE:19430329T020000
RDATE:19460414T020000
RDATE:19470406T030000
RDATE:19480418T020000
RDATE:19490410T020000
RDATE:19800406T020000
END:DAYLIGHT
BEGIN:STANDARD
TZNAME:CET
TZOFFSETFROM:+0200
TZOFFSETTO:+0100
DTSTART:19161001T010000
RDATE:19421102T030000
RDATE:19431004T030000
RDATE:19441002T030000
RDATE:19451118T030000
RDATE:19461007T030000
END:STANDARD
BEGIN:DAYLIGHT
TZNAME:CEST
TZOFFSETFROM:+0100
TZOFFSETTO:+0200
DTSTART:19170416T020000
RRULE:FREQ=YEARLY;UNTIL=19180415T010000Z;BYMONTH=4;BYDAY=3MO
END:DAYLIGHT
BEGIN:STANDARD
TZNAME:CET
TZOFFSETFROM:+0200
TZOFFSETTO:+0100
DTSTART:19170917T030000
RRULE:FREQ=YEARLY;UNTIL=19180916T010000Z;BYMONTH=9;BYDAY=3MO
END:STANDARD
BEGIN:DAYLIGHT
TZNAME:CEST
TZOFFSETFROM:+0100
TZOFFSETTO:+0200
DTSTART:19440403T020000
RRULE:FREQ=YEARLY;UNTIL=19450402T010000Z;BYMONTH=4;BYDAY=1MO
END:DAYLIGHT
BEGIN:DAYLIGHT
TZNAME:CEMT
TZOFFSETFROM:+0200
TZOFFSETTO:+0300
DTSTART:19450524T020000
RDATE:19470511T030000
END:DAYLIGHT
BEGIN:DAYLIGHT
TZNAME:CEST
TZOFFSETFROM:+0300
TZOFFSETTO:+0200
DTSTART:19450924T030000
RDATE:19470629T030000
END:DAYLIGHT
BEGIN:STANDARD
TZNAME:CET
TZOFFSETFROM:+0100
TZOFFSETTO:+0100
DTSTART:19460101T000000
RDATE:19800101T000000
END:STANDARD
BEGIN:STANDARD
TZNAME:CET
TZOFFSETFROM:+0200
TZOFFSETTO:+0100
DTSTART:19471005T030000
RRULE:FREQ=YEARLY;UNTIL=19491002T010000Z;BYMONTH=10;BYDAY=1SU
END:STANDARD
BEGIN:STANDARD
TZNAME:CET
TZOFFSETFROM:+0200
TZOFFSETTO:+0100
DTSTART:19800928T030000
RRULE:FREQ=YEARLY;UNTIL=19950924T010000Z;BYMONTH=9;BYDAY=-1SU
END:STANDARD
BEGIN:DAYLIGHT
TZNAME:CEST
TZOFFSETFROM:+0100
TZOFFSETTO:+0200
DTSTART:19810329T020000
RRULE:FREQ=YEARLY;BYMONTH=3;BYDAY=-1SU
END:DAYLIGHT
BEGIN:STANDARD
TZNAME:CET
TZOFFSETFROM:+0200
TZOFFSETTO:+0100
DTSTART:19961027T030000
RRULE:FREQ=YEARLY;BYMONTH=10;BYDAY=-1SU
END:STANDARD
END:VTIMEZONE
BEGIN:VEVENT
DTSTAMP:20260424T115004Z
DTSTART;TZID=Europe/Berlin:20250912T193000
DTEND;TZID=Europe/Berlin:20250912T223000
SUMMARY:ME L4 Gr 5\, Tours 1&2 Estavayer vs Avry-Rosé III (0)
UID:c501ce57-0bde-4e18-a05c-ad037d68194e
STATUS:CONFIRMED
LAST-MODIFIED:20250917T194901Z
DESCRIPTION:4ème ligue Hommes Groupe 5\, Tours 1&2\nBegegnungs-Nr: 0\nHeim: Estavayer\nGast: Avry-Rosé III\n\nAdresse: Avenue de la Gare 111\, 1470 Estavayer-le-Lac\n
LOCATION:Avenue de la Gare 111\, 1470 Estavayer-le-Lac
CATEGORIES:Saison 2025/26
END:VEVENT
BEGIN:VEVENT
DTSTAMP:20260424T115004Z
DTSTART;TZID=Europe/Berlin:20250919T193000
DTEND;TZID=Europe/Berlin:20250919T223000
SUMMARY:ME L4 Gr 5\, Tours 1&2 Estavayer vs Cheyres (0)
UID:f6f8d2cb-83fd-491d-ac2c-e694792a5e41
STATUS:CONFIRMED
LAST-MODIFIED:20250922T150932Z
DESCRIPTION:4ème ligue Hommes Groupe 5\, Tours 1&2\nBegegnungs-Nr: 0\nHeim: Estavayer\nGast: Cheyres\n\nAdresse: Avenue de la Gare 111\, 1470 Estavayer-le-Lac\n
LOCATION:Avenue de la Gare 111\, 1470 Estavayer-le-Lac
CATEGORIES:Saison 2025/26
END:VEVENT
BEGIN:VEVENT
DTSTAMP:20260424T115004Z
DTSTART;TZID=Europe/Berlin:20251010T193000
DTEND;TZID=Europe/Berlin:20251010T223000
SUMMARY:ME L4 Gr 5\, Tours 1&2 Estavayer vs Ependes (0)
UID:a8507fb3-b9d9-4fa8-9863-33277f4da783
STATUS:CONFIRMED
LAST-MODIFIED:20251012T200700Z
DESCRIPTION:4ème ligue Hommes Groupe 5\, Tours 1&2\nBegegnungs-Nr: 0\nHeim: Estavayer\nGast: Ependes\n\nAdresse: Avenue de la Gare 111\, 1470 Estavayer-le-Lac\n
LOCATION:Avenue de la Gare 111\, 1470 Estavayer-le-Lac
CATEGORIES:Saison 2025/26
END:VEVENT
BEGIN:VEVENT
DTSTAMP:20260424T115004Z
DTSTART;TZID=Europe/Berlin:20251107T193000
DTEND;TZID=Europe/Berlin:20251107T223000
SUMMARY:ME L4 Gr 5\, Tours 1&2 Estavayer vs Ependes II (0)
UID:2032e9f9-ddd8-4e44-b6c0-21553e989b75
STATUS:CONFIRMED
LAST-MODIFIED:20251109T122746Z
DESCRIPTION:4ème ligue Hommes Groupe 5\, Tours 1&2\nBegegnungs-Nr: 0\nHeim: Estavayer\nGast: Ependes II\n\nAdresse: Avenue de la Gare 111\, 1470 Estavayer-le-Lac\n
LOCATION:Avenue de la Gare 111\, 1470 Estavayer-le-Lac
CATEGORIES:Saison 2025/26
END:VEVENT
BEGIN:VEVENT
DTSTAMP:20260424T115004Z
DTSTART;TZID=Europe/Berlin:20251128T193000
DTEND;TZID=Europe/Berlin:20251128T223000
SUMMARY:ME L4 Gr 5\, Tours 1&2 Estavayer vs Domdidier (0)
UID:1c26a7a5-f9ba-4008-b0e5-c31d183fbec4
STATUS:CONFIRMED
LAST-MODIFIED:20251130T120801Z
DESCRIPTION:4ème ligue Hommes Groupe 5\, Tours 1&2\nBegegnungs-Nr: 0\nHeim: Estavayer\nGast: Domdidier\n\nAdresse: Avenue de la Gare 111\, 1470 Estavayer-le-Lac\n
LOCATION:Avenue de la Gare 111\, 1470 Estavayer-le-Lac
CATEGORIES:Saison 2025/26
END:VEVENT
BEGIN:VEVENT
DTSTAMP:20260424T115004Z
DTSTART;TZID=Europe/Berlin:20260123T193000
DTEND;TZID=Europe/Berlin:20260123T223000
SUMMARY:ME L4 Gr 3\, Tours 3&4 Estavayer vs Fribourg VII (0)
UID:2d31827e-6294-4dd0-a737-7ee176a4b708
STATUS:CONFIRMED
LAST-MODIFIED:20260124T154558Z
DESCRIPTION:4ème ligue Hommes Groupe 3\, Tours 3&4\nBegegnungs-Nr: 0\nHeim: Estavayer\nGast: Fribourg VII\n\nAdresse: Avenue de la Gare 111\, 1470 Estavayer-le-Lac\n
LOCATION:Avenue de la Gare 111\, 1470 Estavayer-le-Lac
CATEGORIES:Saison 2025/26
END:VEVENT
BEGIN:VEVENT
DTSTAMP:20260424T115004Z
DTSTART;TZID=Europe/Berlin:20260302T200000
DTEND;TZID=Europe/Berlin:20260302T230000
SUMMARY:ME L4 Gr 3\, Tours 3&4 Estavayer vs Fribourg VI (0)
UID:01a832e6-b1da-4fd4-8dbf-79e967676b18
STATUS:CONFIRMED
LAST-MODIFIED:20260303T223841Z
DESCRIPTION:4ème ligue Hommes Groupe 3\, Tours 3&4\nBegegnungs-Nr: 0\nHeim: Estavayer\nGast: Fribourg VI\n\nAdresse: Avenue de la Gare 111\, 1470 Estavayer-le-Lac\n
LOCATION:Avenue de la Gare 111\, 1470 Estavayer-le-Lac
CATEGORIES:Saison 2025/26
END:VEVENT
BEGIN:VEVENT
DTSTAMP:20260424T115004Z
DTSTART;TZID=Europe/Berlin:20260313T193000
DTEND;TZID=Europe/Berlin:20260313T223000
SUMMARY:ME L4 Gr 3\, Tours 3&4 Estavayer vs Cheyres (0)
UID:63f19896-e0ca-43ee-8093-46ab019c48f9
STATUS:CONFIRMED
LAST-MODIFIED:20260314T163445Z
DESCRIPTION:4ème ligue Hommes Groupe 3\, Tours 3&4\nBegegnungs-Nr: 0\nHeim: Estavayer\nGast: Cheyres\n\nAdresse: Avenue de la Gare 111\, 1470 Estavayer-le-Lac\n
LOCATION:Avenue de la Gare 111\, 1470 Estavayer-le-Lac
CATEGORIES:Saison 2025/26
END:VEVENT
BEGIN:VEVENT
DTSTAMP:20260424T115004Z
DTSTART;TZID=Europe/Berlin:20260424T193000
DTEND;TZID=Europe/Berlin:20260424T223000
SUMMARY:ME L4 Gr 3\, Tours 3&4 Estavayer vs Yverdon VI (0)
UID:5d87e8d8-585b-42b6-80e2-8d5c93ca9f08
STATUS:CONFIRMED
DESCRIPTION:4ème ligue Hommes Groupe 3\, Tours 3&4\nBegegnungs-Nr: 0\nHeim: Estavayer\nGast: Yverdon VI\n\nAdresse: Avenue de la Gare 111\, 1470 Estavayer-le-Lac\n
LOCATION:Avenue de la Gare 111\, 1470 Estavayer-le-Lac
CATEGORIES:Saison 2025/26
END:VEVENT
BEGIN:VEVENT
DTSTAMP:20260424T115004Z
DTSTART;TZID=Europe/Berlin:20260501T193000
DTEND;TZID=Europe/Berlin:20260501T223000
SUMMARY:ME L4 Gr 3\, Tours 3&4 Estavayer vs Mézières II (0)
UID:c55f78d2-b91f-4019-a0f5-244e018c1ce7
STATUS:CONFIRMED
DESCRIPTION:4ème ligue Hommes Groupe 3\, Tours 3&4\nBegegnungs-Nr: 0\nHeim: Estavayer\nGast: Mézières II\n\nAdresse: Avenue de la Gare 111\, 1470 Estavayer-le-Lac\n
LOCATION:Avenue de la Gare 111\, 1470 Estavayer-le-Lac
CATEGORIES:Saison 2025/26
END:VEVENT
BEGIN:VEVENT
DTSTAMP:20260424T115004Z
DTSTART;TZID=Europe/Berlin:20250910T194500
DTEND;TZID=Europe/Berlin:20250910T224500
SUMMARY:ME L4 Gr 5\, Tours 1&2 Ependes II vs Estavayer (0)
UID:06604605-d2c1-4260-a397-4f1121107602
STATUS:CONFIRMED
LAST-MODIFIED:20250911T185014Z
DESCRIPTION:4ème ligue Hommes Groupe 5\, Tours 1&2\nBegegnungs-Nr: 0\nHeim: Ependes II\nGast: Estavayer\n\nAdresse: -\, 1731 Ependes FR\n
LOCATION:-\, 1731 Ependes FR
CATEGORIES:Saison 2025/26
END:VEVENT
BEGIN:VEVENT
DTSTAMP:20260424T115004Z
DTSTART;TZID=Europe/Berlin:20250929T201500
DTEND;TZID=Europe/Berlin:20250929T231500
SUMMARY:ME L4 Gr 5\, Tours 1&2 Domdidier vs Estavayer (0)
UID:58d92178-d4f7-4a0b-a00e-f815aaebb9b2
STATUS:CONFIRMED
LAST-MODIFIED:20250930T095819Z
DESCRIPTION:4ème ligue Hommes Groupe 5\, Tours 1&2\nBegegnungs-Nr: 0\nHeim: Domdidier\nGast: Estavayer\n\nAdresse: Pré-de-la-Cour\, 1564 Domdidier\n
LOCATION:Pré-de-la-Cour\, 1564 Domdidier
CATEGORIES:Saison 2025/26
END:VEVENT
BEGIN:VEVENT
DTSTAMP:20260424T115004Z
DTSTART;TZID=Europe/Berlin:20251030T193000
DTEND;TZID=Europe/Berlin:20251030T223000
SUMMARY:ME L4 Gr 5\, Tours 1&2 Avry-Rosé III vs Estavayer (0)
UID:4f142a04-7214-46df-8898-6aca2e83bcd5
STATUS:CONFIRMED
LAST-MODIFIED:20251101T154036Z
DESCRIPTION:4ème ligue Hommes Groupe 5\, Tours 1&2\nBegegnungs-Nr: 0\nHeim: Avry-Rosé III\nGast: Estavayer\n\nAdresse: Route du Château 15\, 1754 Avry-sur-Matran\n
LOCATION:Route du Château 15\, 1754 Avry-sur-Matran
CATEGORIES:Saison 2025/26
END:VEVENT
BEGIN:VEVENT
DTSTAMP:20260424T115004Z
DTSTART;TZID=Europe/Berlin:20251120T194500
DTEND;TZID=Europe/Berlin:20251120T224500
SUMMARY:ME L4 Gr 5\, Tours 1&2 Cheyres vs Estavayer (0)
UID:45fe29a7-f816-471c-ac39-29c147f2ebf0
STATUS:CONFIRMED
LAST-MODIFIED:20251123T122924Z
DESCRIPTION:4ème ligue Hommes Groupe 5\, Tours 1&2\nBegegnungs-Nr: 0\nHeim: Cheyres\nGast: Estavayer\n\nAdresse: Rue de la Gare 10\, 1468 Cheyres\n
LOCATION:Rue de la Gare 10\, 1468 Cheyres
CATEGORIES:Saison 2025/26
END:VEVENT
BEGIN:VEVENT
DTSTAMP:20260424T115004Z
DTSTART;TZID=Europe/Berlin:20251210T194500
DTEND;TZID=Europe/Berlin:20251210T224500
SUMMARY:ME L4 Gr 5\, Tours 1&2 Ependes vs Estavayer (0)
UID:2760b980-b8ae-4c7b-bf85-bfc756224216
STATUS:CONFIRMED
LAST-MODIFIED:20251215T184505Z
DESCRIPTION:4ème ligue Hommes Groupe 5\, Tours 1&2\nBegegnungs-Nr: 0\nHeim: Ependes\nGast: Estavayer\n\nAdresse: -\, 1731 Ependes FR\n
LOCATION:-\, 1731 Ependes FR
CATEGORIES:Saison 2025/26
END:VEVENT
BEGIN:VEVENT
DTSTAMP:20260424T115004Z
DTSTART;TZID=Europe/Berlin:20260115T194500
DTEND;TZID=Europe/Berlin:20260115T224500
SUMMARY:ME L4 Gr 3\, Tours 3&4 Cheyres vs Estavayer (0)
UID:9bd00d87-ec90-4deb-8ed9-7660cc3a78d7
STATUS:CONFIRMED
LAST-MODIFIED:20260117T130852Z
DESCRIPTION:4ème ligue Hommes Groupe 3\, Tours 3&4\nBegegnungs-Nr: 0\nHeim: Cheyres\nGast: Estavayer\n\nAdresse: Rue de la Gare 10\, 1468 Cheyres\n
LOCATION:Rue de la Gare 10\, 1468 Cheyres
CATEGORIES:Saison 2025/26
END:VEVENT
BEGIN:VEVENT
DTSTAMP:20260424T115004Z
DTSTART;TZID=Europe/Berlin:20260209T201500
DTEND;TZID=Europe/Berlin:20260209T231500
SUMMARY:ME L4 Gr 3\, Tours 3&4 Yverdon VI vs Estavayer (0)
UID:7afe7823-dfba-460e-adcb-9361e41c5a06
STATUS:CONFIRMED
LAST-MODIFIED:20260212T112934Z
DESCRIPTION:4ème ligue Hommes Groupe 3\, Tours 3&4\nBegegnungs-Nr: 0\nHeim: Yverdon VI\nGast: Estavayer\n\nAdresse: Avenue des Quatre Marroniers 1\, 1400 Yverdon-les-Bains\n
LOCATION:Avenue des Quatre Marroniers 1\, 1400 Yverdon-les-Bains
CATEGORIES:Saison 2025/26
END:VEVENT
BEGIN:VEVENT
DTSTAMP:20260424T115004Z
DTSTART;TZID=Europe/Berlin:20260225T200000
DTEND;TZID=Europe/Berlin:20260225T230000
SUMMARY:ME L4 Gr 3\, Tours 3&4 Mézières II vs Estavayer (0)
UID:302937d8-ca06-43c4-b18e-ee3e94dc45ef
STATUS:CONFIRMED
LAST-MODIFIED:20260225T224647Z
DESCRIPTION:4ème ligue Hommes Groupe 3\, Tours 3&4\nBegegnungs-Nr: 0\nHeim: Mézières II\nGast: Estavayer\n\nAdresse: -\, 1083 Mézières\n
LOCATION:-\, 1083 Mézières
CATEGORIES:Saison 2025/26
END:VEVENT
BEGIN:VEVENT
DTSTAMP:20260424T115004Z
DTSTART;TZID=Europe/Berlin:20260319T193000
DTEND;TZID=Europe/Berlin:20260319T223000
SUMMARY:ME L4 Gr 3\, Tours 3&4 Fribourg VII vs Estavayer (0)
UID:1221ab59-bfaf-4ae6-9a0b-e71689e5bc7b
STATUS:CONFIRMED
LAST-MODIFIED:20260321T102537Z
DESCRIPTION:4ème ligue Hommes Groupe 3\, Tours 3&4\nBegegnungs-Nr: 0\nHeim: Fribourg VII\nGast: Estavayer\n\nAdresse: Route du Centre sportif\, 1752 Villars-sur-Glâne\n
LOCATION:Route du Centre sportif\, 1752 Villars-sur-Glâne
CATEGORIES:Saison 2025/26
END:VEVENT
BEGIN:VEVENT
DTSTAMP:20260424T115004Z
DTSTART;TZID=Europe/Berlin:20260326T191500
DTEND;TZID=Europe/Berlin:20260326T221500
SUMMARY:ME L4 Gr 3\, Tours 3&4 Fribourg VI vs Estavayer (0)
UID:bf32896b-df3a-46e5-ab5f-d15e357bd79c
STATUS:CONFIRMED
LAST-MODIFIED:20260330T184712Z
DESCRIPTION:4ème ligue Hommes Groupe 3\, Tours 3&4\nBegegnungs-Nr: 0\nHeim: Fribourg VI\nGast: Estavayer\n\nAdresse: Avenue Général Guisan 61\, 1700 Fribourg\n
LOCATION:Avenue Général Guisan 61\, 1700 Fribourg
CATEGORIES:Saison 2025/26
END:VEVENT
END:VCALENDAR
