BEGIN:VCALENDAR
PRODID:-//nuDatenautomaten//framework iCal4j //DE
VERSION:2.0
CALSCALE:GREGORIAN
BEGIN:VTIMEZONE
TZID:Europe/Berlin
LAST-MODIFIED:20260306T231828Z
TZURL:https://www.tzurl.org/zoneinfo/Europe/Berlin
X-LIC-LOCATION:Europe/Berlin
X-PROLEPTIC-TZNAME:LMT
BEGIN:STANDARD
TZNAME:CET
TZOFFSETFROM:+005328
TZOFFSETTO:+0100
DTSTART:18930401T000000
END:STANDARD
BEGIN:DAYLIGHT
TZNAME:CEST
TZOFFSETFROM:+0100
TZOFFSETTO:+0200
DTSTART:19160430T230000
RDATE:19400401T020000
RDATE:19430329T020000
RDATE:19460414T020000
RDATE:19470406T030000
RDATE:19480418T020000
RDATE:19490410T020000
RDATE:19800406T020000
END:DAYLIGHT
BEGIN:STANDARD
TZNAME:CET
TZOFFSETFROM:+0200
TZOFFSETTO:+0100
DTSTART:19161001T010000
RDATE:19421102T030000
RDATE:19431004T030000
RDATE:19441002T030000
RDATE:19451118T030000
RDATE:19461007T030000
END:STANDARD
BEGIN:DAYLIGHT
TZNAME:CEST
TZOFFSETFROM:+0100
TZOFFSETTO:+0200
DTSTART:19170416T020000
RRULE:FREQ=YEARLY;UNTIL=19180415T010000Z;BYMONTH=4;BYDAY=3MO
END:DAYLIGHT
BEGIN:STANDARD
TZNAME:CET
TZOFFSETFROM:+0200
TZOFFSETTO:+0100
DTSTART:19170917T030000
RRULE:FREQ=YEARLY;UNTIL=19180916T010000Z;BYMONTH=9;BYDAY=3MO
END:STANDARD
BEGIN:DAYLIGHT
TZNAME:CEST
TZOFFSETFROM:+0100
TZOFFSETTO:+0200
DTSTART:19440403T020000
RRULE:FREQ=YEARLY;UNTIL=19450402T010000Z;BYMONTH=4;BYDAY=1MO
END:DAYLIGHT
BEGIN:DAYLIGHT
TZNAME:CEMT
TZOFFSETFROM:+0200
TZOFFSETTO:+0300
DTSTART:19450524T020000
RDATE:19470511T030000
END:DAYLIGHT
BEGIN:DAYLIGHT
TZNAME:CEST
TZOFFSETFROM:+0300
TZOFFSETTO:+0200
DTSTART:19450924T030000
RDATE:19470629T030000
END:DAYLIGHT
BEGIN:STANDARD
TZNAME:CET
TZOFFSETFROM:+0100
TZOFFSETTO:+0100
DTSTART:19460101T000000
RDATE:19800101T000000
END:STANDARD
BEGIN:STANDARD
TZNAME:CET
TZOFFSETFROM:+0200
TZOFFSETTO:+0100
DTSTART:19471005T030000
RRULE:FREQ=YEARLY;UNTIL=19491002T010000Z;BYMONTH=10;BYDAY=1SU
END:STANDARD
BEGIN:STANDARD
TZNAME:CET
TZOFFSETFROM:+0200
TZOFFSETTO:+0100
DTSTART:19800928T030000
RRULE:FREQ=YEARLY;UNTIL=19950924T010000Z;BYMONTH=9;BYDAY=-1SU
END:STANDARD
BEGIN:DAYLIGHT
TZNAME:CEST
TZOFFSETFROM:+0100
TZOFFSETTO:+0200
DTSTART:19810329T020000
RRULE:FREQ=YEARLY;BYMONTH=3;BYDAY=-1SU
END:DAYLIGHT
BEGIN:STANDARD
TZNAME:CET
TZOFFSETFROM:+0200
TZOFFSETTO:+0100
DTSTART:19961027T030000
RRULE:FREQ=YEARLY;BYMONTH=10;BYDAY=-1SU
END:STANDARD
END:VTIMEZONE
BEGIN:VEVENT
DTSTAMP:20260424T181544Z
DTSTART;TZID=Europe/Berlin:20260119T200000
DTEND;TZID=Europe/Berlin:20260119T230000
SUMMARY:HE 6. Liga Gr. 5 Dübendorf-Volketswil V vs Gossau Zuerich II (0)
UID:720f22c0-e891-4cc2-8f90-463cf813a351
STATUS:CONFIRMED
LAST-MODIFIED:20260120T154041Z
DESCRIPTION:6. Liga Herren Gruppe 5\nBegegnungs-Nr: 0\nHeim: Dübendorf-Volketswil V\nGast: Gossau Zuerich II\n\nAdresse: Usterstrasse 35\, 8604 Volketswil\n
LOCATION:Usterstrasse 35\, 8604 Volketswil
CATEGORIES:Saison 2025/26
END:VEVENT
BEGIN:VEVENT
DTSTAMP:20260424T181544Z
DTSTART;TZID=Europe/Berlin:20260302T200000
DTEND;TZID=Europe/Berlin:20260302T230000
SUMMARY:HE 6. Liga Gr. 5 Dübendorf-Volketswil V vs Kloten V (0)
UID:226b9e17-50c1-4512-ac9c-08678c949bd7
STATUS:CONFIRMED
LAST-MODIFIED:20260303T132816Z
DESCRIPTION:6. Liga Herren Gruppe 5\nBegegnungs-Nr: 0\nHeim: Dübendorf-Volketswil V\nGast: Kloten V\n\nAdresse: Usterstrasse 35\, 8604 Volketswil\n
LOCATION:Usterstrasse 35\, 8604 Volketswil
CATEGORIES:Saison 2025/26
END:VEVENT
BEGIN:VEVENT
DTSTAMP:20260424T181544Z
DTSTART;TZID=Europe/Berlin:20260323T200000
DTEND;TZID=Europe/Berlin:20260323T230000
SUMMARY:HE 6. Liga Gr. 5 Dübendorf-Volketswil V vs Wolfhausen III (0)
UID:1ae80c6e-9208-43ca-9175-ad68a37fc3dd
STATUS:CONFIRMED
LAST-MODIFIED:20260326T154708Z
DESCRIPTION:6. Liga Herren Gruppe 5\nBegegnungs-Nr: 0\nHeim: Dübendorf-Volketswil V\nGast: Wolfhausen III\n\nAdresse: Usterstrasse 35\, 8604 Volketswil\n
LOCATION:Usterstrasse 35\, 8604 Volketswil
CATEGORIES:Saison 2025/26
END:VEVENT
BEGIN:VEVENT
DTSTAMP:20260424T181544Z
DTSTART;TZID=Europe/Berlin:20251117T200000
DTEND;TZID=Europe/Berlin:20251117T230000
SUMMARY:HE 6. Liga Gr. 5 Dübendorf-Volketswil V vs Greifensee II (0)
UID:2afec3f2-9442-4ed2-af19-a60c37d5a5fd
STATUS:CONFIRMED
LAST-MODIFIED:20251121T094529Z
DESCRIPTION:6. Liga Herren Gruppe 5\nBegegnungs-Nr: 0\nHeim: Dübendorf-Volketswil V\nGast: Greifensee II\n\nAdresse: Usterstrasse 35\, 8604 Volketswil\n
LOCATION:Usterstrasse 35\, 8604 Volketswil
CATEGORIES:Saison 2025/26
END:VEVENT
BEGIN:VEVENT
DTSTAMP:20260424T181544Z
DTSTART;TZID=Europe/Berlin:20251201T200000
DTEND;TZID=Europe/Berlin:20251201T230000
SUMMARY:HE 6. Liga Gr. 5 Dübendorf-Volketswil V vs Wetzikon IX (0)
UID:36c0ada9-81cc-4cb9-903c-069d84a0e539
STATUS:CONFIRMED
LAST-MODIFIED:20251205T131134Z
DESCRIPTION:6. Liga Herren Gruppe 5\nBegegnungs-Nr: 0\nHeim: Dübendorf-Volketswil V\nGast: Wetzikon IX\n\nAdresse: Usterstrasse 35\, 8604 Volketswil\n
LOCATION:Usterstrasse 35\, 8604 Volketswil
CATEGORIES:Saison 2025/26
END:VEVENT
BEGIN:VEVENT
DTSTAMP:20260424T181544Z
DTSTART;TZID=Europe/Berlin:20250922T200000
DTEND;TZID=Europe/Berlin:20250922T230000
SUMMARY:HE 6. Liga Gr. 5 Dübendorf-Volketswil V vs Young Stars ZH VIII (0)
UID:7c7019ca-727f-420f-a89d-4b8cba45f2da
STATUS:CONFIRMED
LAST-MODIFIED:20251007T060401Z
DESCRIPTION:6. Liga Herren Gruppe 5\nBegegnungs-Nr: 0\nHeim: Dübendorf-Volketswil V\nGast: Young Stars ZH VIII\n\nAdresse: Usterstrasse 35\, 8604 Volketswil\n
LOCATION:Usterstrasse 35\, 8604 Volketswil
CATEGORIES:Saison 2025/26
END:VEVENT
BEGIN:VEVENT
DTSTAMP:20260424T181544Z
DTSTART;TZID=Europe/Berlin:20250929T200000
DTEND;TZID=Europe/Berlin:20250929T230000
SUMMARY:HE 6. Liga Gr. 5 Dübendorf-Volketswil V vs Uster V (0)
UID:e784ee82-0d85-40a9-bacd-1f26348dc274
STATUS:CONFIRMED
LAST-MODIFIED:20251004T105316Z
DESCRIPTION:6. Liga Herren Gruppe 5\nBegegnungs-Nr: 0\nHeim: Dübendorf-Volketswil V\nGast: Uster V\n\nAdresse: Usterstrasse 35\, 8604 Volketswil\n
LOCATION:Usterstrasse 35\, 8604 Volketswil
CATEGORIES:Saison 2025/26
END:VEVENT
BEGIN:VEVENT
DTSTAMP:20260424T181544Z
DTSTART;TZID=Europe/Berlin:20260109T200000
DTEND;TZID=Europe/Berlin:20260109T230000
SUMMARY:HE 6. Liga Gr. 5 Young Stars ZH VIII vs Dübendorf-Volketswil V (0)
UID:bab1d0c5-71ee-453b-91fe-1108cdf487ec
STATUS:CONFIRMED
LAST-MODIFIED:20260112T100500Z
DESCRIPTION:6. Liga Herren Gruppe 5\nBegegnungs-Nr: 0\nHeim: Young Stars ZH VIII\nGast: Dübendorf-Volketswil V\n\nAdresse: Balgriststrasse 55\, 8008 Zürich\n
LOCATION:Balgriststrasse 55\, 8008 Zürich
CATEGORIES:Saison 2025/26
END:VEVENT
BEGIN:VEVENT
DTSTAMP:20260424T181544Z
DTSTART;TZID=Europe/Berlin:20260127T201500
DTEND;TZID=Europe/Berlin:20260127T231500
SUMMARY:HE 6. Liga Gr. 5 Uster V vs Dübendorf-Volketswil V (0)
UID:9c7c7bd6-27cb-4a98-a6fb-34e6c515c7f1
STATUS:CONFIRMED
LAST-MODIFIED:20260130T124559Z
DESCRIPTION:6. Liga Herren Gruppe 5\nBegegnungs-Nr: 0\nHeim: Uster V\nGast: Dübendorf-Volketswil V\n\nAdresse: Wilstrasse 30 / Zürcherstrasse\, 8610 Uster\n
LOCATION:Wilstrasse 30 / Zürcherstrasse\, 8610 Uster
CATEGORIES:Saison 2025/26
END:VEVENT
BEGIN:VEVENT
DTSTAMP:20260424T181544Z
DTSTART;TZID=Europe/Berlin:20260310T200000
DTEND;TZID=Europe/Berlin:20260310T230000
SUMMARY:HE 6. Liga Gr. 5 Greifensee II vs Dübendorf-Volketswil V (0)
UID:2bd1b267-8fde-4464-b525-9b68bcf46349
STATUS:CONFIRMED
LAST-MODIFIED:20260313T132700Z
DESCRIPTION:6. Liga Herren Gruppe 5\nBegegnungs-Nr: 0\nHeim: Greifensee II\nGast: Dübendorf-Volketswil V\n\nAdresse: Stationsstrasse\, 8606 Nänikon\n
LOCATION:Stationsstrasse\, 8606 Nänikon
CATEGORIES:Saison 2025/26
END:VEVENT
BEGIN:VEVENT
DTSTAMP:20260424T181544Z
DTSTART;TZID=Europe/Berlin:20260413T194500
DTEND;TZID=Europe/Berlin:20260413T224500
SUMMARY:HE 6. Liga Gr. 5 Wetzikon IX vs Dübendorf-Volketswil V (0)
UID:c79a2b5b-2afe-4391-8d60-7d1e540057c0
STATUS:CONFIRMED
LAST-MODIFIED:20260420T123732Z
DESCRIPTION:6. Liga Herren Gruppe 5\nBegegnungs-Nr: 0\nHeim: Wetzikon IX\nGast: Dübendorf-Volketswil V\n\nAdresse: Usterstrasse 37\, 8620 Wetzikon\n
LOCATION:Usterstrasse 37\, 8620 Wetzikon
CATEGORIES:Saison 2025/26
END:VEVENT
BEGIN:VEVENT
DTSTAMP:20260424T181544Z
DTSTART;TZID=Europe/Berlin:20251113T194500
DTEND;TZID=Europe/Berlin:20251113T224500
SUMMARY:HE 6. Liga Gr. 5 Kloten V vs Dübendorf-Volketswil V (0)
UID:cb5cec3d-38a7-4487-953f-0927ccf5b6c6
STATUS:CONFIRMED
LAST-MODIFIED:20251114T165710Z
DESCRIPTION:6. Liga Herren Gruppe 5\nBegegnungs-Nr: 0\nHeim: Kloten V\nGast: Dübendorf-Volketswil V\n\nAdresse: Schluefweg 10\, 8302 Kloten\n
LOCATION:Schluefweg 10\, 8302 Kloten
CATEGORIES:Saison 2025/26
END:VEVENT
BEGIN:VEVENT
DTSTAMP:20260424T181544Z
DTSTART;TZID=Europe/Berlin:20251124T200000
DTEND;TZID=Europe/Berlin:20251124T230000
SUMMARY:HE 6. Liga Gr. 5 Wolfhausen III vs Dübendorf-Volketswil V (0)
UID:a7b8ad73-ea91-4d0a-b680-7bcc0a08761a
STATUS:CONFIRMED
LAST-MODIFIED:20251128T134334Z
DESCRIPTION:6. Liga Herren Gruppe 5\nBegegnungs-Nr: 0\nHeim: Wolfhausen III\nGast: Dübendorf-Volketswil V\n\nAdresse: Schulstrasse 9\, 8633 Wolfhausen\n
LOCATION:Schulstrasse 9\, 8633 Wolfhausen
CATEGORIES:Saison 2025/26
END:VEVENT
BEGIN:VEVENT
DTSTAMP:20260424T181544Z
DTSTART;TZID=Europe/Berlin:20250901T201500
DTEND;TZID=Europe/Berlin:20250901T231500
SUMMARY:HE 6. Liga Gr. 5 Gossau Zuerich II vs Dübendorf-Volketswil V (0)
UID:e6de7eea-49c9-4932-9bf3-c884e2cecf81
STATUS:CONFIRMED
LAST-MODIFIED:20250902T093333Z
DESCRIPTION:6. Liga Herren Gruppe 5\nBegegnungs-Nr: 0\nHeim: Gossau Zuerich II\nGast: Dübendorf-Volketswil V\n\nAdresse: Schulstrasse\, 8624 Grüt-Gossau\n
LOCATION:Schulstrasse\, 8624 Grüt-Gossau
CATEGORIES:Saison 2025/26
END:VEVENT
END:VCALENDAR
