BEGIN:VCALENDAR
PRODID:-//nuDatenautomaten//framework iCal4j //DE
VERSION:2.0
CALSCALE:GREGORIAN
BEGIN:VTIMEZONE
TZID:Europe/Berlin
LAST-MODIFIED:20260306T231828Z
TZURL:https://www.tzurl.org/zoneinfo/Europe/Berlin
X-LIC-LOCATION:Europe/Berlin
X-PROLEPTIC-TZNAME:LMT
BEGIN:STANDARD
TZNAME:CET
TZOFFSETFROM:+005328
TZOFFSETTO:+0100
DTSTART:18930401T000000
END:STANDARD
BEGIN:DAYLIGHT
TZNAME:CEST
TZOFFSETFROM:+0100
TZOFFSETTO:+0200
DTSTART:19160430T230000
RDATE:19400401T020000
RDATE:19430329T020000
RDATE:19460414T020000
RDATE:19470406T030000
RDATE:19480418T020000
RDATE:19490410T020000
RDATE:19800406T020000
END:DAYLIGHT
BEGIN:STANDARD
TZNAME:CET
TZOFFSETFROM:+0200
TZOFFSETTO:+0100
DTSTART:19161001T010000
RDATE:19421102T030000
RDATE:19431004T030000
RDATE:19441002T030000
RDATE:19451118T030000
RDATE:19461007T030000
END:STANDARD
BEGIN:DAYLIGHT
TZNAME:CEST
TZOFFSETFROM:+0100
TZOFFSETTO:+0200
DTSTART:19170416T020000
RRULE:FREQ=YEARLY;UNTIL=19180415T010000Z;BYMONTH=4;BYDAY=3MO
END:DAYLIGHT
BEGIN:STANDARD
TZNAME:CET
TZOFFSETFROM:+0200
TZOFFSETTO:+0100
DTSTART:19170917T030000
RRULE:FREQ=YEARLY;UNTIL=19180916T010000Z;BYMONTH=9;BYDAY=3MO
END:STANDARD
BEGIN:DAYLIGHT
TZNAME:CEST
TZOFFSETFROM:+0100
TZOFFSETTO:+0200
DTSTART:19440403T020000
RRULE:FREQ=YEARLY;UNTIL=19450402T010000Z;BYMONTH=4;BYDAY=1MO
END:DAYLIGHT
BEGIN:DAYLIGHT
TZNAME:CEMT
TZOFFSETFROM:+0200
TZOFFSETTO:+0300
DTSTART:19450524T020000
RDATE:19470511T030000
END:DAYLIGHT
BEGIN:DAYLIGHT
TZNAME:CEST
TZOFFSETFROM:+0300
TZOFFSETTO:+0200
DTSTART:19450924T030000
RDATE:19470629T030000
END:DAYLIGHT
BEGIN:STANDARD
TZNAME:CET
TZOFFSETFROM:+0100
TZOFFSETTO:+0100
DTSTART:19460101T000000
RDATE:19800101T000000
END:STANDARD
BEGIN:STANDARD
TZNAME:CET
TZOFFSETFROM:+0200
TZOFFSETTO:+0100
DTSTART:19471005T030000
RRULE:FREQ=YEARLY;UNTIL=19491002T010000Z;BYMONTH=10;BYDAY=1SU
END:STANDARD
BEGIN:STANDARD
TZNAME:CET
TZOFFSETFROM:+0200
TZOFFSETTO:+0100
DTSTART:19800928T030000
RRULE:FREQ=YEARLY;UNTIL=19950924T010000Z;BYMONTH=9;BYDAY=-1SU
END:STANDARD
BEGIN:DAYLIGHT
TZNAME:CEST
TZOFFSETFROM:+0100
TZOFFSETTO:+0200
DTSTART:19810329T020000
RRULE:FREQ=YEARLY;BYMONTH=3;BYDAY=-1SU
END:DAYLIGHT
BEGIN:STANDARD
TZNAME:CET
TZOFFSETFROM:+0200
TZOFFSETTO:+0100
DTSTART:19961027T030000
RRULE:FREQ=YEARLY;BYMONTH=10;BYDAY=-1SU
END:STANDARD
END:VTIMEZONE
BEGIN:VEVENT
DTSTAMP:20260424T103951Z
DTSTART;TZID=Europe/Berlin:20251011T140000
DTEND;TZID=Europe/Berlin:20251011T170000
SUMMARY:STTL Men Rio-Star Muttenz vs ZZ-Lancy (3)
UID:e1be0f97-c01b-480c-8f82-625be88704c0
STATUS:CONFIRMED
LAST-MODIFIED:20251016T145000Z
DESCRIPTION:Swiss Table Tennis League Men\nBegegnungs-Nr: 3\nHeim: Rio-Star Muttenz\nGast: ZZ-Lancy\n\nAdresse: Gründenstrasse 32\, 4132 Muttenz\n
LOCATION:Gründenstrasse 32\, 4132 Muttenz
CATEGORIES:Saison 2025/26
END:VEVENT
BEGIN:VEVENT
DTSTAMP:20260424T103951Z
DTSTART;TZID=Europe/Berlin:20251012T140000
DTEND;TZID=Europe/Berlin:20251012T170000
SUMMARY:STTL Men Rio-Star Muttenz vs Carouge (8)
UID:6742a384-98e0-4621-aa73-2cb9a4f56f83
STATUS:CONFIRMED
LAST-MODIFIED:20251016T145231Z
DESCRIPTION:Swiss Table Tennis League Men\nBegegnungs-Nr: 8\nHeim: Rio-Star Muttenz\nGast: Carouge\n\nAdresse: Gründenstrasse 32\, 4132 Muttenz\n
LOCATION:Gründenstrasse 32\, 4132 Muttenz
CATEGORIES:Saison 2025/26
END:VEVENT
BEGIN:VEVENT
DTSTAMP:20260424T103951Z
DTSTART;TZID=Europe/Berlin:20251115T140000
DTEND;TZID=Europe/Berlin:20251115T170000
SUMMARY:STTL Men Rio-Star Muttenz vs Lugano (17)
UID:88d520de-9692-4f48-bf4f-e7bde6fa0f96
STATUS:CONFIRMED
LAST-MODIFIED:20251117T125919Z
DESCRIPTION:Swiss Table Tennis League Men\nBegegnungs-Nr: 17\nHeim: Rio-Star Muttenz\nGast: Lugano\n\nAdresse: Gründenstrasse 32\, 4132 Muttenz\n
LOCATION:Gründenstrasse 32\, 4132 Muttenz
CATEGORIES:Saison 2025/26
END:VEVENT
BEGIN:VEVENT
DTSTAMP:20260424T103951Z
DTSTART;TZID=Europe/Berlin:20251213T133000
DTEND;TZID=Europe/Berlin:20251213T163000
SUMMARY:STTL Men Rio-Star Muttenz vs Neuhausen (28)
UID:b3138ddb-8ff5-46d5-8cb6-e40b1b3f1fc9
STATUS:CONFIRMED
LAST-MODIFIED:20251223T080313Z
DESCRIPTION:Swiss Table Tennis League Men\nBegegnungs-Nr: 28\nHeim: Rio-Star Muttenz\nGast: Neuhausen\n\nAdresse: Gründenstrasse 32\, 4132 Muttenz\n
LOCATION:Gründenstrasse 32\, 4132 Muttenz
CATEGORIES:Saison 2025/26
END:VEVENT
BEGIN:VEVENT
DTSTAMP:20260424T103951Z
DTSTART;TZID=Europe/Berlin:20260110T133000
DTEND;TZID=Europe/Berlin:20260110T163000
SUMMARY:STTL Men Rio-Star Muttenz vs Rapperswil-Jona (6)
UID:ff32e249-04b6-4935-bad0-7b6cffbfb2b0
STATUS:CONFIRMED
LAST-MODIFIED:20260112T202052Z
DESCRIPTION:Swiss Table Tennis League Men\nBegegnungs-Nr: 6\nHeim: Rio-Star Muttenz\nGast: Rapperswil-Jona\n\nAdresse: Gründenstrasse 32\, 4132 Muttenz\n
LOCATION:Gründenstrasse 32\, 4132 Muttenz
CATEGORIES:Saison 2025/26
END:VEVENT
BEGIN:VEVENT
DTSTAMP:20260424T103951Z
DTSTART;TZID=Europe/Berlin:20260111T140000
DTEND;TZID=Europe/Berlin:20260111T170000
SUMMARY:STTL Men Rio-Star Muttenz vs Young Stars ZH (11)
UID:2e26f9a3-b9e8-4415-9f54-343b75689f9f
STATUS:CONFIRMED
LAST-MODIFIED:20260112T202158Z
DESCRIPTION:Swiss Table Tennis League Men\nBegegnungs-Nr: 11\nHeim: Rio-Star Muttenz\nGast: Young Stars ZH\n\nAdresse: Gründenstrasse 32\, 4132 Muttenz\n
LOCATION:Gründenstrasse 32\, 4132 Muttenz
CATEGORIES:Saison 2025/26
END:VEVENT
BEGIN:VEVENT
DTSTAMP:20260424T103951Z
DTSTART;TZID=Europe/Berlin:20251025T163000
DTEND;TZID=Europe/Berlin:20251025T193000
SUMMARY:STTL Men Rapperswil-Jona vs Rio-Star Muttenz (10)
UID:c24b03ef-cb33-4fd7-a30d-b162809f4475
STATUS:CONFIRMED
LAST-MODIFIED:20251030T090015Z
DESCRIPTION:Swiss Table Tennis League Men\nBegegnungs-Nr: 10\nHeim: Rapperswil-Jona\nGast: Rio-Star Muttenz\n\nAdresse: Kreuzstrasse 43\, 8640 Rapperswil\n
LOCATION:Kreuzstrasse 43\, 8640 Rapperswil
CATEGORIES:Saison 2025/26
END:VEVENT
BEGIN:VEVENT
DTSTAMP:20260424T103951Z
DTSTART;TZID=Europe/Berlin:20251026T163000
DTEND;TZID=Europe/Berlin:20251026T193000
SUMMARY:STTL Men Young Stars ZH vs Rio-Star Muttenz (15)
UID:edf3e1ed-c352-4de6-8630-7b11eb32d3fd
STATUS:CONFIRMED
LAST-MODIFIED:20251030T090300Z
DESCRIPTION:Swiss Table Tennis League Men\nBegegnungs-Nr: 15\nHeim: Young Stars ZH\nGast: Rio-Star Muttenz\n\nAdresse: Seefeldstrasse 93\, 8008 Zürich\n
LOCATION:Seefeldstrasse 93\, 8008 Zürich
CATEGORIES:Saison 2025/26
END:VEVENT
BEGIN:VEVENT
DTSTAMP:20260424T103951Z
DTSTART;TZID=Europe/Berlin:20260301T150000
DTEND;TZID=Europe/Berlin:20260301T180000
SUMMARY:STTL Men ZZ-Lancy vs Rio-Star Muttenz (19)
UID:f958cb8e-3c2f-42f7-a329-a7cff206194a
STATUS:CONFIRMED
LAST-MODIFIED:20260302T215159Z
DESCRIPTION:Swiss Table Tennis League Men\nBegegnungs-Nr: 19\nHeim: ZZ-Lancy\nGast: Rio-Star Muttenz\n\nAdresse: Avenue du Curé-Baud 40\, 1212 Grand-Lancy\n
LOCATION:Avenue du Curé-Baud 40\, 1212 Grand-Lancy
CATEGORIES:Saison 2025/26
END:VEVENT
BEGIN:VEVENT
DTSTAMP:20260424T103951Z
DTSTART;TZID=Europe/Berlin:20260228T170000
DTEND;TZID=Europe/Berlin:20260228T200000
SUMMARY:STTL Men Carouge vs Rio-Star Muttenz (16)
UID:824b95e7-c576-4b6e-815d-3c9cf9a745d5
STATUS:CONFIRMED
LAST-MODIFIED:20260303T101612Z
DESCRIPTION:Swiss Table Tennis League Men\nBegegnungs-Nr: 16\nHeim: Carouge\nGast: Rio-Star Muttenz\n\nAdresse: Route de Veyrier 44\, 1227 Carouge GE\n
LOCATION:Route de Veyrier 44\, 1227 Carouge GE
CATEGORIES:Saison 2025/26
END:VEVENT
BEGIN:VEVENT
DTSTAMP:20260424T103951Z
DTSTART;TZID=Europe/Berlin:20260328T140000
DTEND;TZID=Europe/Berlin:20260328T170000
SUMMARY:STTL Men Lugano vs Rio-Star Muttenz (21)
UID:65f0c6b0-36a0-4d83-b563-3535c5d87e33
STATUS:CONFIRMED
LAST-MODIFIED:20260330T074700Z
DESCRIPTION:Swiss Table Tennis League Men\nBegegnungs-Nr: 21\nHeim: Lugano\nGast: Rio-Star Muttenz\n\nAdresse: Via del Tiglio\, 6908 Cassarate\n
LOCATION:Via del Tiglio\, 6908 Cassarate
CATEGORIES:Saison 2025/26
END:VEVENT
BEGIN:VEVENT
DTSTAMP:20260424T103951Z
DTSTART;TZID=Europe/Berlin:20251214T140000
DTEND;TZID=Europe/Berlin:20251214T170000
SUMMARY:STTL Men Neuhausen vs Rio-Star Muttenz (4)
UID:f78dbd6a-8932-4162-8d6c-e4a30b96729f
STATUS:CONFIRMED
LAST-MODIFIED:20251217T080833Z
DESCRIPTION:Swiss Table Tennis League Men\nBegegnungs-Nr: 4\nHeim: Neuhausen\nGast: Rio-Star Muttenz\n\nAdresse: Ebnatstrasse 35\, 8200 Schaffhausen\n
LOCATION:Ebnatstrasse 35\, 8200 Schaffhausen
CATEGORIES:Saison 2025/26
END:VEVENT
END:VCALENDAR
