BEGIN:VCALENDAR
PRODID:-//nuDatenautomaten//framework iCal4j //DE
VERSION:2.0
CALSCALE:GREGORIAN
BEGIN:VTIMEZONE
TZID:Europe/Berlin
LAST-MODIFIED:20260306T231828Z
TZURL:https://www.tzurl.org/zoneinfo/Europe/Berlin
X-LIC-LOCATION:Europe/Berlin
X-PROLEPTIC-TZNAME:LMT
BEGIN:STANDARD
TZNAME:CET
TZOFFSETFROM:+005328
TZOFFSETTO:+0100
DTSTART:18930401T000000
END:STANDARD
BEGIN:DAYLIGHT
TZNAME:CEST
TZOFFSETFROM:+0100
TZOFFSETTO:+0200
DTSTART:19160430T230000
RDATE:19400401T020000
RDATE:19430329T020000
RDATE:19460414T020000
RDATE:19470406T030000
RDATE:19480418T020000
RDATE:19490410T020000
RDATE:19800406T020000
END:DAYLIGHT
BEGIN:STANDARD
TZNAME:CET
TZOFFSETFROM:+0200
TZOFFSETTO:+0100
DTSTART:19161001T010000
RDATE:19421102T030000
RDATE:19431004T030000
RDATE:19441002T030000
RDATE:19451118T030000
RDATE:19461007T030000
END:STANDARD
BEGIN:DAYLIGHT
TZNAME:CEST
TZOFFSETFROM:+0100
TZOFFSETTO:+0200
DTSTART:19170416T020000
RRULE:FREQ=YEARLY;UNTIL=19180415T010000Z;BYMONTH=4;BYDAY=3MO
END:DAYLIGHT
BEGIN:STANDARD
TZNAME:CET
TZOFFSETFROM:+0200
TZOFFSETTO:+0100
DTSTART:19170917T030000
RRULE:FREQ=YEARLY;UNTIL=19180916T010000Z;BYMONTH=9;BYDAY=3MO
END:STANDARD
BEGIN:DAYLIGHT
TZNAME:CEST
TZOFFSETFROM:+0100
TZOFFSETTO:+0200
DTSTART:19440403T020000
RRULE:FREQ=YEARLY;UNTIL=19450402T010000Z;BYMONTH=4;BYDAY=1MO
END:DAYLIGHT
BEGIN:DAYLIGHT
TZNAME:CEMT
TZOFFSETFROM:+0200
TZOFFSETTO:+0300
DTSTART:19450524T020000
RDATE:19470511T030000
END:DAYLIGHT
BEGIN:DAYLIGHT
TZNAME:CEST
TZOFFSETFROM:+0300
TZOFFSETTO:+0200
DTSTART:19450924T030000
RDATE:19470629T030000
END:DAYLIGHT
BEGIN:STANDARD
TZNAME:CET
TZOFFSETFROM:+0100
TZOFFSETTO:+0100
DTSTART:19460101T000000
RDATE:19800101T000000
END:STANDARD
BEGIN:STANDARD
TZNAME:CET
TZOFFSETFROM:+0200
TZOFFSETTO:+0100
DTSTART:19471005T030000
RRULE:FREQ=YEARLY;UNTIL=19491002T010000Z;BYMONTH=10;BYDAY=1SU
END:STANDARD
BEGIN:STANDARD
TZNAME:CET
TZOFFSETFROM:+0200
TZOFFSETTO:+0100
DTSTART:19800928T030000
RRULE:FREQ=YEARLY;UNTIL=19950924T010000Z;BYMONTH=9;BYDAY=-1SU
END:STANDARD
BEGIN:DAYLIGHT
TZNAME:CEST
TZOFFSETFROM:+0100
TZOFFSETTO:+0200
DTSTART:19810329T020000
RRULE:FREQ=YEARLY;BYMONTH=3;BYDAY=-1SU
END:DAYLIGHT
BEGIN:STANDARD
TZNAME:CET
TZOFFSETFROM:+0200
TZOFFSETTO:+0100
DTSTART:19961027T030000
RRULE:FREQ=YEARLY;BYMONTH=10;BYDAY=-1SU
END:STANDARD
END:VTIMEZONE
BEGIN:VEVENT
DTSTAMP:20260424T165500Z
DTSTART;TZID=Europe/Berlin:20260203T200000
DTEND;TZID=Europe/Berlin:20260203T230000
SUMMARY:HE 6. Liga Gr. 5 Greifensee II vs Uster V (0)
UID:9502a768-ca48-43be-9f70-b4a62a2a6c7b
STATUS:CONFIRMED
LAST-MODIFIED:20260204T085803Z
DESCRIPTION:6. Liga Herren Gruppe 5\nBegegnungs-Nr: 0\nHeim: Greifensee II\nGast: Uster V\n\nAdresse: Stationsstrasse\, 8606 Nänikon\n
LOCATION:Stationsstrasse\, 8606 Nänikon
CATEGORIES:Saison 2025/26
END:VEVENT
BEGIN:VEVENT
DTSTAMP:20260424T165500Z
DTSTART;TZID=Europe/Berlin:20260317T200000
DTEND;TZID=Europe/Berlin:20260317T230000
SUMMARY:HE 6. Liga Gr. 5 Greifensee II vs Young Stars ZH VIII (0)
UID:bdc59b4c-9865-4ae2-ab44-03b23e8377b0
STATUS:CONFIRMED
LAST-MODIFIED:20260318T111235Z
DESCRIPTION:6. Liga Herren Gruppe 5\nBegegnungs-Nr: 0\nHeim: Greifensee II\nGast: Young Stars ZH VIII\n\nAdresse: Stationsstrasse\, 8606 Nänikon\n
LOCATION:Stationsstrasse\, 8606 Nänikon
CATEGORIES:Saison 2025/26
END:VEVENT
BEGIN:VEVENT
DTSTAMP:20260424T165500Z
DTSTART;TZID=Europe/Berlin:20260310T200000
DTEND;TZID=Europe/Berlin:20260310T230000
SUMMARY:HE 6. Liga Gr. 5 Greifensee II vs Dübendorf-Volketswil V (0)
UID:2bd1b267-8fde-4464-b525-9b68bcf46349
STATUS:CONFIRMED
LAST-MODIFIED:20260313T132700Z
DESCRIPTION:6. Liga Herren Gruppe 5\nBegegnungs-Nr: 0\nHeim: Greifensee II\nGast: Dübendorf-Volketswil V\n\nAdresse: Stationsstrasse\, 8606 Nänikon\n
LOCATION:Stationsstrasse\, 8606 Nänikon
CATEGORIES:Saison 2025/26
END:VEVENT
BEGIN:VEVENT
DTSTAMP:20260424T165500Z
DTSTART;TZID=Europe/Berlin:20260414T200000
DTEND;TZID=Europe/Berlin:20260414T230000
SUMMARY:HE 6. Liga Gr. 5 Greifensee II vs Wolfhausen III (0)
UID:10f904ef-1e57-4834-994a-a78f16de21ff
STATUS:CONFIRMED
LAST-MODIFIED:20260416T104020Z
DESCRIPTION:6. Liga Herren Gruppe 5\nBegegnungs-Nr: 0\nHeim: Greifensee II\nGast: Wolfhausen III\n\nAdresse: Stationsstrasse\, 8606 Nänikon\n
LOCATION:Stationsstrasse\, 8606 Nänikon
CATEGORIES:Saison 2025/26
END:VEVENT
BEGIN:VEVENT
DTSTAMP:20260424T165500Z
DTSTART;TZID=Europe/Berlin:20251209T200000
DTEND;TZID=Europe/Berlin:20251209T230000
SUMMARY:HE 6. Liga Gr. 5 Greifensee II vs Kloten V (0)
UID:6007b9e9-17a3-4aaf-9a72-484da0155fa4
STATUS:CONFIRMED
LAST-MODIFIED:20251211T142406Z
DESCRIPTION:6. Liga Herren Gruppe 5\nBegegnungs-Nr: 0\nHeim: Greifensee II\nGast: Kloten V\n\nAdresse: Stationsstrasse\, 8606 Nänikon\n
LOCATION:Stationsstrasse\, 8606 Nänikon
CATEGORIES:Saison 2025/26
END:VEVENT
BEGIN:VEVENT
DTSTAMP:20260424T165500Z
DTSTART;TZID=Europe/Berlin:20251104T200000
DTEND;TZID=Europe/Berlin:20251104T230000
SUMMARY:HE 6. Liga Gr. 5 Greifensee II vs Wetzikon IX (0)
UID:1d2d7f70-16a6-446d-961f-11042814d87a
STATUS:CONFIRMED
LAST-MODIFIED:20251107T145441Z
DESCRIPTION:6. Liga Herren Gruppe 5\nBegegnungs-Nr: 0\nHeim: Greifensee II\nGast: Wetzikon IX\n\nAdresse: Stationsstrasse\, 8606 Nänikon\n
LOCATION:Stationsstrasse\, 8606 Nänikon
CATEGORIES:Saison 2025/26
END:VEVENT
BEGIN:VEVENT
DTSTAMP:20260424T165500Z
DTSTART;TZID=Europe/Berlin:20250826T200000
DTEND;TZID=Europe/Berlin:20250826T230000
SUMMARY:HE 6. Liga Gr. 5 Greifensee II vs Gossau Zuerich II (0)
UID:c7cf3a51-7038-4c9a-9955-7817767d95c4
STATUS:CONFIRMED
LAST-MODIFIED:20250915T121811Z
DESCRIPTION:6. Liga Herren Gruppe 5\nBegegnungs-Nr: 0\nHeim: Greifensee II\nGast: Gossau Zuerich II\n\nAdresse: Stationsstrasse\, 8606 Nänikon\n
LOCATION:Stationsstrasse\, 8606 Nänikon
CATEGORIES:Saison 2025/26
END:VEVENT
BEGIN:VEVENT
DTSTAMP:20260424T165500Z
DTSTART;TZID=Europe/Berlin:20260105T201500
DTEND;TZID=Europe/Berlin:20260105T231500
SUMMARY:HE 6. Liga Gr. 5 Gossau Zuerich II vs Greifensee II (0)
UID:3e4ebdc3-577a-44fa-b896-8404f298238d
STATUS:CONFIRMED
LAST-MODIFIED:20260109T080357Z
DESCRIPTION:6. Liga Herren Gruppe 5\nBegegnungs-Nr: 0\nHeim: Gossau Zuerich II\nGast: Greifensee II\n\nAdresse: Schulstrasse\, 8624 Grüt-Gossau\n
LOCATION:Schulstrasse\, 8624 Grüt-Gossau
CATEGORIES:Saison 2025/26
END:VEVENT
BEGIN:VEVENT
DTSTAMP:20260424T165500Z
DTSTART;TZID=Europe/Berlin:20260129T194500
DTEND;TZID=Europe/Berlin:20260129T224500
SUMMARY:HE 6. Liga Gr. 5 Kloten V vs Greifensee II (0)
UID:97cf7932-ad46-4789-ad52-8b18477b16bc
STATUS:CONFIRMED
LAST-MODIFIED:20260203T142701Z
DESCRIPTION:6. Liga Herren Gruppe 5\nBegegnungs-Nr: 0\nHeim: Kloten V\nGast: Greifensee II\n\nAdresse: Schluefweg 10\, 8302 Kloten\n
LOCATION:Schluefweg 10\, 8302 Kloten
CATEGORIES:Saison 2025/26
END:VEVENT
BEGIN:VEVENT
DTSTAMP:20260424T165500Z
DTSTART;TZID=Europe/Berlin:20260323T194500
DTEND;TZID=Europe/Berlin:20260323T224500
SUMMARY:HE 6. Liga Gr. 5 Wetzikon IX vs Greifensee II (0)
UID:763f90f8-41d9-4fd1-95fc-ea7bed259778
STATUS:CONFIRMED
LAST-MODIFIED:20260326T154701Z
DESCRIPTION:6. Liga Herren Gruppe 5\nBegegnungs-Nr: 0\nHeim: Wetzikon IX\nGast: Greifensee II\n\nAdresse: Usterstrasse 37\, 8620 Wetzikon\n
LOCATION:Usterstrasse 37\, 8620 Wetzikon
CATEGORIES:Saison 2025/26
END:VEVENT
BEGIN:VEVENT
DTSTAMP:20260424T165500Z
DTSTART;TZID=Europe/Berlin:20251114T200000
DTEND;TZID=Europe/Berlin:20251114T230000
SUMMARY:HE 6. Liga Gr. 5 Young Stars ZH VIII vs Greifensee II (0)
UID:ec40da9c-9b84-4640-ac9e-c8685b92ce54
STATUS:CONFIRMED
LAST-MODIFIED:20251118T112721Z
DESCRIPTION:6. Liga Herren Gruppe 5\nBegegnungs-Nr: 0\nHeim: Young Stars ZH VIII\nGast: Greifensee II\n\nAdresse: Balgriststrasse 55\, 8008 Zürich\n
LOCATION:Balgriststrasse 55\, 8008 Zürich
CATEGORIES:Saison 2025/26
END:VEVENT
BEGIN:VEVENT
DTSTAMP:20260424T165500Z
DTSTART;TZID=Europe/Berlin:20251117T200000
DTEND;TZID=Europe/Berlin:20251117T230000
SUMMARY:HE 6. Liga Gr. 5 Dübendorf-Volketswil V vs Greifensee II (0)
UID:2afec3f2-9442-4ed2-af19-a60c37d5a5fd
STATUS:CONFIRMED
LAST-MODIFIED:20251121T094529Z
DESCRIPTION:6. Liga Herren Gruppe 5\nBegegnungs-Nr: 0\nHeim: Dübendorf-Volketswil V\nGast: Greifensee II\n\nAdresse: Usterstrasse 35\, 8604 Volketswil\n
LOCATION:Usterstrasse 35\, 8604 Volketswil
CATEGORIES:Saison 2025/26
END:VEVENT
BEGIN:VEVENT
DTSTAMP:20260424T165500Z
DTSTART;TZID=Europe/Berlin:20251205T200000
DTEND;TZID=Europe/Berlin:20251205T230000
SUMMARY:HE 6. Liga Gr. 5 Wolfhausen III vs Greifensee II (0)
UID:42d0db35-7c35-483d-b19b-08951d06652b
STATUS:CONFIRMED
LAST-MODIFIED:20251210T093721Z
DESCRIPTION:6. Liga Herren Gruppe 5\nBegegnungs-Nr: 0\nHeim: Wolfhausen III\nGast: Greifensee II\n\nAdresse: Schulstrasse 9\, 8633 Wolfhausen\n
LOCATION:Schulstrasse 9\, 8633 Wolfhausen
CATEGORIES:Saison 2025/26
END:VEVENT
BEGIN:VEVENT
DTSTAMP:20260424T165500Z
DTSTART;TZID=Europe/Berlin:20250902T201500
DTEND;TZID=Europe/Berlin:20250902T231500
SUMMARY:HE 6. Liga Gr. 5 Uster V vs Greifensee II (0)
UID:d30dd0a3-e111-4ce2-b9cb-6b28148c13cb
STATUS:CONFIRMED
LAST-MODIFIED:20250905T124623Z
DESCRIPTION:6. Liga Herren Gruppe 5\nBegegnungs-Nr: 0\nHeim: Uster V\nGast: Greifensee II\n\nAdresse: Wilstrasse 30 / Zürcherstrasse\, 8610 Uster\n
LOCATION:Wilstrasse 30 / Zürcherstrasse\, 8610 Uster
CATEGORIES:Saison 2025/26
END:VEVENT
END:VCALENDAR
