BEGIN:VCALENDAR
PRODID:-//nuDatenautomaten//framework iCal4j //DE
VERSION:2.0
CALSCALE:GREGORIAN
BEGIN:VTIMEZONE
TZID:Europe/Berlin
LAST-MODIFIED:20260306T231828Z
TZURL:https://www.tzurl.org/zoneinfo/Europe/Berlin
X-LIC-LOCATION:Europe/Berlin
X-PROLEPTIC-TZNAME:LMT
BEGIN:STANDARD
TZNAME:CET
TZOFFSETFROM:+005328
TZOFFSETTO:+0100
DTSTART:18930401T000000
END:STANDARD
BEGIN:DAYLIGHT
TZNAME:CEST
TZOFFSETFROM:+0100
TZOFFSETTO:+0200
DTSTART:19160430T230000
RDATE:19400401T020000
RDATE:19430329T020000
RDATE:19460414T020000
RDATE:19470406T030000
RDATE:19480418T020000
RDATE:19490410T020000
RDATE:19800406T020000
END:DAYLIGHT
BEGIN:STANDARD
TZNAME:CET
TZOFFSETFROM:+0200
TZOFFSETTO:+0100
DTSTART:19161001T010000
RDATE:19421102T030000
RDATE:19431004T030000
RDATE:19441002T030000
RDATE:19451118T030000
RDATE:19461007T030000
END:STANDARD
BEGIN:DAYLIGHT
TZNAME:CEST
TZOFFSETFROM:+0100
TZOFFSETTO:+0200
DTSTART:19170416T020000
RRULE:FREQ=YEARLY;UNTIL=19180415T010000Z;BYMONTH=4;BYDAY=3MO
END:DAYLIGHT
BEGIN:STANDARD
TZNAME:CET
TZOFFSETFROM:+0200
TZOFFSETTO:+0100
DTSTART:19170917T030000
RRULE:FREQ=YEARLY;UNTIL=19180916T010000Z;BYMONTH=9;BYDAY=3MO
END:STANDARD
BEGIN:DAYLIGHT
TZNAME:CEST
TZOFFSETFROM:+0100
TZOFFSETTO:+0200
DTSTART:19440403T020000
RRULE:FREQ=YEARLY;UNTIL=19450402T010000Z;BYMONTH=4;BYDAY=1MO
END:DAYLIGHT
BEGIN:DAYLIGHT
TZNAME:CEMT
TZOFFSETFROM:+0200
TZOFFSETTO:+0300
DTSTART:19450524T020000
RDATE:19470511T030000
END:DAYLIGHT
BEGIN:DAYLIGHT
TZNAME:CEST
TZOFFSETFROM:+0300
TZOFFSETTO:+0200
DTSTART:19450924T030000
RDATE:19470629T030000
END:DAYLIGHT
BEGIN:STANDARD
TZNAME:CET
TZOFFSETFROM:+0100
TZOFFSETTO:+0100
DTSTART:19460101T000000
RDATE:19800101T000000
END:STANDARD
BEGIN:STANDARD
TZNAME:CET
TZOFFSETFROM:+0200
TZOFFSETTO:+0100
DTSTART:19471005T030000
RRULE:FREQ=YEARLY;UNTIL=19491002T010000Z;BYMONTH=10;BYDAY=1SU
END:STANDARD
BEGIN:STANDARD
TZNAME:CET
TZOFFSETFROM:+0200
TZOFFSETTO:+0100
DTSTART:19800928T030000
RRULE:FREQ=YEARLY;UNTIL=19950924T010000Z;BYMONTH=9;BYDAY=-1SU
END:STANDARD
BEGIN:DAYLIGHT
TZNAME:CEST
TZOFFSETFROM:+0100
TZOFFSETTO:+0200
DTSTART:19810329T020000
RRULE:FREQ=YEARLY;BYMONTH=3;BYDAY=-1SU
END:DAYLIGHT
BEGIN:STANDARD
TZNAME:CET
TZOFFSETFROM:+0200
TZOFFSETTO:+0100
DTSTART:19961027T030000
RRULE:FREQ=YEARLY;BYMONTH=10;BYDAY=-1SU
END:STANDARD
END:VTIMEZONE
BEGIN:VEVENT
DTSTAMP:20260424T051136Z
DTSTART;TZID=Europe/Berlin:20251217T194500
DTEND;TZID=Europe/Berlin:20251217T224500
SUMMARY:HE 5. Liga Gr. 3 Zofingen IV vs Aarau IV (0)
UID:94665d7e-d6f1-4cda-8796-4bffb0d12495
STATUS:CONFIRMED
LAST-MODIFIED:20251218T122709Z
DESCRIPTION:5. Liga Herren Gruppe 3\nBegegnungs-Nr: 0\nHeim: Zofingen IV\nGast: Aarau IV\n\nAdresse: Kreuzplatz\, 4802 Strengelbach\n
LOCATION:Kreuzplatz\, 4802 Strengelbach
CATEGORIES:Saison 2025/26
END:VEVENT
BEGIN:VEVENT
DTSTAMP:20260424T051136Z
DTSTART;TZID=Europe/Berlin:20260128T194500
DTEND;TZID=Europe/Berlin:20260128T224500
SUMMARY:HE 5. Liga Gr. 3 Zofingen IV vs Döttingen V (0)
UID:031bd8f3-a552-49e5-840d-676f3ab70e40
STATUS:CONFIRMED
LAST-MODIFIED:20260130T133434Z
DESCRIPTION:5. Liga Herren Gruppe 3\nBegegnungs-Nr: 0\nHeim: Zofingen IV\nGast: Döttingen V\n\nAdresse: Kreuzplatz\, 4802 Strengelbach\n
LOCATION:Kreuzplatz\, 4802 Strengelbach
CATEGORIES:Saison 2025/26
END:VEVENT
BEGIN:VEVENT
DTSTAMP:20260424T051136Z
DTSTART;TZID=Europe/Berlin:20260225T194500
DTEND;TZID=Europe/Berlin:20260225T224500
SUMMARY:HE 5. Liga Gr. 3 Zofingen IV vs BW Rupperswil III (0)
UID:db4708e1-8bf2-4c8f-85d7-e6c08bacc408
STATUS:CONFIRMED
LAST-MODIFIED:20260302T112508Z
DESCRIPTION:5. Liga Herren Gruppe 3\nBegegnungs-Nr: 0\nHeim: Zofingen IV\nGast: BW Rupperswil III\n\nAdresse: Kreuzplatz\, 4802 Strengelbach\n
LOCATION:Kreuzplatz\, 4802 Strengelbach
CATEGORIES:Saison 2025/26
END:VEVENT
BEGIN:VEVENT
DTSTAMP:20260424T051136Z
DTSTART;TZID=Europe/Berlin:20260330T194500
DTEND;TZID=Europe/Berlin:20260330T224500
SUMMARY:HE 5. Liga Gr. 3 Zofingen IV vs Frick V (0)
UID:f538f5f9-41d5-4e64-b5fd-2d1795d03654
STATUS:CONFIRMED
LAST-MODIFIED:20260416T094147Z
DESCRIPTION:5. Liga Herren Gruppe 3\nBegegnungs-Nr: 0\nHeim: Zofingen IV\nGast: Frick V\n\nAdresse: Kreuzplatz\, 4802 Strengelbach\n
LOCATION:Kreuzplatz\, 4802 Strengelbach
CATEGORIES:Saison 2025/26
END:VEVENT
BEGIN:VEVENT
DTSTAMP:20260424T051136Z
DTSTART;TZID=Europe/Berlin:20250903T194500
DTEND;TZID=Europe/Berlin:20250903T224500
SUMMARY:HE 5. Liga Gr. 3 Zofingen IV vs Lenzburg III (0)
UID:3379ea9d-03fb-43d6-bb61-202a56327ce3
STATUS:CONFIRMED
LAST-MODIFIED:20250905T121757Z
DESCRIPTION:5. Liga Herren Gruppe 3\nBegegnungs-Nr: 0\nHeim: Zofingen IV\nGast: Lenzburg III\n\nAdresse: Kreuzplatz\, 4802 Strengelbach\n
LOCATION:Kreuzplatz\, 4802 Strengelbach
CATEGORIES:Saison 2025/26
END:VEVENT
BEGIN:VEVENT
DTSTAMP:20260424T051136Z
DTSTART;TZID=Europe/Berlin:20251015T194500
DTEND;TZID=Europe/Berlin:20251015T224500
SUMMARY:HE 5. Liga Gr. 3 Zofingen IV vs Olten VI (0)
UID:25022f5e-7c85-4241-b85f-b6405121a897
STATUS:CONFIRMED
LAST-MODIFIED:20251016T145927Z
DESCRIPTION:5. Liga Herren Gruppe 3\nBegegnungs-Nr: 0\nHeim: Zofingen IV\nGast: Olten VI\n\nAdresse: Kreuzplatz\, 4802 Strengelbach\n
LOCATION:Kreuzplatz\, 4802 Strengelbach
CATEGORIES:Saison 2025/26
END:VEVENT
BEGIN:VEVENT
DTSTAMP:20260424T051136Z
DTSTART;TZID=Europe/Berlin:20251119T194500
DTEND;TZID=Europe/Berlin:20251119T224500
SUMMARY:HE 5. Liga Gr. 3 Zofingen IV vs Birrfeld II (0)
UID:bc29e270-28b1-4de5-9e63-d7f890a62832
STATUS:CONFIRMED
LAST-MODIFIED:20251121T093528Z
DESCRIPTION:5. Liga Herren Gruppe 3\nBegegnungs-Nr: 0\nHeim: Zofingen IV\nGast: Birrfeld II\n\nAdresse: Kreuzplatz\, 4802 Strengelbach\n
LOCATION:Kreuzplatz\, 4802 Strengelbach
CATEGORIES:Saison 2025/26
END:VEVENT
BEGIN:VEVENT
DTSTAMP:20260424T051136Z
DTSTART;TZID=Europe/Berlin:20250827T194500
DTEND;TZID=Europe/Berlin:20250827T224500
SUMMARY:HE 5. Liga Gr. 3 Aarau IV vs Zofingen IV (0)
UID:dad309b1-030c-437a-81d0-5ad6982500bb
STATUS:CONFIRMED
LAST-MODIFIED:20250905T121646Z
DESCRIPTION:5. Liga Herren Gruppe 3\nBegegnungs-Nr: 0\nHeim: Aarau IV\nGast: Zofingen IV\n\nAdresse: Weltistrasse 20\, 5000 Aarau\n
LOCATION:Weltistrasse 20\, 5000 Aarau
CATEGORIES:Saison 2025/26
END:VEVENT
BEGIN:VEVENT
DTSTAMP:20260424T051136Z
DTSTART;TZID=Europe/Berlin:20260116T201500
DTEND;TZID=Europe/Berlin:20260116T231500
SUMMARY:HE 5. Liga Gr. 3 Lenzburg III vs Zofingen IV (0)
UID:6871b433-c0cd-403a-ac50-f8e846924a76
STATUS:CONFIRMED
LAST-MODIFIED:20260123T081844Z
DESCRIPTION:5. Liga Herren Gruppe 3\nBegegnungs-Nr: 0\nHeim: Lenzburg III\nGast: Zofingen IV\n\nAdresse: Turnerweg\, 5600 Lenzburg\n
LOCATION:Turnerweg\, 5600 Lenzburg
CATEGORIES:Saison 2025/26
END:VEVENT
BEGIN:VEVENT
DTSTAMP:20260424T051136Z
DTSTART;TZID=Europe/Berlin:20260216T194500
DTEND;TZID=Europe/Berlin:20260216T224500
SUMMARY:HE 5. Liga Gr. 3 Olten VI vs Zofingen IV (0)
UID:08fdfb21-4c8e-4242-93aa-e31c83951f3d
STATUS:CONFIRMED
LAST-MODIFIED:20260218T071706Z
DESCRIPTION:5. Liga Herren Gruppe 3\nBegegnungs-Nr: 0\nHeim: Olten VI\nGast: Zofingen IV\n\nAdresse: Lostorferstrasse 16\, 4652 Winznau\n
LOCATION:Lostorferstrasse 16\, 4652 Winznau
CATEGORIES:Saison 2025/26
END:VEVENT
BEGIN:VEVENT
DTSTAMP:20260424T051136Z
DTSTART;TZID=Europe/Berlin:20260311T194500
DTEND;TZID=Europe/Berlin:20260311T224500
SUMMARY:HE 5. Liga Gr. 3 Birrfeld II vs Zofingen IV (0)
UID:6c6eff19-6a5b-4489-a473-63e66b6db563
STATUS:CONFIRMED
LAST-MODIFIED:20260313T125556Z
DESCRIPTION:5. Liga Herren Gruppe 3\nBegegnungs-Nr: 0\nHeim: Birrfeld II\nGast: Zofingen IV\n\nAdresse: Zentralstrasse 30\, 5242 Birr\n
LOCATION:Zentralstrasse 30\, 5242 Birr
CATEGORIES:Saison 2025/26
END:VEVENT
BEGIN:VEVENT
DTSTAMP:20260424T051136Z
DTSTART;TZID=Europe/Berlin:20250916T201500
DTEND;TZID=Europe/Berlin:20250916T231500
SUMMARY:HE 5. Liga Gr. 3 Döttingen V vs Zofingen IV (0)
UID:c4967e20-33f1-4fc0-96a1-7d18c82f5f19
STATUS:CONFIRMED
LAST-MODIFIED:20250918T095415Z
DESCRIPTION:5. Liga Herren Gruppe 3\nBegegnungs-Nr: 0\nHeim: Döttingen V\nGast: Zofingen IV\n\nAdresse: Im Bogen\, Chilbert 25\, 5312 Döttingen\n
LOCATION:Im Bogen\, Chilbert 25\, 5312 Döttingen
CATEGORIES:Saison 2025/26
END:VEVENT
BEGIN:VEVENT
DTSTAMP:20260424T051136Z
DTSTART;TZID=Europe/Berlin:20251029T200000
DTEND;TZID=Europe/Berlin:20251029T230000
SUMMARY:HE 5. Liga Gr. 3 BW Rupperswil III vs Zofingen IV (0)
UID:c0271f5f-4cb4-4146-b4e3-3a401a6c421e
STATUS:CONFIRMED
LAST-MODIFIED:20251031T143250Z
DESCRIPTION:5. Liga Herren Gruppe 3\nBegegnungs-Nr: 0\nHeim: BW Rupperswil III\nGast: Zofingen IV\n\nAdresse: -\, 5102 Rupperswil\n
LOCATION:-\, 5102 Rupperswil
CATEGORIES:Saison 2025/26
END:VEVENT
BEGIN:VEVENT
DTSTAMP:20260424T051136Z
DTSTART;TZID=Europe/Berlin:20251208T200000
DTEND;TZID=Europe/Berlin:20251208T230000
SUMMARY:HE 5. Liga Gr. 3 Frick V vs Zofingen IV (0)
UID:f7fbfd11-20cf-4640-ac6a-c69b0b145328
STATUS:CONFIRMED
LAST-MODIFIED:20251211T112102Z
DESCRIPTION:5. Liga Herren Gruppe 3\nBegegnungs-Nr: 0\nHeim: Frick V\nGast: Zofingen IV\n\nAdresse: Schulstrasse 51\, 5070 Frick\n
LOCATION:Schulstrasse 51\, 5070 Frick
CATEGORIES:Saison 2025/26
END:VEVENT
END:VCALENDAR
