BEGIN:VCALENDAR
PRODID:-//nuDatenautomaten//framework iCal4j //DE
VERSION:2.0
CALSCALE:GREGORIAN
BEGIN:VTIMEZONE
TZID:Europe/Berlin
LAST-MODIFIED:20260306T231828Z
TZURL:https://www.tzurl.org/zoneinfo/Europe/Berlin
X-LIC-LOCATION:Europe/Berlin
X-PROLEPTIC-TZNAME:LMT
BEGIN:STANDARD
TZNAME:CET
TZOFFSETFROM:+005328
TZOFFSETTO:+0100
DTSTART:18930401T000000
END:STANDARD
BEGIN:DAYLIGHT
TZNAME:CEST
TZOFFSETFROM:+0100
TZOFFSETTO:+0200
DTSTART:19160430T230000
RDATE:19400401T020000
RDATE:19430329T020000
RDATE:19460414T020000
RDATE:19470406T030000
RDATE:19480418T020000
RDATE:19490410T020000
RDATE:19800406T020000
END:DAYLIGHT
BEGIN:STANDARD
TZNAME:CET
TZOFFSETFROM:+0200
TZOFFSETTO:+0100
DTSTART:19161001T010000
RDATE:19421102T030000
RDATE:19431004T030000
RDATE:19441002T030000
RDATE:19451118T030000
RDATE:19461007T030000
END:STANDARD
BEGIN:DAYLIGHT
TZNAME:CEST
TZOFFSETFROM:+0100
TZOFFSETTO:+0200
DTSTART:19170416T020000
RRULE:FREQ=YEARLY;UNTIL=19180415T010000Z;BYMONTH=4;BYDAY=3MO
END:DAYLIGHT
BEGIN:STANDARD
TZNAME:CET
TZOFFSETFROM:+0200
TZOFFSETTO:+0100
DTSTART:19170917T030000
RRULE:FREQ=YEARLY;UNTIL=19180916T010000Z;BYMONTH=9;BYDAY=3MO
END:STANDARD
BEGIN:DAYLIGHT
TZNAME:CEST
TZOFFSETFROM:+0100
TZOFFSETTO:+0200
DTSTART:19440403T020000
RRULE:FREQ=YEARLY;UNTIL=19450402T010000Z;BYMONTH=4;BYDAY=1MO
END:DAYLIGHT
BEGIN:DAYLIGHT
TZNAME:CEMT
TZOFFSETFROM:+0200
TZOFFSETTO:+0300
DTSTART:19450524T020000
RDATE:19470511T030000
END:DAYLIGHT
BEGIN:DAYLIGHT
TZNAME:CEST
TZOFFSETFROM:+0300
TZOFFSETTO:+0200
DTSTART:19450924T030000
RDATE:19470629T030000
END:DAYLIGHT
BEGIN:STANDARD
TZNAME:CET
TZOFFSETFROM:+0100
TZOFFSETTO:+0100
DTSTART:19460101T000000
RDATE:19800101T000000
END:STANDARD
BEGIN:STANDARD
TZNAME:CET
TZOFFSETFROM:+0200
TZOFFSETTO:+0100
DTSTART:19471005T030000
RRULE:FREQ=YEARLY;UNTIL=19491002T010000Z;BYMONTH=10;BYDAY=1SU
END:STANDARD
BEGIN:STANDARD
TZNAME:CET
TZOFFSETFROM:+0200
TZOFFSETTO:+0100
DTSTART:19800928T030000
RRULE:FREQ=YEARLY;UNTIL=19950924T010000Z;BYMONTH=9;BYDAY=-1SU
END:STANDARD
BEGIN:DAYLIGHT
TZNAME:CEST
TZOFFSETFROM:+0100
TZOFFSETTO:+0200
DTSTART:19810329T020000
RRULE:FREQ=YEARLY;BYMONTH=3;BYDAY=-1SU
END:DAYLIGHT
BEGIN:STANDARD
TZNAME:CET
TZOFFSETFROM:+0200
TZOFFSETTO:+0100
DTSTART:19961027T030000
RRULE:FREQ=YEARLY;BYMONTH=10;BYDAY=-1SU
END:STANDARD
END:VTIMEZONE
BEGIN:VEVENT
DTSTAMP:20260424T084051Z
DTSTART;TZID=Europe/Berlin:20250903T194500
DTEND;TZID=Europe/Berlin:20250903T224500
SUMMARY:HE 1. Liga Solothurn vs Burgdorf III (3)
UID:56406a92-6fc5-4d79-8c00-d1af0f533743
STATUS:CONFIRMED
LAST-MODIFIED:20250907T200439Z
DESCRIPTION:1. Liga Herren\nBegegnungs-Nr: 3\nHeim: Solothurn\nGast: Burgdorf III\n\nAdresse: Untere Sternengasse 24\, 4500 Solothurn\n
LOCATION:Untere Sternengasse 24\, 4500 Solothurn
CATEGORIES:Saison 2025/26
END:VEVENT
BEGIN:VEVENT
DTSTAMP:20260424T084051Z
DTSTART;TZID=Europe/Berlin:20251001T194500
DTEND;TZID=Europe/Berlin:20251001T224500
SUMMARY:HE 1. Liga Solothurn vs Port III (13)
UID:3a7b999d-bc0f-4e98-b550-9e37ef3618d7
STATUS:CONFIRMED
LAST-MODIFIED:20251003T173133Z
DESCRIPTION:1. Liga Herren\nBegegnungs-Nr: 13\nHeim: Solothurn\nGast: Port III\n\nAdresse: Untere Sternengasse 24\, 4500 Solothurn\n
LOCATION:Untere Sternengasse 24\, 4500 Solothurn
CATEGORIES:Saison 2025/26
END:VEVENT
BEGIN:VEVENT
DTSTAMP:20260424T084051Z
DTSTART;TZID=Europe/Berlin:20251128T200000
DTEND;TZID=Europe/Berlin:20251128T230000
SUMMARY:HE 1. Liga Solothurn vs Aarberg (42)
UID:462fc501-a2ca-4f65-8ebf-14306be28f81
STATUS:CONFIRMED
LAST-MODIFIED:20251206T230512Z
DESCRIPTION:1. Liga Herren\nBegegnungs-Nr: 42\nHeim: Solothurn\nGast: Aarberg\n\nAdresse: Untere Sternengasse 24\, 4500 Solothurn\n
LOCATION:Untere Sternengasse 24\, 4500 Solothurn
CATEGORIES:Saison 2025/26
END:VEVENT
BEGIN:VEVENT
DTSTAMP:20260424T084051Z
DTSTART;TZID=Europe/Berlin:20251031T200000
DTEND;TZID=Europe/Berlin:20251031T230000
SUMMARY:HE 1. Liga Solothurn vs Heimberg II (23)
UID:b5355c87-b199-4212-9fcd-62718a964911
STATUS:CONFIRMED
LAST-MODIFIED:20251111T072139Z
DESCRIPTION:1. Liga Herren\nBegegnungs-Nr: 23\nHeim: Solothurn\nGast: Heimberg II\n\nAdresse: Untere Sternengasse 24\, 4500 Solothurn\n
LOCATION:Untere Sternengasse 24\, 4500 Solothurn
CATEGORIES:Saison 2025/26
END:VEVENT
BEGIN:VEVENT
DTSTAMP:20260424T084051Z
DTSTART;TZID=Europe/Berlin:20260320T200000
DTEND;TZID=Europe/Berlin:20260320T230000
SUMMARY:HE 1. Liga Solothurn vs Port II (36)
UID:701f4d9b-da19-495a-a051-ee45bdcd945a
STATUS:CONFIRMED
LAST-MODIFIED:20260327T143107Z
DESCRIPTION:1. Liga Herren\nBegegnungs-Nr: 36\nHeim: Solothurn\nGast: Port II\n\nAdresse: Untere Sternengasse 24\, 4500 Solothurn\n
LOCATION:Untere Sternengasse 24\, 4500 Solothurn
CATEGORIES:Saison 2025/26
END:VEVENT
BEGIN:VEVENT
DTSTAMP:20260424T084051Z
DTSTART;TZID=Europe/Berlin:20260325T194500
DTEND;TZID=Europe/Berlin:20260325T224500
SUMMARY:HE 1. Liga Solothurn vs Bern (32)
UID:c5893385-6eb6-4371-b912-3dcad21e1ffa
STATUS:CONFIRMED
LAST-MODIFIED:20260409T123531Z
DESCRIPTION:1. Liga Herren\nBegegnungs-Nr: 32\nHeim: Solothurn\nGast: Bern\n\nAdresse: Untere Sternengasse 24\, 4500 Solothurn\n
LOCATION:Untere Sternengasse 24\, 4500 Solothurn
CATEGORIES:Saison 2025/26
END:VEVENT
BEGIN:VEVENT
DTSTAMP:20260424T084051Z
DTSTART;TZID=Europe/Berlin:20260227T200000
DTEND;TZID=Europe/Berlin:20260227T230000
SUMMARY:HE 1. Liga Solothurn vs Münchenbuchsee (28)
UID:32895140-0a8d-437c-9112-4bdcf8c0649d
STATUS:CONFIRMED
LAST-MODIFIED:20260302T144341Z
DESCRIPTION:1. Liga Herren\nBegegnungs-Nr: 28\nHeim: Solothurn\nGast: Münchenbuchsee\n\nAdresse: Untere Sternengasse 24\, 4500 Solothurn\n
LOCATION:Untere Sternengasse 24\, 4500 Solothurn
CATEGORIES:Saison 2025/26
END:VEVENT
BEGIN:VEVENT
DTSTAMP:20260424T084051Z
DTSTART;TZID=Europe/Berlin:20260211T194500
DTEND;TZID=Europe/Berlin:20260211T224500
SUMMARY:HE 1. Liga Solothurn vs Herzogenbuchsee (18)
UID:4fbe99e0-be06-4410-b2af-8f2e69310301
STATUS:CONFIRMED
LAST-MODIFIED:20260217T211933Z
DESCRIPTION:1. Liga Herren\nBegegnungs-Nr: 18\nHeim: Solothurn\nGast: Herzogenbuchsee\n\nAdresse: Untere Sternengasse 24\, 4500 Solothurn\n
LOCATION:Untere Sternengasse 24\, 4500 Solothurn
CATEGORIES:Saison 2025/26
END:VEVENT
BEGIN:VEVENT
DTSTAMP:20260424T084051Z
DTSTART;TZID=Europe/Berlin:20260121T194500
DTEND;TZID=Europe/Berlin:20260121T224500
SUMMARY:HE 1. Liga Solothurn vs Thun (8)
UID:2e8c0b16-6688-4443-9400-6d07b5e6af67
STATUS:CONFIRMED
LAST-MODIFIED:20260124T235916Z
DESCRIPTION:1. Liga Herren\nBegegnungs-Nr: 8\nHeim: Solothurn\nGast: Thun\n\nAdresse: Untere Sternengasse 24\, 4500 Solothurn\n
LOCATION:Untere Sternengasse 24\, 4500 Solothurn
CATEGORIES:Saison 2025/26
END:VEVENT
BEGIN:VEVENT
DTSTAMP:20260424T084051Z
DTSTART;TZID=Europe/Berlin:20250913T160000
DTEND;TZID=Europe/Berlin:20250913T190000
SUMMARY:HE 1. Liga Thun vs Solothurn (8)
UID:b9ebb9be-2acc-4dbc-ac98-d0f75570a070
STATUS:CONFIRMED
LAST-MODIFIED:20250918T140052Z
DESCRIPTION:1. Liga Herren\nBegegnungs-Nr: 8\nHeim: Thun\nGast: Solothurn\n\nAdresse: Hallerstrasse 28\, 3604 Thun\n
LOCATION:Hallerstrasse 28\, 3604 Thun
CATEGORIES:Saison 2025/26
END:VEVENT
BEGIN:VEVENT
DTSTAMP:20260424T084051Z
DTSTART;TZID=Europe/Berlin:20251125T194500
DTEND;TZID=Europe/Berlin:20251125T224500
SUMMARY:HE 1. Liga Port II vs Solothurn (36)
UID:91de0c62-2287-453c-a9b0-78955bfa78d7
STATUS:CONFIRMED
LAST-MODIFIED:20251206T230359Z
DESCRIPTION:1. Liga Herren\nBegegnungs-Nr: 36\nHeim: Port II\nGast: Solothurn\n\nAdresse: Allmendstrasse 23\, 2562 Port\n
LOCATION:Allmendstrasse 23\, 2562 Port
CATEGORIES:Saison 2025/26
END:VEVENT
BEGIN:VEVENT
DTSTAMP:20260424T084051Z
DTSTART;TZID=Europe/Berlin:20251203T193000
DTEND;TZID=Europe/Berlin:20251203T223000
SUMMARY:HE 1. Liga Bern vs Solothurn (32)
UID:90c36c2e-bf2e-4e98-b6d9-8141ac6be284
STATUS:CONFIRMED
LAST-MODIFIED:20251206T230554Z
DESCRIPTION:1. Liga Herren\nBegegnungs-Nr: 32\nHeim: Bern\nGast: Solothurn\n\nAdresse: Papiermühlestrasse 81\, 3014 Bern\n
LOCATION:Papiermühlestrasse 81\, 3014 Bern
CATEGORIES:Saison 2025/26
END:VEVENT
BEGIN:VEVENT
DTSTAMP:20260424T084051Z
DTSTART;TZID=Europe/Berlin:20251112T200000
DTEND;TZID=Europe/Berlin:20251112T230000
SUMMARY:HE 1. Liga Münchenbuchsee vs Solothurn (28)
UID:c3d47150-4c1c-464c-8645-93d07a594601
STATUS:CONFIRMED
LAST-MODIFIED:20251115T171054Z
DESCRIPTION:1. Liga Herren\nBegegnungs-Nr: 28\nHeim: Münchenbuchsee\nGast: Solothurn\n\nAdresse: Laubbergweg 41\, 3053 Münchenbuchsee\n
LOCATION:Laubbergweg 41\, 3053 Münchenbuchsee
CATEGORIES:Saison 2025/26
END:VEVENT
BEGIN:VEVENT
DTSTAMP:20260424T084051Z
DTSTART;TZID=Europe/Berlin:20251104T201500
DTEND;TZID=Europe/Berlin:20251104T231500
SUMMARY:HE 1. Liga Herzogenbuchsee vs Solothurn (18)
UID:2215af2d-6e23-4744-a4e9-ae7f49708e15
STATUS:CONFIRMED
LAST-MODIFIED:20251115T171026Z
DESCRIPTION:1. Liga Herren\nBegegnungs-Nr: 18\nHeim: Herzogenbuchsee\nGast: Solothurn\n\nAdresse: Ringstrasse 10\, 3360 Herzogenbuchsee\n
LOCATION:Ringstrasse 10\, 3360 Herzogenbuchsee
CATEGORIES:Saison 2025/26
END:VEVENT
BEGIN:VEVENT
DTSTAMP:20260424T084051Z
DTSTART;TZID=Europe/Berlin:20260401T201500
DTEND;TZID=Europe/Berlin:20260401T231500
SUMMARY:HE 1. Liga Aarberg vs Solothurn (42)
UID:ec457085-9638-4849-a1a6-2c72e5d91ed2
STATUS:CONFIRMED
LAST-MODIFIED:20260409T123606Z
DESCRIPTION:1. Liga Herren\nBegegnungs-Nr: 42\nHeim: Aarberg\nGast: Solothurn\n\nAdresse: Nidaustrasse 7\, 3270 Aarberg\n
LOCATION:Nidaustrasse 7\, 3270 Aarberg
CATEGORIES:Saison 2025/26
END:VEVENT
BEGIN:VEVENT
DTSTAMP:20260424T084051Z
DTSTART;TZID=Europe/Berlin:20260216T193000
DTEND;TZID=Europe/Berlin:20260216T223000
SUMMARY:HE 1. Liga Heimberg II vs Solothurn (23)
UID:15d58d4c-56a3-4dde-8779-25d63573b709
STATUS:CONFIRMED
LAST-MODIFIED:20260217T212019Z
DESCRIPTION:1. Liga Herren\nBegegnungs-Nr: 23\nHeim: Heimberg II\nGast: Solothurn\n\nAdresse: Schulhausstrasse 20\, 3672 Oberdiessbach\n
LOCATION:Schulhausstrasse 20\, 3672 Oberdiessbach
CATEGORIES:Saison 2025/26
END:VEVENT
BEGIN:VEVENT
DTSTAMP:20260424T084051Z
DTSTART;TZID=Europe/Berlin:20260127T194500
DTEND;TZID=Europe/Berlin:20260127T224500
SUMMARY:HE 1. Liga Port III vs Solothurn (13)
UID:86d1fc2f-c0c9-4804-90f3-d8d4f8205bad
STATUS:CONFIRMED
LAST-MODIFIED:20260217T211813Z
DESCRIPTION:1. Liga Herren\nBegegnungs-Nr: 13\nHeim: Port III\nGast: Solothurn\n\nAdresse: Allmendstrasse 23\, 2562 Port\n
LOCATION:Allmendstrasse 23\, 2562 Port
CATEGORIES:Saison 2025/26
END:VEVENT
BEGIN:VEVENT
DTSTAMP:20260424T084051Z
DTSTART;TZID=Europe/Berlin:20260109T193000
DTEND;TZID=Europe/Berlin:20260109T223000
SUMMARY:HE 1. Liga Burgdorf III vs Solothurn (3)
UID:b533a91c-cab9-4156-a8ed-949ee1b3713e
STATUS:CONFIRMED
LAST-MODIFIED:20260124T235748Z
DESCRIPTION:1. Liga Herren\nBegegnungs-Nr: 3\nHeim: Burgdorf III\nGast: Solothurn\n\nAdresse: Pestalozzistrasse 69\, 3400 Burgdorf\n
LOCATION:Pestalozzistrasse 69\, 3400 Burgdorf
CATEGORIES:Saison 2025/26
END:VEVENT
END:VCALENDAR
