BEGIN:VCALENDAR
PRODID:-//nuDatenautomaten//framework iCal4j //DE
VERSION:2.0
CALSCALE:GREGORIAN
BEGIN:VTIMEZONE
TZID:Europe/Berlin
LAST-MODIFIED:20260306T231828Z
TZURL:https://www.tzurl.org/zoneinfo/Europe/Berlin
X-LIC-LOCATION:Europe/Berlin
X-PROLEPTIC-TZNAME:LMT
BEGIN:STANDARD
TZNAME:CET
TZOFFSETFROM:+005328
TZOFFSETTO:+0100
DTSTART:18930401T000000
END:STANDARD
BEGIN:DAYLIGHT
TZNAME:CEST
TZOFFSETFROM:+0100
TZOFFSETTO:+0200
DTSTART:19160430T230000
RDATE:19400401T020000
RDATE:19430329T020000
RDATE:19460414T020000
RDATE:19470406T030000
RDATE:19480418T020000
RDATE:19490410T020000
RDATE:19800406T020000
END:DAYLIGHT
BEGIN:STANDARD
TZNAME:CET
TZOFFSETFROM:+0200
TZOFFSETTO:+0100
DTSTART:19161001T010000
RDATE:19421102T030000
RDATE:19431004T030000
RDATE:19441002T030000
RDATE:19451118T030000
RDATE:19461007T030000
END:STANDARD
BEGIN:DAYLIGHT
TZNAME:CEST
TZOFFSETFROM:+0100
TZOFFSETTO:+0200
DTSTART:19170416T020000
RRULE:FREQ=YEARLY;UNTIL=19180415T010000Z;BYMONTH=4;BYDAY=3MO
END:DAYLIGHT
BEGIN:STANDARD
TZNAME:CET
TZOFFSETFROM:+0200
TZOFFSETTO:+0100
DTSTART:19170917T030000
RRULE:FREQ=YEARLY;UNTIL=19180916T010000Z;BYMONTH=9;BYDAY=3MO
END:STANDARD
BEGIN:DAYLIGHT
TZNAME:CEST
TZOFFSETFROM:+0100
TZOFFSETTO:+0200
DTSTART:19440403T020000
RRULE:FREQ=YEARLY;UNTIL=19450402T010000Z;BYMONTH=4;BYDAY=1MO
END:DAYLIGHT
BEGIN:DAYLIGHT
TZNAME:CEMT
TZOFFSETFROM:+0200
TZOFFSETTO:+0300
DTSTART:19450524T020000
RDATE:19470511T030000
END:DAYLIGHT
BEGIN:DAYLIGHT
TZNAME:CEST
TZOFFSETFROM:+0300
TZOFFSETTO:+0200
DTSTART:19450924T030000
RDATE:19470629T030000
END:DAYLIGHT
BEGIN:STANDARD
TZNAME:CET
TZOFFSETFROM:+0100
TZOFFSETTO:+0100
DTSTART:19460101T000000
RDATE:19800101T000000
END:STANDARD
BEGIN:STANDARD
TZNAME:CET
TZOFFSETFROM:+0200
TZOFFSETTO:+0100
DTSTART:19471005T030000
RRULE:FREQ=YEARLY;UNTIL=19491002T010000Z;BYMONTH=10;BYDAY=1SU
END:STANDARD
BEGIN:STANDARD
TZNAME:CET
TZOFFSETFROM:+0200
TZOFFSETTO:+0100
DTSTART:19800928T030000
RRULE:FREQ=YEARLY;UNTIL=19950924T010000Z;BYMONTH=9;BYDAY=-1SU
END:STANDARD
BEGIN:DAYLIGHT
TZNAME:CEST
TZOFFSETFROM:+0100
TZOFFSETTO:+0200
DTSTART:19810329T020000
RRULE:FREQ=YEARLY;BYMONTH=3;BYDAY=-1SU
END:DAYLIGHT
BEGIN:STANDARD
TZNAME:CET
TZOFFSETFROM:+0200
TZOFFSETTO:+0100
DTSTART:19961027T030000
RRULE:FREQ=YEARLY;BYMONTH=10;BYDAY=-1SU
END:STANDARD
END:VTIMEZONE
BEGIN:VEVENT
DTSTAMP:20260424T150420Z
DTSTART;TZID=Europe/Berlin:20260313T201500
DTEND;TZID=Europe/Berlin:20260313T231500
SUMMARY:2° Divisione ABTT III vs Lugano V (27)
UID:1c09d6fe-589c-4dd5-b8b7-c8fc1fa5311f
STATUS:CONFIRMED
LAST-MODIFIED:20260316T072710Z
DESCRIPTION:2° Divisione\nBegegnungs-Nr: 27\nHeim: ABTT III\nGast: Lugano V\n\nAdresse: Francesco Chiesa 2a\, 6500 Bellinzona\n
LOCATION:Francesco Chiesa 2a\, 6500 Bellinzona
CATEGORIES:Saison 2025/26
END:VEVENT
BEGIN:VEVENT
DTSTAMP:20260424T150420Z
DTSTART;TZID=Europe/Berlin:20251010T201500
DTEND;TZID=Europe/Berlin:20251010T231500
SUMMARY:2° Divisione ABTT III vs Tenero II (6)
UID:4045fa1f-9227-4e3b-a2fa-be4fb06ba0b1
STATUS:CONFIRMED
LAST-MODIFIED:20251014T063059Z
DESCRIPTION:2° Divisione\nBegegnungs-Nr: 6\nHeim: ABTT III\nGast: Tenero II\n\nAdresse: Francesco Chiesa 2a\, 6500 Bellinzona\n
LOCATION:Francesco Chiesa 2a\, 6500 Bellinzona
CATEGORIES:Saison 2025/26
END:VEVENT
BEGIN:VEVENT
DTSTAMP:20260424T150420Z
DTSTART;TZID=Europe/Berlin:20251024T201500
DTEND;TZID=Europe/Berlin:20251024T231500
SUMMARY:2° Divisione ABTT III vs Lugano IV (8)
UID:c1f57f03-6eba-4470-a12c-ef92dc618312
STATUS:CONFIRMED
LAST-MODIFIED:20251027T065436Z
DESCRIPTION:2° Divisione\nBegegnungs-Nr: 8\nHeim: ABTT III\nGast: Lugano IV\n\nAdresse: Francesco Chiesa 2a\, 6500 Bellinzona\n
LOCATION:Francesco Chiesa 2a\, 6500 Bellinzona
CATEGORIES:Saison 2025/26
END:VEVENT
BEGIN:VEVENT
DTSTAMP:20260424T150420Z
DTSTART;TZID=Europe/Berlin:20251205T201500
DTEND;TZID=Europe/Berlin:20251205T231500
SUMMARY:2° Divisione ABTT III vs Locarno III (15)
UID:aff83134-373f-48ee-af4e-2b84189c3703
STATUS:CONFIRMED
LAST-MODIFIED:20251208T085903Z
DESCRIPTION:2° Divisione\nBegegnungs-Nr: 15\nHeim: ABTT III\nGast: Locarno III\n\nAdresse: Francesco Chiesa 2a\, 6500 Bellinzona\n
LOCATION:Francesco Chiesa 2a\, 6500 Bellinzona
CATEGORIES:Saison 2025/26
END:VEVENT
BEGIN:VEVENT
DTSTAMP:20260424T150420Z
DTSTART;TZID=Europe/Berlin:20260116T201500
DTEND;TZID=Europe/Berlin:20260116T231500
SUMMARY:2° Divisione ABTT III vs Riva S.Vitale II (16)
UID:10f5fed7-552f-421f-b5ed-f0755adde2df
STATUS:CONFIRMED
LAST-MODIFIED:20260119T081451Z
DESCRIPTION:2° Divisione\nBegegnungs-Nr: 16\nHeim: ABTT III\nGast: Riva S.Vitale II\n\nAdresse: Francesco Chiesa 2a\, 6500 Bellinzona\n
LOCATION:Francesco Chiesa 2a\, 6500 Bellinzona
CATEGORIES:Saison 2025/26
END:VEVENT
BEGIN:VEVENT
DTSTAMP:20260424T150420Z
DTSTART;TZID=Europe/Berlin:20250926T203000
DTEND;TZID=Europe/Berlin:20250926T233000
SUMMARY:2° Divisione Riva S.Vitale II vs ABTT III (1)
UID:fa1d0bf3-f42b-4961-9968-b40014c4d77e
STATUS:CONFIRMED
LAST-MODIFIED:20251002T064751Z
DESCRIPTION:2° Divisione\nBegegnungs-Nr: 1\nHeim: Riva S.Vitale II\nGast: ABTT III\n\nAdresse: Via Monsignor Sesti\, 6826 Riva San Vitale\n
LOCATION:Via Monsignor Sesti\, 6826 Riva San Vitale
CATEGORIES:Saison 2025/26
END:VEVENT
BEGIN:VEVENT
DTSTAMP:20260424T150420Z
DTSTART;TZID=Europe/Berlin:20260327T203000
DTEND;TZID=Europe/Berlin:20260327T233000
SUMMARY:2° Divisione Locarno III vs ABTT III (30)
UID:7647be60-33b5-4c9c-bd61-311b25954e97
STATUS:CONFIRMED
LAST-MODIFIED:20260330T095115Z
DESCRIPTION:2° Divisione\nBegegnungs-Nr: 30\nHeim: Locarno III\nGast: ABTT III\n\nAdresse: Via alla Morettina 3\, 6600 Locarno\n
LOCATION:Via alla Morettina 3\, 6600 Locarno
CATEGORIES:Saison 2025/26
END:VEVENT
BEGIN:VEVENT
DTSTAMP:20260424T150420Z
DTSTART;TZID=Europe/Berlin:20260130T194500
DTEND;TZID=Europe/Berlin:20260130T224500
SUMMARY:2° Divisione Tenero II vs ABTT III (21)
UID:32eeaecd-fbda-4b9b-89d9-1cc90de36b92
STATUS:CONFIRMED
LAST-MODIFIED:20260202T075544Z
DESCRIPTION:2° Divisione\nBegegnungs-Nr: 21\nHeim: Tenero II\nGast: ABTT III\n\nAdresse: Palestra Naviglio\, Gottardo\, Squash\, 6598 Tenero\n
LOCATION:Palestra Naviglio\, Gottardo\, Squash\, 6598 Tenero
CATEGORIES:Saison 2025/26
END:VEVENT
BEGIN:VEVENT
DTSTAMP:20260424T150420Z
DTSTART;TZID=Europe/Berlin:20260226T201500
DTEND;TZID=Europe/Berlin:20260226T231500
SUMMARY:2° Divisione Lugano IV vs ABTT III (23)
UID:31aac2e0-088e-44b3-925b-cacbeefeba4f
STATUS:CONFIRMED
LAST-MODIFIED:20260301T111829Z
DESCRIPTION:2° Divisione\nBegegnungs-Nr: 23\nHeim: Lugano IV\nGast: ABTT III\n\nAdresse: Via al Chioso 7\, 6900 Lugano-Cassarate\n
LOCATION:Via al Chioso 7\, 6900 Lugano-Cassarate
CATEGORIES:Saison 2025/26
END:VEVENT
BEGIN:VEVENT
DTSTAMP:20260424T150420Z
DTSTART;TZID=Europe/Berlin:20251121T201500
DTEND;TZID=Europe/Berlin:20251121T231500
SUMMARY:2° Divisione Lugano V vs ABTT III (12)
UID:c1d05967-1166-42de-92f6-f40d6b292149
STATUS:CONFIRMED
LAST-MODIFIED:20251124T075022Z
DESCRIPTION:2° Divisione\nBegegnungs-Nr: 12\nHeim: Lugano V\nGast: ABTT III\n\nAdresse: Via al Chioso 7\, 6900 Lugano-Cassarate\n
LOCATION:Via al Chioso 7\, 6900 Lugano-Cassarate
CATEGORIES:Saison 2025/26
END:VEVENT
END:VCALENDAR
