BEGIN:VCALENDAR
PRODID:-//nuDatenautomaten//framework iCal4j //DE
VERSION:2.0
CALSCALE:GREGORIAN
BEGIN:VTIMEZONE
TZID:Europe/Berlin
LAST-MODIFIED:20260306T231828Z
TZURL:https://www.tzurl.org/zoneinfo/Europe/Berlin
X-LIC-LOCATION:Europe/Berlin
X-PROLEPTIC-TZNAME:LMT
BEGIN:STANDARD
TZNAME:CET
TZOFFSETFROM:+005328
TZOFFSETTO:+0100
DTSTART:18930401T000000
END:STANDARD
BEGIN:DAYLIGHT
TZNAME:CEST
TZOFFSETFROM:+0100
TZOFFSETTO:+0200
DTSTART:19160430T230000
RDATE:19400401T020000
RDATE:19430329T020000
RDATE:19460414T020000
RDATE:19470406T030000
RDATE:19480418T020000
RDATE:19490410T020000
RDATE:19800406T020000
END:DAYLIGHT
BEGIN:STANDARD
TZNAME:CET
TZOFFSETFROM:+0200
TZOFFSETTO:+0100
DTSTART:19161001T010000
RDATE:19421102T030000
RDATE:19431004T030000
RDATE:19441002T030000
RDATE:19451118T030000
RDATE:19461007T030000
END:STANDARD
BEGIN:DAYLIGHT
TZNAME:CEST
TZOFFSETFROM:+0100
TZOFFSETTO:+0200
DTSTART:19170416T020000
RRULE:FREQ=YEARLY;UNTIL=19180415T010000Z;BYMONTH=4;BYDAY=3MO
END:DAYLIGHT
BEGIN:STANDARD
TZNAME:CET
TZOFFSETFROM:+0200
TZOFFSETTO:+0100
DTSTART:19170917T030000
RRULE:FREQ=YEARLY;UNTIL=19180916T010000Z;BYMONTH=9;BYDAY=3MO
END:STANDARD
BEGIN:DAYLIGHT
TZNAME:CEST
TZOFFSETFROM:+0100
TZOFFSETTO:+0200
DTSTART:19440403T020000
RRULE:FREQ=YEARLY;UNTIL=19450402T010000Z;BYMONTH=4;BYDAY=1MO
END:DAYLIGHT
BEGIN:DAYLIGHT
TZNAME:CEMT
TZOFFSETFROM:+0200
TZOFFSETTO:+0300
DTSTART:19450524T020000
RDATE:19470511T030000
END:DAYLIGHT
BEGIN:DAYLIGHT
TZNAME:CEST
TZOFFSETFROM:+0300
TZOFFSETTO:+0200
DTSTART:19450924T030000
RDATE:19470629T030000
END:DAYLIGHT
BEGIN:STANDARD
TZNAME:CET
TZOFFSETFROM:+0100
TZOFFSETTO:+0100
DTSTART:19460101T000000
RDATE:19800101T000000
END:STANDARD
BEGIN:STANDARD
TZNAME:CET
TZOFFSETFROM:+0200
TZOFFSETTO:+0100
DTSTART:19471005T030000
RRULE:FREQ=YEARLY;UNTIL=19491002T010000Z;BYMONTH=10;BYDAY=1SU
END:STANDARD
BEGIN:STANDARD
TZNAME:CET
TZOFFSETFROM:+0200
TZOFFSETTO:+0100
DTSTART:19800928T030000
RRULE:FREQ=YEARLY;UNTIL=19950924T010000Z;BYMONTH=9;BYDAY=-1SU
END:STANDARD
BEGIN:DAYLIGHT
TZNAME:CEST
TZOFFSETFROM:+0100
TZOFFSETTO:+0200
DTSTART:19810329T020000
RRULE:FREQ=YEARLY;BYMONTH=3;BYDAY=-1SU
END:DAYLIGHT
BEGIN:STANDARD
TZNAME:CET
TZOFFSETFROM:+0200
TZOFFSETTO:+0100
DTSTART:19961027T030000
RRULE:FREQ=YEARLY;BYMONTH=10;BYDAY=-1SU
END:STANDARD
END:VTIMEZONE
BEGIN:VEVENT
DTSTAMP:20260424T082636Z
DTSTART;TZID=Europe/Berlin:20251115T160000
DTEND;TZID=Europe/Berlin:20251115T190000
SUMMARY:JUG\, 3.Li\, Gr.2\, ZR Young Stars ZH III vs Horgen II (6)
UID:ba93e0cb-b8f1-4302-8ad7-17b51f9c26f9
STATUS:CONFIRMED
LAST-MODIFIED:20251124T150700Z
DESCRIPTION:Jugend\, 3. Liga\, Gruppe 2\, Zwischenrunde\nBegegnungs-Nr: 6\nHeim: Young Stars ZH III\nGast: Horgen II\n\nAdresse: Balgriststrasse 55\, 8008 Zürich\n
LOCATION:Balgriststrasse 55\, 8008 Zürich
CATEGORIES:Saison 2025/26
END:VEVENT
BEGIN:VEVENT
DTSTAMP:20260424T082636Z
DTSTART;TZID=Europe/Berlin:20250830T143000
DTEND;TZID=Europe/Berlin:20250830T173000
SUMMARY:JUG\, 3.Li\, Gr.2\, VR Young Stars ZH III vs Buchs Zürich (4)
UID:851df770-aff6-4987-b961-5dfb8b723466
STATUS:CONFIRMED
LAST-MODIFIED:20250902T124503Z
DESCRIPTION:Jugend\, 3. Liga\, Gruppe 2\, Vorrunde\nBegegnungs-Nr: 4\nHeim: Young Stars ZH III\nGast: Buchs Zürich\n\nAdresse: Balgriststrasse 55\, 8008 Zürich\n
LOCATION:Balgriststrasse 55\, 8008 Zürich
CATEGORIES:Saison 2025/26
END:VEVENT
BEGIN:VEVENT
DTSTAMP:20260424T082636Z
DTSTART;TZID=Europe/Berlin:20250830T130000
DTEND;TZID=Europe/Berlin:20250830T160000
SUMMARY:JUG\, 3.Li\, Gr.2\, VR Young Stars ZH III vs Bülach III (1)
UID:d39172f8-eb03-4fa1-8d57-7e2ce9210f3b
STATUS:CONFIRMED
LAST-MODIFIED:20250902T124353Z
DESCRIPTION:Jugend\, 3. Liga\, Gruppe 2\, Vorrunde\nBegegnungs-Nr: 1\nHeim: Young Stars ZH III\nGast: Bülach III\nHalle: Poule in Zürich\, TH Balgrist\nAdresse: Balgriststrasse 55\, 8008 Zürich\n
LOCATION:Poule in Zürich\, TH Balgrist Balgriststrasse 55\, 8008 Zürich
CATEGORIES:Saison 2025/26
END:VEVENT
BEGIN:VEVENT
DTSTAMP:20260424T082636Z
DTSTART;TZID=Europe/Berlin:20260328T160000
DTEND;TZID=Europe/Berlin:20260328T190000
SUMMARY:JUG\, 3.Li\, Gr.1\, Final Young Stars ZH III vs Romanshorn (6)
UID:d723753d-ffed-44f1-a2e1-a23cc7f2143a
STATUS:CONFIRMED
LAST-MODIFIED:20260328T163746Z
DESCRIPTION:Jugend\, 3. Liga\, Gruppe 1\, Final\nBegegnungs-Nr: 6\nHeim: Young Stars ZH III\nGast: Romanshorn\n\nAdresse: Balgriststrasse 55\, 8008 Zürich\n
LOCATION:Balgriststrasse 55\, 8008 Zürich
CATEGORIES:Saison 2025/26
END:VEVENT
BEGIN:VEVENT
DTSTAMP:20260424T082636Z
DTSTART;TZID=Europe/Berlin:20251115T143000
DTEND;TZID=Europe/Berlin:20251115T173000
SUMMARY:JUG\, 3.Li\, Gr.2\, ZR Affoltern A/A III vs Young Stars ZH III (3)
UID:94aea9d3-d1da-4daf-811e-91e17a6b3a48
STATUS:CONFIRMED
LAST-MODIFIED:20251121T100012Z
DESCRIPTION:Jugend\, 3. Liga\, Gruppe 2\, Zwischenrunde\nBegegnungs-Nr: 3\nHeim: Affoltern A/A III\nGast: Young Stars ZH III\n\nAdresse: Butzenstrasse 8\, 8910 Affoltern am Albis\n
LOCATION:Butzenstrasse 8\, 8910 Affoltern am Albis
CATEGORIES:Saison 2025/26
END:VEVENT
BEGIN:VEVENT
DTSTAMP:20260424T082636Z
DTSTART;TZID=Europe/Berlin:20251115T130000
DTEND;TZID=Europe/Berlin:20251115T160000
SUMMARY:JUG\, 3.Li\, Gr.2\, ZR Kloten III vs Young Stars ZH III (2)
UID:3a028ed4-bbb4-40df-bd50-58934205a1d8
STATUS:CONFIRMED
LAST-MODIFIED:20251121T100003Z
DESCRIPTION:Jugend\, 3. Liga\, Gruppe 2\, Zwischenrunde\nBegegnungs-Nr: 2\nHeim: Kloten III\nGast: Young Stars ZH III\n\nAdresse: Schluefweg 10\, 8302 Kloten\n
LOCATION:Schluefweg 10\, 8302 Kloten
CATEGORIES:Saison 2025/26
END:VEVENT
BEGIN:VEVENT
DTSTAMP:20260424T082636Z
DTSTART;TZID=Europe/Berlin:20250830T160000
DTEND;TZID=Europe/Berlin:20250830T190000
SUMMARY:JUG\, 3.Li\, Gr.2\, VR Neuhausen III vs Young Stars ZH III (6)
UID:dc0de73e-a372-4268-af6a-94770dd733d8
STATUS:CONFIRMED
LAST-MODIFIED:20250902T124642Z
DESCRIPTION:Jugend\, 3. Liga\, Gruppe 2\, Vorrunde\nBegegnungs-Nr: 6\nHeim: Neuhausen III\nGast: Young Stars ZH III\n\nAdresse: Ebnatstrasse 35\, 8200 Schaffhausen\n
LOCATION:Ebnatstrasse 35\, 8200 Schaffhausen
CATEGORIES:Saison 2025/26
END:VEVENT
BEGIN:VEVENT
DTSTAMP:20260424T082636Z
DTSTART;TZID=Europe/Berlin:20260328T130000
DTEND;TZID=Europe/Berlin:20260328T160000
SUMMARY:JUG\, 3.Li\, Gr.1\, Final Wädenswil II vs Young Stars ZH III (2)
UID:43452b83-8c00-4693-9504-763ebabe4717
STATUS:CONFIRMED
LAST-MODIFIED:20260328T163650Z
DESCRIPTION:Jugend\, 3. Liga\, Gruppe 1\, Final\nBegegnungs-Nr: 2\nHeim: Wädenswil II\nGast: Young Stars ZH III\n\nAdresse: Fuhrstrasse 16b\, 8820 Wädenswil\n
LOCATION:Fuhrstrasse 16b\, 8820 Wädenswil
CATEGORIES:Saison 2025/26
END:VEVENT
BEGIN:VEVENT
DTSTAMP:20260424T082636Z
DTSTART;TZID=Europe/Berlin:20260328T143000
DTEND;TZID=Europe/Berlin:20260328T173000
SUMMARY:JUG\, 3.Li\, Gr.1\, Final Bülach II vs Young Stars ZH III (3)
UID:b1921e35-1f68-4a26-9be6-915572201a41
STATUS:CONFIRMED
LAST-MODIFIED:20260328T163714Z
DESCRIPTION:Jugend\, 3. Liga\, Gruppe 1\, Final\nBegegnungs-Nr: 3\nHeim: Bülach II\nGast: Young Stars ZH III\n\nAdresse: Schwerzgruebstrasse 28\, 8180 Bülach\n
LOCATION:Schwerzgruebstrasse 28\, 8180 Bülach
CATEGORIES:Saison 2025/26
END:VEVENT
END:VCALENDAR
