BEGIN:VCALENDAR
PRODID:-//nuDatenautomaten//framework iCal4j //DE
VERSION:2.0
CALSCALE:GREGORIAN
BEGIN:VTIMEZONE
TZID:Europe/Berlin
LAST-MODIFIED:20260306T231828Z
TZURL:https://www.tzurl.org/zoneinfo/Europe/Berlin
X-LIC-LOCATION:Europe/Berlin
X-PROLEPTIC-TZNAME:LMT
BEGIN:STANDARD
TZNAME:CET
TZOFFSETFROM:+005328
TZOFFSETTO:+0100
DTSTART:18930401T000000
END:STANDARD
BEGIN:DAYLIGHT
TZNAME:CEST
TZOFFSETFROM:+0100
TZOFFSETTO:+0200
DTSTART:19160430T230000
RDATE:19400401T020000
RDATE:19430329T020000
RDATE:19460414T020000
RDATE:19470406T030000
RDATE:19480418T020000
RDATE:19490410T020000
RDATE:19800406T020000
END:DAYLIGHT
BEGIN:STANDARD
TZNAME:CET
TZOFFSETFROM:+0200
TZOFFSETTO:+0100
DTSTART:19161001T010000
RDATE:19421102T030000
RDATE:19431004T030000
RDATE:19441002T030000
RDATE:19451118T030000
RDATE:19461007T030000
END:STANDARD
BEGIN:DAYLIGHT
TZNAME:CEST
TZOFFSETFROM:+0100
TZOFFSETTO:+0200
DTSTART:19170416T020000
RRULE:FREQ=YEARLY;UNTIL=19180415T010000Z;BYMONTH=4;BYDAY=3MO
END:DAYLIGHT
BEGIN:STANDARD
TZNAME:CET
TZOFFSETFROM:+0200
TZOFFSETTO:+0100
DTSTART:19170917T030000
RRULE:FREQ=YEARLY;UNTIL=19180916T010000Z;BYMONTH=9;BYDAY=3MO
END:STANDARD
BEGIN:DAYLIGHT
TZNAME:CEST
TZOFFSETFROM:+0100
TZOFFSETTO:+0200
DTSTART:19440403T020000
RRULE:FREQ=YEARLY;UNTIL=19450402T010000Z;BYMONTH=4;BYDAY=1MO
END:DAYLIGHT
BEGIN:DAYLIGHT
TZNAME:CEMT
TZOFFSETFROM:+0200
TZOFFSETTO:+0300
DTSTART:19450524T020000
RDATE:19470511T030000
END:DAYLIGHT
BEGIN:DAYLIGHT
TZNAME:CEST
TZOFFSETFROM:+0300
TZOFFSETTO:+0200
DTSTART:19450924T030000
RDATE:19470629T030000
END:DAYLIGHT
BEGIN:STANDARD
TZNAME:CET
TZOFFSETFROM:+0100
TZOFFSETTO:+0100
DTSTART:19460101T000000
RDATE:19800101T000000
END:STANDARD
BEGIN:STANDARD
TZNAME:CET
TZOFFSETFROM:+0200
TZOFFSETTO:+0100
DTSTART:19471005T030000
RRULE:FREQ=YEARLY;UNTIL=19491002T010000Z;BYMONTH=10;BYDAY=1SU
END:STANDARD
BEGIN:STANDARD
TZNAME:CET
TZOFFSETFROM:+0200
TZOFFSETTO:+0100
DTSTART:19800928T030000
RRULE:FREQ=YEARLY;UNTIL=19950924T010000Z;BYMONTH=9;BYDAY=-1SU
END:STANDARD
BEGIN:DAYLIGHT
TZNAME:CEST
TZOFFSETFROM:+0100
TZOFFSETTO:+0200
DTSTART:19810329T020000
RRULE:FREQ=YEARLY;BYMONTH=3;BYDAY=-1SU
END:DAYLIGHT
BEGIN:STANDARD
TZNAME:CET
TZOFFSETFROM:+0200
TZOFFSETTO:+0100
DTSTART:19961027T030000
RRULE:FREQ=YEARLY;BYMONTH=10;BYDAY=-1SU
END:STANDARD
END:VTIMEZONE
BEGIN:VEVENT
DTSTAMP:20260424T151709Z
DTSTART;TZID=Europe/Berlin:20250818T201500
DTEND;TZID=Europe/Berlin:20250818T231500
SUMMARY:HE 4. Liga Gr. 4 Döttingen IV vs Brugg III (0)
UID:3866eecc-8a10-46c3-9387-d9c210977731
STATUS:CONFIRMED
LAST-MODIFIED:20250825T070242Z
DESCRIPTION:4. Liga Herren Gruppe 4\nBegegnungs-Nr: 0\nHeim: Döttingen IV\nGast: Brugg III\n\nAdresse: Im Bogen\, Chilbert 25\, 5312 Döttingen\n
LOCATION:Im Bogen\, Chilbert 25\, 5312 Döttingen
CATEGORIES:Saison 2025/26
END:VEVENT
BEGIN:VEVENT
DTSTAMP:20260424T151709Z
DTSTART;TZID=Europe/Berlin:20251117T201500
DTEND;TZID=Europe/Berlin:20251117T231500
SUMMARY:HE 4. Liga Gr. 4 Döttingen IV vs Baden-Wettingen V (0)
UID:17f38a74-5f54-4979-8330-3d467c73ce70
STATUS:CONFIRMED
LAST-MODIFIED:20251120T083259Z
DESCRIPTION:4. Liga Herren Gruppe 4\nBegegnungs-Nr: 0\nHeim: Döttingen IV\nGast: Baden-Wettingen V\n\nAdresse: Im Bogen\, Chilbert 25\, 5312 Döttingen\n
LOCATION:Im Bogen\, Chilbert 25\, 5312 Döttingen
CATEGORIES:Saison 2025/26
END:VEVENT
BEGIN:VEVENT
DTSTAMP:20260424T151709Z
DTSTART;TZID=Europe/Berlin:20260323T201500
DTEND;TZID=Europe/Berlin:20260323T231500
SUMMARY:HE 4. Liga Gr. 4 Döttingen IV vs Muri (0)
UID:65d37c8c-1045-42fe-b227-71938c01817d
STATUS:CONFIRMED
LAST-MODIFIED:20260416T093800Z
DESCRIPTION:4. Liga Herren Gruppe 4\nBegegnungs-Nr: 0\nHeim: Döttingen IV\nGast: Muri\n\nAdresse: Im Bogen\, Chilbert 25\, 5312 Döttingen\n
LOCATION:Im Bogen\, Chilbert 25\, 5312 Döttingen
CATEGORIES:Saison 2025/26
END:VEVENT
BEGIN:VEVENT
DTSTAMP:20260424T151709Z
DTSTART;TZID=Europe/Berlin:20260112T201500
DTEND;TZID=Europe/Berlin:20260112T231500
SUMMARY:HE 4. Liga Gr. 4 Döttingen IV vs Wohlen (0)
UID:31dde86e-59b4-4875-805b-93e480e3cbeb
STATUS:CONFIRMED
LAST-MODIFIED:20260115T094808Z
DESCRIPTION:4. Liga Herren Gruppe 4\nBegegnungs-Nr: 0\nHeim: Döttingen IV\nGast: Wohlen\n\nAdresse: Im Bogen\, Chilbert 25\, 5312 Döttingen\n
LOCATION:Im Bogen\, Chilbert 25\, 5312 Döttingen
CATEGORIES:Saison 2025/26
END:VEVENT
BEGIN:VEVENT
DTSTAMP:20260424T151709Z
DTSTART;TZID=Europe/Berlin:20260120T201500
DTEND;TZID=Europe/Berlin:20260120T231500
SUMMARY:HE 4. Liga Gr. 4 Döttingen IV vs Bremgarten VI (0)
UID:8810a57b-14d5-4d1e-9929-a2d289badd1c
STATUS:CONFIRMED
LAST-MODIFIED:20260123T081647Z
DESCRIPTION:4. Liga Herren Gruppe 4\nBegegnungs-Nr: 0\nHeim: Döttingen IV\nGast: Bremgarten VI\n\nAdresse: Im Bogen\, Chilbert 25\, 5312 Döttingen\n
LOCATION:Im Bogen\, Chilbert 25\, 5312 Döttingen
CATEGORIES:Saison 2025/26
END:VEVENT
BEGIN:VEVENT
DTSTAMP:20260424T151709Z
DTSTART;TZID=Europe/Berlin:20260302T201500
DTEND;TZID=Europe/Berlin:20260302T231500
SUMMARY:HE 4. Liga Gr. 4 Döttingen IV vs Oberrohrdorf (0)
UID:9b7bbc7c-9382-47d8-b12b-ebded737ec1e
STATUS:CONFIRMED
LAST-MODIFIED:20260304T104337Z
DESCRIPTION:4. Liga Herren Gruppe 4\nBegegnungs-Nr: 0\nHeim: Döttingen IV\nGast: Oberrohrdorf\n\nAdresse: Im Bogen\, Chilbert 25\, 5312 Döttingen\n
LOCATION:Im Bogen\, Chilbert 25\, 5312 Döttingen
CATEGORIES:Saison 2025/26
END:VEVENT
BEGIN:VEVENT
DTSTAMP:20260424T151709Z
DTSTART;TZID=Europe/Berlin:20260223T201500
DTEND;TZID=Europe/Berlin:20260223T231500
SUMMARY:HE 4. Liga Gr. 4 Döttingen IV vs Frick IV (0)
UID:eac05db7-9874-484f-8d28-223f0207bc73
STATUS:CONFIRMED
LAST-MODIFIED:20260225T111854Z
DESCRIPTION:4. Liga Herren Gruppe 4\nBegegnungs-Nr: 0\nHeim: Döttingen IV\nGast: Frick IV\n\nAdresse: Im Bogen\, Chilbert 25\, 5312 Döttingen\n
LOCATION:Im Bogen\, Chilbert 25\, 5312 Döttingen
CATEGORIES:Saison 2025/26
END:VEVENT
BEGIN:VEVENT
DTSTAMP:20260424T151709Z
DTSTART;TZID=Europe/Berlin:20260309T194500
DTEND;TZID=Europe/Berlin:20260309T224500
SUMMARY:HE 4. Liga Gr. 4 Baden-Wettingen V vs Döttingen IV (0)
UID:913a8eeb-6a7a-4d4c-8ce8-464fdaa9d646
STATUS:CONFIRMED
LAST-MODIFIED:20260313T130559Z
DESCRIPTION:4. Liga Herren Gruppe 4\nBegegnungs-Nr: 0\nHeim: Baden-Wettingen V\nGast: Döttingen IV\n\nAdresse: Wiesenstrasse 32 (Parkhaus Schmiede Fabrikstrasse)\, 5400 Baden\n
LOCATION:Wiesenstrasse 32 (Parkhaus Schmiede Fabrikstrasse)\, 5400 Baden
CATEGORIES:Saison 2025/26
END:VEVENT
BEGIN:VEVENT
DTSTAMP:20260424T151709Z
DTSTART;TZID=Europe/Berlin:20250827T194500
DTEND;TZID=Europe/Berlin:20250827T224500
SUMMARY:HE 4. Liga Gr. 4 Wohlen vs Döttingen IV (0)
UID:834414f3-a61f-40d5-a8e1-371e327e647c
STATUS:CONFIRMED
LAST-MODIFIED:20250905T121437Z
DESCRIPTION:4. Liga Herren Gruppe 4\nBegegnungs-Nr: 0\nHeim: Wohlen\nGast: Döttingen IV\n\nAdresse: Hofmattenweg 17\, 5610 Wohlen\, bei verschlossener Tür Klingel Halle 3 betätigen (links neben Türen)\n
LOCATION:Hofmattenweg 17\, 5610 Wohlen\, bei verschlossener Tür Klingel Halle 3 betätigen (links neben Türen)
CATEGORIES:Saison 2025/26
END:VEVENT
BEGIN:VEVENT
DTSTAMP:20260424T151709Z
DTSTART;TZID=Europe/Berlin:20250909T201500
DTEND;TZID=Europe/Berlin:20250909T231500
SUMMARY:HE 4. Liga Gr. 4 Bremgarten VI vs Döttingen IV (0)
UID:62726bcd-a135-4bd6-b485-1ea15dd8026f
STATUS:CONFIRMED
LAST-MODIFIED:20250911T111204Z
DESCRIPTION:4. Liga Herren Gruppe 4\nBegegnungs-Nr: 0\nHeim: Bremgarten VI\nGast: Döttingen IV\n\nAdresse: Badstrasse 3\, 5620 Bremgarten\n
LOCATION:Badstrasse 3\, 5620 Bremgarten
CATEGORIES:Saison 2025/26
END:VEVENT
BEGIN:VEVENT
DTSTAMP:20260424T151709Z
DTSTART;TZID=Europe/Berlin:20251117T201500
DTEND;TZID=Europe/Berlin:20251117T231500
SUMMARY:HE 4. Liga Gr. 4 Oberrohrdorf vs Döttingen IV (0)
UID:7c71ce69-74dc-4d9a-9403-d533a9c45f57
STATUS:CONFIRMED
LAST-MODIFIED:20251120T083324Z
DESCRIPTION:4. Liga Herren Gruppe 4\nBegegnungs-Nr: 0\nHeim: Oberrohrdorf\nGast: Döttingen IV\n\nAdresse: Hinterbächlistrasse\, 5452 Oberrohrdorf\n
LOCATION:Hinterbächlistrasse\, 5452 Oberrohrdorf
CATEGORIES:Saison 2025/26
END:VEVENT
BEGIN:VEVENT
DTSTAMP:20260424T151709Z
DTSTART;TZID=Europe/Berlin:20251020T200000
DTEND;TZID=Europe/Berlin:20251020T230000
SUMMARY:HE 4. Liga Gr. 4 Frick IV vs Döttingen IV (0)
UID:19c7ce8f-b37e-4547-9008-d3b962f16575
STATUS:CONFIRMED
LAST-MODIFIED:20251021T080606Z
DESCRIPTION:4. Liga Herren Gruppe 4\nBegegnungs-Nr: 0\nHeim: Frick IV\nGast: Döttingen IV\n\nAdresse: Schulstrasse 51\, 5070 Frick\n
LOCATION:Schulstrasse 51\, 5070 Frick
CATEGORIES:Saison 2025/26
END:VEVENT
BEGIN:VEVENT
DTSTAMP:20260424T151709Z
DTSTART;TZID=Europe/Berlin:20251211T200000
DTEND;TZID=Europe/Berlin:20251211T230000
SUMMARY:HE 4. Liga Gr. 4 Muri vs Döttingen IV (0)
UID:3ed229c5-6add-4c8b-89e6-f93913c72592
STATUS:CONFIRMED
LAST-MODIFIED:20251212T080902Z
DESCRIPTION:4. Liga Herren Gruppe 4\nBegegnungs-Nr: 0\nHeim: Muri\nGast: Döttingen IV\n\nAdresse: Badweiherstrasse\, 5630 Muri AG\n
LOCATION:Badweiherstrasse\, 5630 Muri AG
CATEGORIES:Saison 2025/26
END:VEVENT
BEGIN:VEVENT
DTSTAMP:20260424T151709Z
DTSTART;TZID=Europe/Berlin:20251216T194500
DTEND;TZID=Europe/Berlin:20251216T224500
SUMMARY:HE 4. Liga Gr. 4 Brugg III vs Döttingen IV (0)
UID:f57f9876-799b-47fd-9992-3c2d64313c09
STATUS:CONFIRMED
LAST-MODIFIED:20251217T080733Z
DESCRIPTION:4. Liga Herren Gruppe 4\nBegegnungs-Nr: 0\nHeim: Brugg III\nGast: Döttingen IV\n\nAdresse: Sommerhaldenstrasse 29\, 5200 Brugg/Lauffohr\n
LOCATION:Sommerhaldenstrasse 29\, 5200 Brugg/Lauffohr
CATEGORIES:Saison 2025/26
END:VEVENT
END:VCALENDAR
