BEGIN:VCALENDAR
PRODID:-//nuDatenautomaten//framework iCal4j //DE
VERSION:2.0
CALSCALE:GREGORIAN
BEGIN:VTIMEZONE
TZID:Europe/Berlin
LAST-MODIFIED:20260306T231828Z
TZURL:https://www.tzurl.org/zoneinfo/Europe/Berlin
X-LIC-LOCATION:Europe/Berlin
X-PROLEPTIC-TZNAME:LMT
BEGIN:STANDARD
TZNAME:CET
TZOFFSETFROM:+005328
TZOFFSETTO:+0100
DTSTART:18930401T000000
END:STANDARD
BEGIN:DAYLIGHT
TZNAME:CEST
TZOFFSETFROM:+0100
TZOFFSETTO:+0200
DTSTART:19160430T230000
RDATE:19400401T020000
RDATE:19430329T020000
RDATE:19460414T020000
RDATE:19470406T030000
RDATE:19480418T020000
RDATE:19490410T020000
RDATE:19800406T020000
END:DAYLIGHT
BEGIN:STANDARD
TZNAME:CET
TZOFFSETFROM:+0200
TZOFFSETTO:+0100
DTSTART:19161001T010000
RDATE:19421102T030000
RDATE:19431004T030000
RDATE:19441002T030000
RDATE:19451118T030000
RDATE:19461007T030000
END:STANDARD
BEGIN:DAYLIGHT
TZNAME:CEST
TZOFFSETFROM:+0100
TZOFFSETTO:+0200
DTSTART:19170416T020000
RRULE:FREQ=YEARLY;UNTIL=19180415T010000Z;BYMONTH=4;BYDAY=3MO
END:DAYLIGHT
BEGIN:STANDARD
TZNAME:CET
TZOFFSETFROM:+0200
TZOFFSETTO:+0100
DTSTART:19170917T030000
RRULE:FREQ=YEARLY;UNTIL=19180916T010000Z;BYMONTH=9;BYDAY=3MO
END:STANDARD
BEGIN:DAYLIGHT
TZNAME:CEST
TZOFFSETFROM:+0100
TZOFFSETTO:+0200
DTSTART:19440403T020000
RRULE:FREQ=YEARLY;UNTIL=19450402T010000Z;BYMONTH=4;BYDAY=1MO
END:DAYLIGHT
BEGIN:DAYLIGHT
TZNAME:CEMT
TZOFFSETFROM:+0200
TZOFFSETTO:+0300
DTSTART:19450524T020000
RDATE:19470511T030000
END:DAYLIGHT
BEGIN:DAYLIGHT
TZNAME:CEST
TZOFFSETFROM:+0300
TZOFFSETTO:+0200
DTSTART:19450924T030000
RDATE:19470629T030000
END:DAYLIGHT
BEGIN:STANDARD
TZNAME:CET
TZOFFSETFROM:+0100
TZOFFSETTO:+0100
DTSTART:19460101T000000
RDATE:19800101T000000
END:STANDARD
BEGIN:STANDARD
TZNAME:CET
TZOFFSETFROM:+0200
TZOFFSETTO:+0100
DTSTART:19471005T030000
RRULE:FREQ=YEARLY;UNTIL=19491002T010000Z;BYMONTH=10;BYDAY=1SU
END:STANDARD
BEGIN:STANDARD
TZNAME:CET
TZOFFSETFROM:+0200
TZOFFSETTO:+0100
DTSTART:19800928T030000
RRULE:FREQ=YEARLY;UNTIL=19950924T010000Z;BYMONTH=9;BYDAY=-1SU
END:STANDARD
BEGIN:DAYLIGHT
TZNAME:CEST
TZOFFSETFROM:+0100
TZOFFSETTO:+0200
DTSTART:19810329T020000
RRULE:FREQ=YEARLY;BYMONTH=3;BYDAY=-1SU
END:DAYLIGHT
BEGIN:STANDARD
TZNAME:CET
TZOFFSETFROM:+0200
TZOFFSETTO:+0100
DTSTART:19961027T030000
RRULE:FREQ=YEARLY;BYMONTH=10;BYDAY=-1SU
END:STANDARD
END:VTIMEZONE
BEGIN:VEVENT
DTSTAMP:20260424T151710Z
DTSTART;TZID=Europe/Berlin:20260326T200000
DTEND;TZID=Europe/Berlin:20260326T230000
SUMMARY:HE 6. Liga Gr. 6 Libera Zürich II vs Buchs Zürich IV (0)
UID:91f5fd7a-c786-4545-8a4c-b4e0bf9f292b
STATUS:CONFIRMED
LAST-MODIFIED:20260401T130751Z
DESCRIPTION:6. Liga Herren Gruppe 6\nBegegnungs-Nr: 0\nHeim: Libera Zürich II\nGast: Buchs Zürich IV\n\nAdresse: Sperletweg 71\, 8052 Zürich\n
LOCATION:Sperletweg 71\, 8052 Zürich
CATEGORIES:Saison 2025/26
END:VEVENT
BEGIN:VEVENT
DTSTAMP:20260424T151710Z
DTSTART;TZID=Europe/Berlin:20260416T200000
DTEND;TZID=Europe/Berlin:20260416T230000
SUMMARY:HE 6. Liga Gr. 6 Libera Zürich II vs Seebach-Kügeliloo IV (0)
UID:d701a7d8-d2bb-4f79-934b-488624ede247
STATUS:CONFIRMED
LAST-MODIFIED:20260420T123754Z
DESCRIPTION:6. Liga Herren Gruppe 6\nBegegnungs-Nr: 0\nHeim: Libera Zürich II\nGast: Seebach-Kügeliloo IV\n\nAdresse: Sperletweg 71\, 8052 Zürich\n
LOCATION:Sperletweg 71\, 8052 Zürich
CATEGORIES:Saison 2025/26
END:VEVENT
BEGIN:VEVENT
DTSTAMP:20260424T151710Z
DTSTART;TZID=Europe/Berlin:20260122T200000
DTEND;TZID=Europe/Berlin:20260122T230000
SUMMARY:HE 6. Liga Gr. 6 Libera Zürich II vs Höngg IV (0)
UID:690ff137-df1d-4f4d-a833-3bf9ee78e439
STATUS:CONFIRMED
LAST-MODIFIED:20260123T082746Z
DESCRIPTION:6. Liga Herren Gruppe 6\nBegegnungs-Nr: 0\nHeim: Libera Zürich II\nGast: Höngg IV\n\nAdresse: Sperletweg 71\, 8052 Zürich\n
LOCATION:Sperletweg 71\, 8052 Zürich
CATEGORIES:Saison 2025/26
END:VEVENT
BEGIN:VEVENT
DTSTAMP:20260424T151710Z
DTSTART;TZID=Europe/Berlin:20260305T200000
DTEND;TZID=Europe/Berlin:20260305T230000
SUMMARY:HE 6. Liga Gr. 6 Libera Zürich II vs Thalwil VI (0)
UID:452c6e76-4993-4bbe-85df-e456f1a7d007
STATUS:CONFIRMED
LAST-MODIFIED:20260313T132708Z
DESCRIPTION:6. Liga Herren Gruppe 6\nBegegnungs-Nr: 0\nHeim: Libera Zürich II\nGast: Thalwil VI\n\nAdresse: Sperletweg 71\, 8052 Zürich\n
LOCATION:Sperletweg 71\, 8052 Zürich
CATEGORIES:Saison 2025/26
END:VEVENT
BEGIN:VEVENT
DTSTAMP:20260424T151710Z
DTSTART;TZID=Europe/Berlin:20250828T200000
DTEND;TZID=Europe/Berlin:20250828T230000
SUMMARY:HE 6. Liga Gr. 6 Libera Zürich II vs Zürich-Affoltern IX (0)
UID:bd23a526-000b-4d5f-9436-2d6a1ab003cc
STATUS:CONFIRMED
LAST-MODIFIED:20250829T144347Z
DESCRIPTION:6. Liga Herren Gruppe 6\nBegegnungs-Nr: 0\nHeim: Libera Zürich II\nGast: Zürich-Affoltern IX\n\nAdresse: Sperletweg 71\, 8052 Zürich\n
LOCATION:Sperletweg 71\, 8052 Zürich
CATEGORIES:Saison 2025/26
END:VEVENT
BEGIN:VEVENT
DTSTAMP:20260424T151710Z
DTSTART;TZID=Europe/Berlin:20250918T200000
DTEND;TZID=Europe/Berlin:20250918T230000
SUMMARY:HE 6. Liga Gr. 6 Libera Zürich II vs Young Stars ZH IX (0)
UID:f4ef41be-c23a-42a4-8f64-a297e0ad41fa
STATUS:CONFIRMED
LAST-MODIFIED:20250926T133946Z
DESCRIPTION:6. Liga Herren Gruppe 6\nBegegnungs-Nr: 0\nHeim: Libera Zürich II\nGast: Young Stars ZH IX\n\nAdresse: Sperletweg 71\, 8052 Zürich\n
LOCATION:Sperletweg 71\, 8052 Zürich
CATEGORIES:Saison 2025/26
END:VEVENT
BEGIN:VEVENT
DTSTAMP:20260424T151710Z
DTSTART;TZID=Europe/Berlin:20251030T201500
DTEND;TZID=Europe/Berlin:20251030T231500
SUMMARY:HE 6. Liga Gr. 6 Libera Zürich II vs Pinguin Zürich VI (0)
UID:a6c50877-2aca-4e3e-bfd2-295febf887c4
STATUS:CONFIRMED
LAST-MODIFIED:20251031T144540Z
DESCRIPTION:6. Liga Herren Gruppe 6\nBegegnungs-Nr: 0\nHeim: Libera Zürich II\nGast: Pinguin Zürich VI\n\nAdresse: Sperletweg 71\, 8052 Zürich\n
LOCATION:Sperletweg 71\, 8052 Zürich
CATEGORIES:Saison 2025/26
END:VEVENT
BEGIN:VEVENT
DTSTAMP:20260424T151710Z
DTSTART;TZID=Europe/Berlin:20260107T201500
DTEND;TZID=Europe/Berlin:20260107T231500
SUMMARY:HE 6. Liga Gr. 6 Zürich-Affoltern IX vs Libera Zürich II (0)
UID:3d901370-2797-4307-a478-43da75370832
STATUS:CONFIRMED
LAST-MODIFIED:20260109T080448Z
DESCRIPTION:6. Liga Herren Gruppe 6\nBegegnungs-Nr: 0\nHeim: Zürich-Affoltern IX\nGast: Libera Zürich II\n\nAdresse: Rümlangstr. 89\, 8052 Zürich\n
LOCATION:Rümlangstr. 89\, 8052 Zürich
CATEGORIES:Saison 2025/26
END:VEVENT
BEGIN:VEVENT
DTSTAMP:20260424T151710Z
DTSTART;TZID=Europe/Berlin:20260130T200000
DTEND;TZID=Europe/Berlin:20260130T230000
SUMMARY:HE 6. Liga Gr. 6 Young Stars ZH IX vs Libera Zürich II (0)
UID:93492605-103c-402c-8c88-a79bea294019
STATUS:CONFIRMED
LAST-MODIFIED:20260204T085836Z
DESCRIPTION:6. Liga Herren Gruppe 6\nBegegnungs-Nr: 0\nHeim: Young Stars ZH IX\nGast: Libera Zürich II\n\nAdresse: Balgriststrasse 55\, 8008 Zürich\n
LOCATION:Balgriststrasse 55\, 8008 Zürich
CATEGORIES:Saison 2025/26
END:VEVENT
BEGIN:VEVENT
DTSTAMP:20260424T151710Z
DTSTART;TZID=Europe/Berlin:20260313T193000
DTEND;TZID=Europe/Berlin:20260313T223000
SUMMARY:HE 6. Liga Gr. 6 Pinguin Zürich VI vs Libera Zürich II (0)
UID:a9f09f15-69a9-4d86-a8d1-2e98e9e01073
STATUS:CONFIRMED
LAST-MODIFIED:20260317T145521Z
DESCRIPTION:6. Liga Herren Gruppe 6\nBegegnungs-Nr: 0\nHeim: Pinguin Zürich VI\nGast: Libera Zürich II\n\nAdresse: Basteiplatz\, 8001 Zürich\n
LOCATION:Basteiplatz\, 8001 Zürich
CATEGORIES:Saison 2025/26
END:VEVENT
BEGIN:VEVENT
DTSTAMP:20260424T151710Z
DTSTART;TZID=Europe/Berlin:20250903T200000
DTEND;TZID=Europe/Berlin:20250903T230000
SUMMARY:HE 6. Liga Gr. 6 Höngg IV vs Libera Zürich II (0)
UID:00e727fc-2669-4dc9-913e-98d0faf5e30a
STATUS:CONFIRMED
LAST-MODIFIED:20250908T144735Z
DESCRIPTION:6. Liga Herren Gruppe 6\nBegegnungs-Nr: 0\nHeim: Höngg IV\nGast: Libera Zürich II\n\nAdresse: Bläsistrasse 2\, 8049 Zürich\n
LOCATION:Bläsistrasse 2\, 8049 Zürich
CATEGORIES:Saison 2025/26
END:VEVENT
BEGIN:VEVENT
DTSTAMP:20260424T151710Z
DTSTART;TZID=Europe/Berlin:20251212T193000
DTEND;TZID=Europe/Berlin:20251212T223000
SUMMARY:HE 6. Liga Gr. 6 Thalwil VI vs Libera Zürich II (0)
UID:f1d5ff9e-0dae-453f-b9e6-dfd4bb3dd18b
STATUS:CONFIRMED
LAST-MODIFIED:20251215T135535Z
DESCRIPTION:6. Liga Herren Gruppe 6\nBegegnungs-Nr: 0\nHeim: Thalwil VI\nGast: Libera Zürich II\n\nAdresse: Bergstrasse 2\, 8800 Thalwil\n
LOCATION:Bergstrasse 2\, 8800 Thalwil
CATEGORIES:Saison 2025/26
END:VEVENT
BEGIN:VEVENT
DTSTAMP:20260424T151710Z
DTSTART;TZID=Europe/Berlin:20251107T201500
DTEND;TZID=Europe/Berlin:20251107T231500
SUMMARY:HE 6. Liga Gr. 6 Buchs Zürich IV vs Libera Zürich II (0)
UID:c8ea9d7f-5336-4123-9887-77fa24542e6c
STATUS:CONFIRMED
LAST-MODIFIED:20251114T142723Z
DESCRIPTION:6. Liga Herren Gruppe 6\nBegegnungs-Nr: 0\nHeim: Buchs Zürich IV\nGast: Libera Zürich II\n\nAdresse: Drisglerstrasse 3\, 8107 Buchs ZH\n
LOCATION:Drisglerstrasse 3\, 8107 Buchs ZH
CATEGORIES:Saison 2025/26
END:VEVENT
BEGIN:VEVENT
DTSTAMP:20260424T151710Z
DTSTART;TZID=Europe/Berlin:20251202T200000
DTEND;TZID=Europe/Berlin:20251202T230000
SUMMARY:HE 6. Liga Gr. 6 Seebach-Kügeliloo IV vs Libera Zürich II (0)
UID:e43057b1-07a3-40d1-a35b-6766ee9b5c59
STATUS:CONFIRMED
LAST-MODIFIED:20251205T131143Z
DESCRIPTION:6. Liga Herren Gruppe 6\nBegegnungs-Nr: 0\nHeim: Seebach-Kügeliloo IV\nGast: Libera Zürich II\n\nAdresse: Sperletweg 71\, 8052 Zürich\n
LOCATION:Sperletweg 71\, 8052 Zürich
CATEGORIES:Saison 2025/26
END:VEVENT
END:VCALENDAR
