BEGIN:VCALENDAR
PRODID:-//nuDatenautomaten//framework iCal4j //DE
VERSION:2.0
CALSCALE:GREGORIAN
BEGIN:VTIMEZONE
TZID:Europe/Berlin
LAST-MODIFIED:20260306T231828Z
TZURL:https://www.tzurl.org/zoneinfo/Europe/Berlin
X-LIC-LOCATION:Europe/Berlin
X-PROLEPTIC-TZNAME:LMT
BEGIN:STANDARD
TZNAME:CET
TZOFFSETFROM:+005328
TZOFFSETTO:+0100
DTSTART:18930401T000000
END:STANDARD
BEGIN:DAYLIGHT
TZNAME:CEST
TZOFFSETFROM:+0100
TZOFFSETTO:+0200
DTSTART:19160430T230000
RDATE:19400401T020000
RDATE:19430329T020000
RDATE:19460414T020000
RDATE:19470406T030000
RDATE:19480418T020000
RDATE:19490410T020000
RDATE:19800406T020000
END:DAYLIGHT
BEGIN:STANDARD
TZNAME:CET
TZOFFSETFROM:+0200
TZOFFSETTO:+0100
DTSTART:19161001T010000
RDATE:19421102T030000
RDATE:19431004T030000
RDATE:19441002T030000
RDATE:19451118T030000
RDATE:19461007T030000
END:STANDARD
BEGIN:DAYLIGHT
TZNAME:CEST
TZOFFSETFROM:+0100
TZOFFSETTO:+0200
DTSTART:19170416T020000
RRULE:FREQ=YEARLY;UNTIL=19180415T010000Z;BYMONTH=4;BYDAY=3MO
END:DAYLIGHT
BEGIN:STANDARD
TZNAME:CET
TZOFFSETFROM:+0200
TZOFFSETTO:+0100
DTSTART:19170917T030000
RRULE:FREQ=YEARLY;UNTIL=19180916T010000Z;BYMONTH=9;BYDAY=3MO
END:STANDARD
BEGIN:DAYLIGHT
TZNAME:CEST
TZOFFSETFROM:+0100
TZOFFSETTO:+0200
DTSTART:19440403T020000
RRULE:FREQ=YEARLY;UNTIL=19450402T010000Z;BYMONTH=4;BYDAY=1MO
END:DAYLIGHT
BEGIN:DAYLIGHT
TZNAME:CEMT
TZOFFSETFROM:+0200
TZOFFSETTO:+0300
DTSTART:19450524T020000
RDATE:19470511T030000
END:DAYLIGHT
BEGIN:DAYLIGHT
TZNAME:CEST
TZOFFSETFROM:+0300
TZOFFSETTO:+0200
DTSTART:19450924T030000
RDATE:19470629T030000
END:DAYLIGHT
BEGIN:STANDARD
TZNAME:CET
TZOFFSETFROM:+0100
TZOFFSETTO:+0100
DTSTART:19460101T000000
RDATE:19800101T000000
END:STANDARD
BEGIN:STANDARD
TZNAME:CET
TZOFFSETFROM:+0200
TZOFFSETTO:+0100
DTSTART:19471005T030000
RRULE:FREQ=YEARLY;UNTIL=19491002T010000Z;BYMONTH=10;BYDAY=1SU
END:STANDARD
BEGIN:STANDARD
TZNAME:CET
TZOFFSETFROM:+0200
TZOFFSETTO:+0100
DTSTART:19800928T030000
RRULE:FREQ=YEARLY;UNTIL=19950924T010000Z;BYMONTH=9;BYDAY=-1SU
END:STANDARD
BEGIN:DAYLIGHT
TZNAME:CEST
TZOFFSETFROM:+0100
TZOFFSETTO:+0200
DTSTART:19810329T020000
RRULE:FREQ=YEARLY;BYMONTH=3;BYDAY=-1SU
END:DAYLIGHT
BEGIN:STANDARD
TZNAME:CET
TZOFFSETFROM:+0200
TZOFFSETTO:+0100
DTSTART:19961027T030000
RRULE:FREQ=YEARLY;BYMONTH=10;BYDAY=-1SU
END:STANDARD
END:VTIMEZONE
BEGIN:VEVENT
DTSTAMP:20260424T063714Z
DTSTART;TZID=Europe/Berlin:20250912T193000
DTEND;TZID=Europe/Berlin:20250912T223000
SUMMARY:HE 2. Liga Gr. 2 Bern II vs Köniz (8)
UID:7429f1f5-00df-4165-92cc-3630e71e3cac
STATUS:CONFIRMED
LAST-MODIFIED:20250918T141333Z
DESCRIPTION:2. Liga Herren Gruppe 2\nBegegnungs-Nr: 8\nHeim: Bern II\nGast: Köniz\n\nAdresse: Papiermühlestrasse 81\, 3014 Bern\n
LOCATION:Papiermühlestrasse 81\, 3014 Bern
CATEGORIES:Saison 2025/26
END:VEVENT
BEGIN:VEVENT
DTSTAMP:20260424T063714Z
DTSTART;TZID=Europe/Berlin:20250827T193000
DTEND;TZID=Europe/Berlin:20250827T223000
SUMMARY:HE 2. Liga Gr. 2 Bern II vs Burgdorf IV (2)
UID:03c5f4c8-c81a-476d-9154-a0e31f250855
STATUS:CONFIRMED
LAST-MODIFIED:20250828T192343Z
DESCRIPTION:2. Liga Herren Gruppe 2\nBegegnungs-Nr: 2\nHeim: Bern II\nGast: Burgdorf IV\n\nAdresse: Papiermühlestrasse 81\, 3014 Bern\n
LOCATION:Papiermühlestrasse 81\, 3014 Bern
CATEGORIES:Saison 2025/26
END:VEVENT
BEGIN:VEVENT
DTSTAMP:20260424T063714Z
DTSTART;TZID=Europe/Berlin:20260313T193000
DTEND;TZID=Europe/Berlin:20260313T223000
SUMMARY:HE 2. Liga Gr. 2 Bern II vs Thun III (31)
UID:6e17677f-0cc1-401b-9ef8-9dc7260d87a7
STATUS:CONFIRMED
LAST-MODIFIED:20260315T225807Z
DESCRIPTION:2. Liga Herren Gruppe 2\nBegegnungs-Nr: 31\nHeim: Bern II\nGast: Thun III\n\nAdresse: Papiermühlestrasse 81\, 3014 Bern\n
LOCATION:Papiermühlestrasse 81\, 3014 Bern
CATEGORIES:Saison 2025/26
END:VEVENT
BEGIN:VEVENT
DTSTAMP:20260424T063714Z
DTSTART;TZID=Europe/Berlin:20260227T193000
DTEND;TZID=Europe/Berlin:20260227T223000
SUMMARY:HE 2. Liga Gr. 2 Bern II vs Wohlensee (29)
UID:1d4fb3a0-68ad-4654-b0ea-b51a094e636d
STATUS:CONFIRMED
LAST-MODIFIED:20260302T144436Z
DESCRIPTION:2. Liga Herren Gruppe 2\nBegegnungs-Nr: 29\nHeim: Bern II\nGast: Wohlensee\n\nAdresse: Papiermühlestrasse 81\, 3014 Bern\n
LOCATION:Papiermühlestrasse 81\, 3014 Bern
CATEGORIES:Saison 2025/26
END:VEVENT
BEGIN:VEVENT
DTSTAMP:20260424T063714Z
DTSTART;TZID=Europe/Berlin:20260128T193000
DTEND;TZID=Europe/Berlin:20260128T223000
SUMMARY:HE 2. Liga Gr. 2 Bern II vs Royal Bern (14)
UID:ed3e4c8e-aa48-4354-ae0b-4bfcfde1b480
STATUS:CONFIRMED
LAST-MODIFIED:20260217T212132Z
DESCRIPTION:2. Liga Herren Gruppe 2\nBegegnungs-Nr: 14\nHeim: Bern II\nGast: Royal Bern\n\nAdresse: Papiermühlestrasse 81\, 3014 Bern\n
LOCATION:Papiermühlestrasse 81\, 3014 Bern
CATEGORIES:Saison 2025/26
END:VEVENT
BEGIN:VEVENT
DTSTAMP:20260424T063714Z
DTSTART;TZID=Europe/Berlin:20251219T193000
DTEND;TZID=Europe/Berlin:20251219T223000
SUMMARY:HE 2. Liga Gr. 2 Bern II vs Kirchberg (43)
UID:d9d524f8-2c7d-46ed-9697-cb523c89f1cb
STATUS:CONFIRMED
LAST-MODIFIED:20251223T090909Z
DESCRIPTION:2. Liga Herren Gruppe 2\nBegegnungs-Nr: 43\nHeim: Bern II\nGast: Kirchberg\n\nAdresse: Papiermühlestrasse 81\, 3014 Bern\n
LOCATION:Papiermühlestrasse 81\, 3014 Bern
CATEGORIES:Saison 2025/26
END:VEVENT
BEGIN:VEVENT
DTSTAMP:20260424T063714Z
DTSTART;TZID=Europe/Berlin:20251117T193000
DTEND;TZID=Europe/Berlin:20251117T223000
SUMMARY:HE 2. Liga Gr. 2 Bern II vs Solothurn III (39)
UID:dd9284f1-e332-4bb5-b4cf-708a63c9bda6
STATUS:CONFIRMED
LAST-MODIFIED:20251122T091622Z
DESCRIPTION:2. Liga Herren Gruppe 2\nBegegnungs-Nr: 39\nHeim: Bern II\nGast: Solothurn III\n\nAdresse: Mädergutstrasse 58\, 3018 Bern\n
LOCATION:Mädergutstrasse 58\, 3018 Bern
CATEGORIES:Saison 2025/26
END:VEVENT
BEGIN:VEVENT
DTSTAMP:20260424T063714Z
DTSTART;TZID=Europe/Berlin:20251107T193000
DTEND;TZID=Europe/Berlin:20251107T223000
SUMMARY:HE 2. Liga Gr. 2 Bern II vs Grenchen (24)
UID:5bf5789c-fc5d-4825-84d3-d2607a158daf
STATUS:CONFIRMED
LAST-MODIFIED:20251115T171321Z
DESCRIPTION:2. Liga Herren Gruppe 2\nBegegnungs-Nr: 24\nHeim: Bern II\nGast: Grenchen\n\nAdresse: Papiermühlestrasse 81\, 3014 Bern\n
LOCATION:Papiermühlestrasse 81\, 3014 Bern
CATEGORIES:Saison 2025/26
END:VEVENT
BEGIN:VEVENT
DTSTAMP:20260424T063714Z
DTSTART;TZID=Europe/Berlin:20251203T193000
DTEND;TZID=Europe/Berlin:20251203T223000
SUMMARY:HE 2. Liga Gr. 2 Bern II vs Port IV (20)
UID:133b20ec-9e46-4801-913e-b8161c937c3b
STATUS:CONFIRMED
LAST-MODIFIED:20251206T233353Z
DESCRIPTION:2. Liga Herren Gruppe 2\nBegegnungs-Nr: 20\nHeim: Bern II\nGast: Port IV\n\nAdresse: Papiermühlestrasse 81\, 3014 Bern\n
LOCATION:Papiermühlestrasse 81\, 3014 Bern
CATEGORIES:Saison 2025/26
END:VEVENT
BEGIN:VEVENT
DTSTAMP:20260424T063714Z
DTSTART;TZID=Europe/Berlin:20251013T194500
DTEND;TZID=Europe/Berlin:20251013T224500
SUMMARY:HE 2. Liga Gr. 2 Royal Bern vs Bern II (14)
UID:b45254ca-e307-4d77-8af3-8741ff9504b3
STATUS:CONFIRMED
LAST-MODIFIED:20251014T112848Z
DESCRIPTION:2. Liga Herren Gruppe 2\nBegegnungs-Nr: 14\nHeim: Royal Bern\nGast: Bern II\n\nAdresse: Dändlikerweg 60\, 3014 Bern\n
LOCATION:Dändlikerweg 60\, 3014 Bern
CATEGORIES:Saison 2025/26
END:VEVENT
BEGIN:VEVENT
DTSTAMP:20260424T063714Z
DTSTART;TZID=Europe/Berlin:20260220T194500
DTEND;TZID=Europe/Berlin:20260220T224500
SUMMARY:HE 2. Liga Gr. 2 Grenchen vs Bern II (24)
UID:a6eb433c-a808-4317-acf9-e43fb8c56419
STATUS:CONFIRMED
LAST-MODIFIED:20260224T075137Z
DESCRIPTION:2. Liga Herren Gruppe 2\nBegegnungs-Nr: 24\nHeim: Grenchen\nGast: Bern II\n\nAdresse: Witmattstrasse\, 2540 Grenchen\n
LOCATION:Witmattstrasse\, 2540 Grenchen
CATEGORIES:Saison 2025/26
END:VEVENT
BEGIN:VEVENT
DTSTAMP:20260424T063714Z
DTSTART;TZID=Europe/Berlin:20260206T194500
DTEND;TZID=Europe/Berlin:20260206T224500
SUMMARY:HE 2. Liga Gr. 2 Port IV vs Bern II (20)
UID:d237f660-655b-4aed-9c64-c2a68360897d
STATUS:CONFIRMED
LAST-MODIFIED:20260217T212300Z
DESCRIPTION:2. Liga Herren Gruppe 2\nBegegnungs-Nr: 20\nHeim: Port IV\nGast: Bern II\n\nAdresse: Allmendstrasse 23\, 2562 Port\n
LOCATION:Allmendstrasse 23\, 2562 Port
CATEGORIES:Saison 2025/26
END:VEVENT
BEGIN:VEVENT
DTSTAMP:20260424T063714Z
DTSTART;TZID=Europe/Berlin:20260223T200000
DTEND;TZID=Europe/Berlin:20260223T230000
SUMMARY:HE 2. Liga Gr. 2 Köniz vs Bern II (8)
UID:7d334c2b-a85b-4c0c-b2c2-d8c0410efeac
STATUS:CONFIRMED
LAST-MODIFIED:20260224T075241Z
DESCRIPTION:2. Liga Herren Gruppe 2\nBegegnungs-Nr: 8\nHeim: Köniz\nGast: Bern II\n\nAdresse: Kirchstrasse 72-76\, 3084 Wabern\n
LOCATION:Kirchstrasse 72-76\, 3084 Wabern
CATEGORIES:Saison 2025/26
END:VEVENT
BEGIN:VEVENT
DTSTAMP:20260424T063714Z
DTSTART;TZID=Europe/Berlin:20260109T193000
DTEND;TZID=Europe/Berlin:20260109T223000
SUMMARY:HE 2. Liga Gr. 2 Burgdorf IV vs Bern II (2)
UID:e45567aa-a64d-44a0-bff9-a277ebc93735
STATUS:CONFIRMED
LAST-MODIFIED:20260125T000230Z
DESCRIPTION:2. Liga Herren Gruppe 2\nBegegnungs-Nr: 2\nHeim: Burgdorf IV\nGast: Bern II\n\nAdresse: Pestalozzistrasse 69\, 3400 Burgdorf\n
LOCATION:Pestalozzistrasse 69\, 3400 Burgdorf
CATEGORIES:Saison 2025/26
END:VEVENT
BEGIN:VEVENT
DTSTAMP:20260424T063714Z
DTSTART;TZID=Europe/Berlin:20260331T194500
DTEND;TZID=Europe/Berlin:20260331T224500
SUMMARY:HE 2. Liga Gr. 2 Kirchberg vs Bern II (43)
UID:4f624b03-6e76-49d1-b21b-264d168bdc0e
STATUS:CONFIRMED
LAST-MODIFIED:20260409T122901Z
DESCRIPTION:2. Liga Herren Gruppe 2\nBegegnungs-Nr: 43\nHeim: Kirchberg\nGast: Bern II\n\nAdresse: Reinhardweg\, 3422 Kirchberg\n
LOCATION:Reinhardweg\, 3422 Kirchberg
CATEGORIES:Saison 2025/26
END:VEVENT
BEGIN:VEVENT
DTSTAMP:20260424T063714Z
DTSTART;TZID=Europe/Berlin:20260318T194500
DTEND;TZID=Europe/Berlin:20260318T224500
SUMMARY:HE 2. Liga Gr. 2 Solothurn III vs Bern II (39)
UID:a1478bf4-2d82-4bdf-bb29-1ce9b432d480
STATUS:CONFIRMED
LAST-MODIFIED:20260327T143249Z
DESCRIPTION:2. Liga Herren Gruppe 2\nBegegnungs-Nr: 39\nHeim: Solothurn III\nGast: Bern II\n\nAdresse: Untere Sternengasse 24\, 4500 Solothurn\n
LOCATION:Untere Sternengasse 24\, 4500 Solothurn
CATEGORIES:Saison 2025/26
END:VEVENT
BEGIN:VEVENT
DTSTAMP:20260424T063714Z
DTSTART;TZID=Europe/Berlin:20251119T193000
DTEND;TZID=Europe/Berlin:20251119T223000
SUMMARY:HE 2. Liga Gr. 2 Thun III vs Bern II (31)
UID:bc3eb46f-2246-4ea9-ab92-459e610e5bdc
STATUS:CONFIRMED
LAST-MODIFIED:20251122T091559Z
DESCRIPTION:2. Liga Herren Gruppe 2\nBegegnungs-Nr: 31\nHeim: Thun III\nGast: Bern II\n\nAdresse: Hallerstrasse 28\, 3604 Thun\n
LOCATION:Hallerstrasse 28\, 3604 Thun
CATEGORIES:Saison 2025/26
END:VEVENT
BEGIN:VEVENT
DTSTAMP:20260424T063714Z
DTSTART;TZID=Europe/Berlin:20251126T193000
DTEND;TZID=Europe/Berlin:20251126T223000
SUMMARY:HE 2. Liga Gr. 2 Wohlensee vs Bern II (29)
UID:0209d4a7-503e-4622-9b67-d533d794ac08
STATUS:CONFIRMED
LAST-MODIFIED:20251206T233323Z
DESCRIPTION:2. Liga Herren Gruppe 2\nBegegnungs-Nr: 29\nHeim: Wohlensee\nGast: Bern II\n\nAdresse: Kappelenring 36 a\, 3032 Hinterkappelen\n
LOCATION:Kappelenring 36 a\, 3032 Hinterkappelen
CATEGORIES:Saison 2025/26
END:VEVENT
END:VCALENDAR
