BEGIN:VCALENDAR
PRODID:-//nuDatenautomaten//framework iCal4j //DE
VERSION:2.0
CALSCALE:GREGORIAN
BEGIN:VTIMEZONE
TZID:Europe/Berlin
LAST-MODIFIED:20260306T231828Z
TZURL:https://www.tzurl.org/zoneinfo/Europe/Berlin
X-LIC-LOCATION:Europe/Berlin
X-PROLEPTIC-TZNAME:LMT
BEGIN:STANDARD
TZNAME:CET
TZOFFSETFROM:+005328
TZOFFSETTO:+0100
DTSTART:18930401T000000
END:STANDARD
BEGIN:DAYLIGHT
TZNAME:CEST
TZOFFSETFROM:+0100
TZOFFSETTO:+0200
DTSTART:19160430T230000
RDATE:19400401T020000
RDATE:19430329T020000
RDATE:19460414T020000
RDATE:19470406T030000
RDATE:19480418T020000
RDATE:19490410T020000
RDATE:19800406T020000
END:DAYLIGHT
BEGIN:STANDARD
TZNAME:CET
TZOFFSETFROM:+0200
TZOFFSETTO:+0100
DTSTART:19161001T010000
RDATE:19421102T030000
RDATE:19431004T030000
RDATE:19441002T030000
RDATE:19451118T030000
RDATE:19461007T030000
END:STANDARD
BEGIN:DAYLIGHT
TZNAME:CEST
TZOFFSETFROM:+0100
TZOFFSETTO:+0200
DTSTART:19170416T020000
RRULE:FREQ=YEARLY;UNTIL=19180415T010000Z;BYMONTH=4;BYDAY=3MO
END:DAYLIGHT
BEGIN:STANDARD
TZNAME:CET
TZOFFSETFROM:+0200
TZOFFSETTO:+0100
DTSTART:19170917T030000
RRULE:FREQ=YEARLY;UNTIL=19180916T010000Z;BYMONTH=9;BYDAY=3MO
END:STANDARD
BEGIN:DAYLIGHT
TZNAME:CEST
TZOFFSETFROM:+0100
TZOFFSETTO:+0200
DTSTART:19440403T020000
RRULE:FREQ=YEARLY;UNTIL=19450402T010000Z;BYMONTH=4;BYDAY=1MO
END:DAYLIGHT
BEGIN:DAYLIGHT
TZNAME:CEMT
TZOFFSETFROM:+0200
TZOFFSETTO:+0300
DTSTART:19450524T020000
RDATE:19470511T030000
END:DAYLIGHT
BEGIN:DAYLIGHT
TZNAME:CEST
TZOFFSETFROM:+0300
TZOFFSETTO:+0200
DTSTART:19450924T030000
RDATE:19470629T030000
END:DAYLIGHT
BEGIN:STANDARD
TZNAME:CET
TZOFFSETFROM:+0100
TZOFFSETTO:+0100
DTSTART:19460101T000000
RDATE:19800101T000000
END:STANDARD
BEGIN:STANDARD
TZNAME:CET
TZOFFSETFROM:+0200
TZOFFSETTO:+0100
DTSTART:19471005T030000
RRULE:FREQ=YEARLY;UNTIL=19491002T010000Z;BYMONTH=10;BYDAY=1SU
END:STANDARD
BEGIN:STANDARD
TZNAME:CET
TZOFFSETFROM:+0200
TZOFFSETTO:+0100
DTSTART:19800928T030000
RRULE:FREQ=YEARLY;UNTIL=19950924T010000Z;BYMONTH=9;BYDAY=-1SU
END:STANDARD
BEGIN:DAYLIGHT
TZNAME:CEST
TZOFFSETFROM:+0100
TZOFFSETTO:+0200
DTSTART:19810329T020000
RRULE:FREQ=YEARLY;BYMONTH=3;BYDAY=-1SU
END:DAYLIGHT
BEGIN:STANDARD
TZNAME:CET
TZOFFSETFROM:+0200
TZOFFSETTO:+0100
DTSTART:19961027T030000
RRULE:FREQ=YEARLY;BYMONTH=10;BYDAY=-1SU
END:STANDARD
END:VTIMEZONE
BEGIN:VEVENT
DTSTAMP:20260424T115003Z
DTSTART;TZID=Europe/Berlin:20250905T200000
DTEND;TZID=Europe/Berlin:20250905T230000
SUMMARY:ME L6 Gr 4\, Tours 1&2 Penthalaz vs Vaudoise-Assurances II (0)
UID:3b3967e7-d52d-4cd8-bd4e-6275c5827954
STATUS:CONFIRMED
LAST-MODIFIED:20250910T231150Z
DESCRIPTION:6ème ligue Hommes Groupe 4\, Tours 1&2\nBegegnungs-Nr: 0\nHeim: Penthalaz\nGast: Vaudoise-Assurances II\n\nAdresse: Chemin du Collège 1\, 1305 Penthalaz\n
LOCATION:Chemin du Collège 1\, 1305 Penthalaz
CATEGORIES:Saison 2025/26
END:VEVENT
BEGIN:VEVENT
DTSTAMP:20260424T115003Z
DTSTART;TZID=Europe/Berlin:20250912T200000
DTEND;TZID=Europe/Berlin:20250912T230000
SUMMARY:ME L6 Gr 4\, Tours 1&2 Penthalaz vs Romont-Villaz III (0)
UID:19024db1-f6a1-47fd-93b5-7c65703f8a84
STATUS:CONFIRMED
LAST-MODIFIED:20250914T135715Z
DESCRIPTION:6ème ligue Hommes Groupe 4\, Tours 1&2\nBegegnungs-Nr: 0\nHeim: Penthalaz\nGast: Romont-Villaz III\n\nAdresse: Chemin du Collège 1\, 1305 Penthalaz\n
LOCATION:Chemin du Collège 1\, 1305 Penthalaz
CATEGORIES:Saison 2025/26
END:VEVENT
BEGIN:VEVENT
DTSTAMP:20260424T115003Z
DTSTART;TZID=Europe/Berlin:20251010T200000
DTEND;TZID=Europe/Berlin:20251010T230000
SUMMARY:ME L6 Gr 4\, Tours 1&2 Penthalaz vs Lausanne XII (0)
UID:d6edca80-081a-4066-af78-b98c409a77d0
STATUS:CONFIRMED
LAST-MODIFIED:20251012T200716Z
DESCRIPTION:6ème ligue Hommes Groupe 4\, Tours 1&2\nBegegnungs-Nr: 0\nHeim: Penthalaz\nGast: Lausanne XII\n\nAdresse: Chemin du Collège 1\, 1305 Penthalaz\n
LOCATION:Chemin du Collège 1\, 1305 Penthalaz
CATEGORIES:Saison 2025/26
END:VEVENT
BEGIN:VEVENT
DTSTAMP:20260424T115003Z
DTSTART;TZID=Europe/Berlin:20251107T200000
DTEND;TZID=Europe/Berlin:20251107T230000
SUMMARY:ME L6 Gr 4\, Tours 1&2 Penthalaz vs Lausanne XI (0)
UID:6331bba7-a8ed-44eb-a7ca-ff63802cdd04
STATUS:CONFIRMED
LAST-MODIFIED:20251109T205344Z
DESCRIPTION:6ème ligue Hommes Groupe 4\, Tours 1&2\nBegegnungs-Nr: 0\nHeim: Penthalaz\nGast: Lausanne XI\n\nAdresse: Chemin du Collège 1\, 1305 Penthalaz\n
LOCATION:Chemin du Collège 1\, 1305 Penthalaz
CATEGORIES:Saison 2025/26
END:VEVENT
BEGIN:VEVENT
DTSTAMP:20260424T115003Z
DTSTART;TZID=Europe/Berlin:20251128T200000
DTEND;TZID=Europe/Berlin:20251128T230000
SUMMARY:ME L6 Gr 4\, Tours 1&2 Penthalaz vs Lausanne XIII (0)
UID:be1648df-0520-4a74-b2d8-294f5f57f366
STATUS:CONFIRMED
LAST-MODIFIED:20251129T115913Z
DESCRIPTION:6ème ligue Hommes Groupe 4\, Tours 1&2\nBegegnungs-Nr: 0\nHeim: Penthalaz\nGast: Lausanne XIII\n\nAdresse: Chemin du Collège 1\, 1305 Penthalaz\n
LOCATION:Chemin du Collège 1\, 1305 Penthalaz
CATEGORIES:Saison 2025/26
END:VEVENT
BEGIN:VEVENT
DTSTAMP:20260424T115003Z
DTSTART;TZID=Europe/Berlin:20260116T200000
DTEND;TZID=Europe/Berlin:20260116T230000
SUMMARY:ME L6 Gr 7\, Tours 3&4 Penthalaz vs Montriond-Ouchy  IV (0)
UID:6c7df9b3-7223-4875-b956-2e14ebaaf177
STATUS:CONFIRMED
LAST-MODIFIED:20260117T130942Z
DESCRIPTION:6ème ligue Hommes Groupe 7\, Tours 3&4\nBegegnungs-Nr: 0\nHeim: Penthalaz\nGast: Montriond-Ouchy  IV\n\nAdresse: Chemin du Collège 1\, 1305 Penthalaz\n
LOCATION:Chemin du Collège 1\, 1305 Penthalaz
CATEGORIES:Saison 2025/26
END:VEVENT
BEGIN:VEVENT
DTSTAMP:20260424T115003Z
DTSTART;TZID=Europe/Berlin:20260501T200000
DTEND;TZID=Europe/Berlin:20260501T230000
SUMMARY:ME L6 Gr 7\, Tours 3&4 Penthalaz vs Forward-Morges V (0)
UID:d535b96c-c46e-4647-ab89-91dbdec6dccf
STATUS:CONFIRMED
DESCRIPTION:6ème ligue Hommes Groupe 7\, Tours 3&4\nBegegnungs-Nr: 0\nHeim: Penthalaz\nGast: Forward-Morges V\n\nAdresse: Chemin du Collège 1\, 1305 Penthalaz\n
LOCATION:Chemin du Collège 1\, 1305 Penthalaz
CATEGORIES:Saison 2025/26
END:VEVENT
BEGIN:VEVENT
DTSTAMP:20260424T115003Z
DTSTART;TZID=Europe/Berlin:20260424T200000
DTEND;TZID=Europe/Berlin:20260424T230000
SUMMARY:ME L6 Gr 7\, Tours 3&4 Penthalaz vs Vaudoise-Assurances II (0)
UID:02a71baa-488d-4f90-892f-6b151b897438
STATUS:CONFIRMED
DESCRIPTION:6ème ligue Hommes Groupe 7\, Tours 3&4\nBegegnungs-Nr: 0\nHeim: Penthalaz\nGast: Vaudoise-Assurances II\n\nAdresse: Chemin du Collège 1\, 1305 Penthalaz\n
LOCATION:Chemin du Collège 1\, 1305 Penthalaz
CATEGORIES:Saison 2025/26
END:VEVENT
BEGIN:VEVENT
DTSTAMP:20260424T115003Z
DTSTART;TZID=Europe/Berlin:20260320T200000
DTEND;TZID=Europe/Berlin:20260320T230000
SUMMARY:ME L6 Gr 7\, Tours 3&4 Penthalaz vs Lausanne XI (0)
UID:53063fbc-d8af-496b-a74c-9ad433c8fa67
STATUS:CONFIRMED
LAST-MODIFIED:20260325T093448Z
DESCRIPTION:6ème ligue Hommes Groupe 7\, Tours 3&4\nBegegnungs-Nr: 0\nHeim: Penthalaz\nGast: Lausanne XI\n\nAdresse: Chemin du Collège 1\, 1305 Penthalaz\n
LOCATION:Chemin du Collège 1\, 1305 Penthalaz
CATEGORIES:Saison 2025/26
END:VEVENT
BEGIN:VEVENT
DTSTAMP:20260424T115003Z
DTSTART;TZID=Europe/Berlin:20260206T200000
DTEND;TZID=Europe/Berlin:20260206T230000
SUMMARY:ME L6 Gr 7\, Tours 3&4 Penthalaz vs Yvonand (0)
UID:c6799c57-baae-4dd7-b45d-dc2c25ba15a6
STATUS:CONFIRMED
LAST-MODIFIED:20260209T103959Z
DESCRIPTION:6ème ligue Hommes Groupe 7\, Tours 3&4\nBegegnungs-Nr: 0\nHeim: Penthalaz\nGast: Yvonand\n\nAdresse: Chemin du Collège 1\, 1305 Penthalaz\n
LOCATION:Chemin du Collège 1\, 1305 Penthalaz
CATEGORIES:Saison 2025/26
END:VEVENT
BEGIN:VEVENT
DTSTAMP:20260424T115003Z
DTSTART;TZID=Europe/Berlin:20250908T200000
DTEND;TZID=Europe/Berlin:20250908T230000
SUMMARY:ME L6 Gr 4\, Tours 1&2 Lausanne XI vs Penthalaz (0)
UID:2bfa54e5-adf1-4622-9fe3-2f02337dc5bc
STATUS:CONFIRMED
LAST-MODIFIED:20250910T231139Z
DESCRIPTION:6ème ligue Hommes Groupe 4\, Tours 1&2\nBegegnungs-Nr: 0\nHeim: Lausanne XI\nGast: Penthalaz\n\nAdresse: Vaudoise Aréna\, Ch. du Viaduc 14\, 1008 Prilly\n
LOCATION:Vaudoise Aréna\, Ch. du Viaduc 14\, 1008 Prilly
CATEGORIES:Saison 2025/26
END:VEVENT
BEGIN:VEVENT
DTSTAMP:20260424T115003Z
DTSTART;TZID=Europe/Berlin:20250925T200000
DTEND;TZID=Europe/Berlin:20250925T230000
SUMMARY:ME L6 Gr 4\, Tours 1&2 Lausanne XIII vs Penthalaz (0)
UID:f8d9ed15-355a-4a53-a0da-e6802dc06b5b
STATUS:CONFIRMED
LAST-MODIFIED:20250926T105434Z
DESCRIPTION:6ème ligue Hommes Groupe 4\, Tours 1&2\nBegegnungs-Nr: 0\nHeim: Lausanne XIII\nGast: Penthalaz\n\nAdresse: Vaudoise Aréna\, Ch. du Viaduc 14\, 1008 Prilly\n
LOCATION:Vaudoise Aréna\, Ch. du Viaduc 14\, 1008 Prilly
CATEGORIES:Saison 2025/26
END:VEVENT
BEGIN:VEVENT
DTSTAMP:20260424T115003Z
DTSTART;TZID=Europe/Berlin:20251030T193000
DTEND;TZID=Europe/Berlin:20251030T223000
SUMMARY:ME L6 Gr 4\, Tours 1&2 Vaudoise-Assurances II vs Penthalaz (0)
UID:b37c0f0d-6bc1-46ef-a625-7595979f932f
STATUS:CONFIRMED
LAST-MODIFIED:20251101T154151Z
DESCRIPTION:6ème ligue Hommes Groupe 4\, Tours 1&2\nBegegnungs-Nr: 0\nHeim: Vaudoise-Assurances II\nGast: Penthalaz\n\nAdresse: Ch de Bellerive 36\, 1007 Lausanne\n
LOCATION:Ch de Bellerive 36\, 1007 Lausanne
CATEGORIES:Saison 2025/26
END:VEVENT
BEGIN:VEVENT
DTSTAMP:20260424T115003Z
DTSTART;TZID=Europe/Berlin:20251118T193000
DTEND;TZID=Europe/Berlin:20251118T223000
SUMMARY:ME L6 Gr 4\, Tours 1&2 Romont-Villaz III vs Penthalaz (0)
UID:335edab6-84ca-44a2-9a5f-bca902fcbd73
STATUS:CONFIRMED
LAST-MODIFIED:20251119T171610Z
DESCRIPTION:6ème ligue Hommes Groupe 4\, Tours 1&2\nBegegnungs-Nr: 0\nHeim: Romont-Villaz III\nGast: Penthalaz\n\nAdresse: Route de la Gare 5\, 1690 Villaz-St-Pierre\n
LOCATION:Route de la Gare 5\, 1690 Villaz-St-Pierre
CATEGORIES:Saison 2025/26
END:VEVENT
BEGIN:VEVENT
DTSTAMP:20260424T115003Z
DTSTART;TZID=Europe/Berlin:20251210T200000
DTEND;TZID=Europe/Berlin:20251210T230000
SUMMARY:ME L6 Gr 4\, Tours 1&2 Lausanne XII vs Penthalaz (0)
UID:a2d55a78-e04a-4917-8d66-3fe71d5e55c4
STATUS:CONFIRMED
LAST-MODIFIED:20251213T095211Z
DESCRIPTION:6ème ligue Hommes Groupe 4\, Tours 1&2\nBegegnungs-Nr: 0\nHeim: Lausanne XII\nGast: Penthalaz\n\nAdresse: Vaudoise Aréna\, Ch. du Viaduc 14\, 1008 Prilly\n
LOCATION:Vaudoise Aréna\, Ch. du Viaduc 14\, 1008 Prilly
CATEGORIES:Saison 2025/26
END:VEVENT
BEGIN:VEVENT
DTSTAMP:20260424T115003Z
DTSTART;TZID=Europe/Berlin:20260401T193000
DTEND;TZID=Europe/Berlin:20260401T223000
SUMMARY:ME L6 Gr 7\, Tours 3&4 Yvonand vs Penthalaz (0)
UID:aed9e536-1ed7-49cb-a6d0-84a8023878f1
STATUS:CONFIRMED
LAST-MODIFIED:20260402T172016Z
DESCRIPTION:6ème ligue Hommes Groupe 7\, Tours 3&4\nBegegnungs-Nr: 0\nHeim: Yvonand\nGast: Penthalaz\n\nAdresse: Salle de rythmique\, 1462 Yvonand\n
LOCATION:Salle de rythmique\, 1462 Yvonand
CATEGORIES:Saison 2025/26
END:VEVENT
BEGIN:VEVENT
DTSTAMP:20260424T115003Z
DTSTART;TZID=Europe/Berlin:20260312T193000
DTEND;TZID=Europe/Berlin:20260312T223000
SUMMARY:ME L6 Gr 7\, Tours 3&4 Montriond-Ouchy  IV vs Penthalaz (0)
UID:90ea75fd-105f-4bd0-8d4b-b8b94ca68751
STATUS:CONFIRMED
LAST-MODIFIED:20260315T145116Z
DESCRIPTION:6ème ligue Hommes Groupe 7\, Tours 3&4\nBegegnungs-Nr: 0\nHeim: Montriond-Ouchy  IV\nGast: Penthalaz\n\nAdresse: Avenue d'Ouchy 45\, 1006 Lausanne\n
LOCATION:Avenue d'Ouchy 45\, 1006 Lausanne
CATEGORIES:Saison 2025/26
END:VEVENT
BEGIN:VEVENT
DTSTAMP:20260424T115003Z
DTSTART;TZID=Europe/Berlin:20260226T194500
DTEND;TZID=Europe/Berlin:20260226T224500
SUMMARY:ME L6 Gr 7\, Tours 3&4 Forward-Morges V vs Penthalaz (0)
UID:65d0efa3-3477-4a74-9b9e-d351faf2f10a
STATUS:CONFIRMED
LAST-MODIFIED:20260301T135105Z
DESCRIPTION:6ème ligue Hommes Groupe 7\, Tours 3&4\nBegegnungs-Nr: 0\nHeim: Forward-Morges V\nGast: Penthalaz\n\nAdresse: Chemin de Tolochenaz\, 1110 Morges\n
LOCATION:Chemin de Tolochenaz\, 1110 Morges
CATEGORIES:Saison 2025/26
END:VEVENT
BEGIN:VEVENT
DTSTAMP:20260424T115003Z
DTSTART;TZID=Europe/Berlin:20260129T193000
DTEND;TZID=Europe/Berlin:20260129T223000
SUMMARY:ME L6 Gr 7\, Tours 3&4 Vaudoise-Assurances II vs Penthalaz (0)
UID:17ba8534-0f31-4976-8d52-5a2a3430d840
STATUS:CONFIRMED
LAST-MODIFIED:20260130T173109Z
DESCRIPTION:6ème ligue Hommes Groupe 7\, Tours 3&4\nBegegnungs-Nr: 0\nHeim: Vaudoise-Assurances II\nGast: Penthalaz\n\nAdresse: Ch de Bellerive 36\, 1007 Lausanne\n
LOCATION:Ch de Bellerive 36\, 1007 Lausanne
CATEGORIES:Saison 2025/26
END:VEVENT
BEGIN:VEVENT
DTSTAMP:20260424T115003Z
DTSTART;TZID=Europe/Berlin:20260119T200000
DTEND;TZID=Europe/Berlin:20260119T230000
SUMMARY:ME L6 Gr 7\, Tours 3&4 Lausanne XI vs Penthalaz (0)
UID:44fa76ba-0fa2-45c8-a94b-adec33babb17
STATUS:CONFIRMED
LAST-MODIFIED:20260121T122608Z
DESCRIPTION:6ème ligue Hommes Groupe 7\, Tours 3&4\nBegegnungs-Nr: 0\nHeim: Lausanne XI\nGast: Penthalaz\n\nAdresse: Vaudoise Aréna\, Ch. du Viaduc 14\, 1008 Prilly\n
LOCATION:Vaudoise Aréna\, Ch. du Viaduc 14\, 1008 Prilly
CATEGORIES:Saison 2025/26
END:VEVENT
END:VCALENDAR
