BEGIN:VCALENDAR
PRODID:-//nuDatenautomaten//framework iCal4j //DE
VERSION:2.0
CALSCALE:GREGORIAN
BEGIN:VTIMEZONE
TZID:Europe/Berlin
LAST-MODIFIED:20260306T231828Z
TZURL:https://www.tzurl.org/zoneinfo/Europe/Berlin
X-LIC-LOCATION:Europe/Berlin
X-PROLEPTIC-TZNAME:LMT
BEGIN:STANDARD
TZNAME:CET
TZOFFSETFROM:+005328
TZOFFSETTO:+0100
DTSTART:18930401T000000
END:STANDARD
BEGIN:DAYLIGHT
TZNAME:CEST
TZOFFSETFROM:+0100
TZOFFSETTO:+0200
DTSTART:19160430T230000
RDATE:19400401T020000
RDATE:19430329T020000
RDATE:19460414T020000
RDATE:19470406T030000
RDATE:19480418T020000
RDATE:19490410T020000
RDATE:19800406T020000
END:DAYLIGHT
BEGIN:STANDARD
TZNAME:CET
TZOFFSETFROM:+0200
TZOFFSETTO:+0100
DTSTART:19161001T010000
RDATE:19421102T030000
RDATE:19431004T030000
RDATE:19441002T030000
RDATE:19451118T030000
RDATE:19461007T030000
END:STANDARD
BEGIN:DAYLIGHT
TZNAME:CEST
TZOFFSETFROM:+0100
TZOFFSETTO:+0200
DTSTART:19170416T020000
RRULE:FREQ=YEARLY;UNTIL=19180415T010000Z;BYMONTH=4;BYDAY=3MO
END:DAYLIGHT
BEGIN:STANDARD
TZNAME:CET
TZOFFSETFROM:+0200
TZOFFSETTO:+0100
DTSTART:19170917T030000
RRULE:FREQ=YEARLY;UNTIL=19180916T010000Z;BYMONTH=9;BYDAY=3MO
END:STANDARD
BEGIN:DAYLIGHT
TZNAME:CEST
TZOFFSETFROM:+0100
TZOFFSETTO:+0200
DTSTART:19440403T020000
RRULE:FREQ=YEARLY;UNTIL=19450402T010000Z;BYMONTH=4;BYDAY=1MO
END:DAYLIGHT
BEGIN:DAYLIGHT
TZNAME:CEMT
TZOFFSETFROM:+0200
TZOFFSETTO:+0300
DTSTART:19450524T020000
RDATE:19470511T030000
END:DAYLIGHT
BEGIN:DAYLIGHT
TZNAME:CEST
TZOFFSETFROM:+0300
TZOFFSETTO:+0200
DTSTART:19450924T030000
RDATE:19470629T030000
END:DAYLIGHT
BEGIN:STANDARD
TZNAME:CET
TZOFFSETFROM:+0100
TZOFFSETTO:+0100
DTSTART:19460101T000000
RDATE:19800101T000000
END:STANDARD
BEGIN:STANDARD
TZNAME:CET
TZOFFSETFROM:+0200
TZOFFSETTO:+0100
DTSTART:19471005T030000
RRULE:FREQ=YEARLY;UNTIL=19491002T010000Z;BYMONTH=10;BYDAY=1SU
END:STANDARD
BEGIN:STANDARD
TZNAME:CET
TZOFFSETFROM:+0200
TZOFFSETTO:+0100
DTSTART:19800928T030000
RRULE:FREQ=YEARLY;UNTIL=19950924T010000Z;BYMONTH=9;BYDAY=-1SU
END:STANDARD
BEGIN:DAYLIGHT
TZNAME:CEST
TZOFFSETFROM:+0100
TZOFFSETTO:+0200
DTSTART:19810329T020000
RRULE:FREQ=YEARLY;BYMONTH=3;BYDAY=-1SU
END:DAYLIGHT
BEGIN:STANDARD
TZNAME:CET
TZOFFSETFROM:+0200
TZOFFSETTO:+0100
DTSTART:19961027T030000
RRULE:FREQ=YEARLY;BYMONTH=10;BYDAY=-1SU
END:STANDARD
END:VTIMEZONE
BEGIN:VEVENT
DTSTAMP:20260424T151028Z
DTSTART;TZID=Europe/Berlin:20260128T193000
DTEND;TZID=Europe/Berlin:20260128T223000
SUMMARY:S L3 Gr 1 Romanel II vs Chexbres II (0)
UID:dfda099d-f5c6-42a5-8de3-95fb20c2a03e
STATUS:CONFIRMED
LAST-MODIFIED:20251109T153739Z
DESCRIPTION:3ème ligue Seniors Groupe 1\nBegegnungs-Nr: 0\nHeim: Romanel II\nGast: Chexbres II\n\nAdresse: Ch des Epinettes 1\, 1032 Romanel-sur-Lausanne\n
LOCATION:Ch des Epinettes 1\, 1032 Romanel-sur-Lausanne
CATEGORIES:Saison 2025/26
END:VEVENT
BEGIN:VEVENT
DTSTAMP:20260424T151028Z
DTSTART;TZID=Europe/Berlin:20260408T193000
DTEND;TZID=Europe/Berlin:20260408T223000
SUMMARY:S L3 Gr 1 Romanel II vs Lausanne IV (0)
UID:f723877f-6c43-49c6-be23-b627435755df
STATUS:CONFIRMED
LAST-MODIFIED:20251109T153819Z
DESCRIPTION:3ème ligue Seniors Groupe 1\nBegegnungs-Nr: 0\nHeim: Romanel II\nGast: Lausanne IV\n\nAdresse: Ch des Epinettes 1\, 1032 Romanel-sur-Lausanne\n
LOCATION:Ch des Epinettes 1\, 1032 Romanel-sur-Lausanne
CATEGORIES:Saison 2025/26
END:VEVENT
BEGIN:VEVENT
DTSTAMP:20260424T151028Z
DTSTART;TZID=Europe/Berlin:20250827T193000
DTEND;TZID=Europe/Berlin:20250827T223000
SUMMARY:S L3 Gr 1 Romanel II vs Montriond-Ouchy  III (0)
UID:d096e7b2-4206-4518-adc1-101ca258b559
STATUS:CONFIRMED
LAST-MODIFIED:20251016T153910Z
DESCRIPTION:3ème ligue Seniors Groupe 1\nBegegnungs-Nr: 0\nHeim: Romanel II\nGast: Montriond-Ouchy  III\n\nAdresse: Ch des Epinettes 1\, 1032 Romanel-sur-Lausanne\n
LOCATION:Ch des Epinettes 1\, 1032 Romanel-sur-Lausanne
CATEGORIES:Saison 2025/26
END:VEVENT
BEGIN:VEVENT
DTSTAMP:20260424T151028Z
DTSTART;TZID=Europe/Berlin:20251022T200000
DTEND;TZID=Europe/Berlin:20251022T230000
SUMMARY:S L3 Gr 1 Romanel II vs Lausanne III (0)
UID:083832c7-6aa4-43f9-9ea9-13f37a70744b
STATUS:CONFIRMED
LAST-MODIFIED:20251016T154001Z
DESCRIPTION:3ème ligue Seniors Groupe 1\nBegegnungs-Nr: 0\nHeim: Romanel II\nGast: Lausanne III\n\nAdresse: Ch des Epinettes 1\, 1032 Romanel-sur-Lausanne\n
LOCATION:Ch des Epinettes 1\, 1032 Romanel-sur-Lausanne
CATEGORIES:Saison 2025/26
END:VEVENT
BEGIN:VEVENT
DTSTAMP:20260424T151028Z
DTSTART;TZID=Europe/Berlin:20251217T193000
DTEND;TZID=Europe/Berlin:20251217T223000
SUMMARY:S L3 Gr 1 Romanel II vs Crissier III (0)
UID:6a13504f-6143-4acf-bcea-3e39a7dabd59
STATUS:CONFIRMED
LAST-MODIFIED:20251016T154047Z
DESCRIPTION:3ème ligue Seniors Groupe 1\nBegegnungs-Nr: 0\nHeim: Romanel II\nGast: Crissier III\n\nAdresse: Ch des Epinettes 1\, 1032 Romanel-sur-Lausanne\n
LOCATION:Ch des Epinettes 1\, 1032 Romanel-sur-Lausanne
CATEGORIES:Saison 2025/26
END:VEVENT
BEGIN:VEVENT
DTSTAMP:20260424T151028Z
DTSTART;TZID=Europe/Berlin:20260108T193000
DTEND;TZID=Europe/Berlin:20260108T223000
SUMMARY:S L3 Gr 1 Montriond-Ouchy  III vs Romanel II (0)
UID:7a7045c9-5cd2-4144-a73b-4ce201f1da92
STATUS:CONFIRMED
LAST-MODIFIED:20251109T153725Z
DESCRIPTION:3ème ligue Seniors Groupe 1\nBegegnungs-Nr: 0\nHeim: Montriond-Ouchy  III\nGast: Romanel II\n\nAdresse: Avenue d'Ouchy 45\, 1006 Lausanne\n
LOCATION:Avenue d'Ouchy 45\, 1006 Lausanne
CATEGORIES:Saison 2025/26
END:VEVENT
BEGIN:VEVENT
DTSTAMP:20260424T151028Z
DTSTART;TZID=Europe/Berlin:20251112T193000
DTEND;TZID=Europe/Berlin:20251112T223000
SUMMARY:S L3 Gr 1 Lausanne III vs Romanel II (0)
UID:4b422cf7-8aa3-4f2e-bef5-1554cbc7edf0
STATUS:CONFIRMED
LAST-MODIFIED:20251109T153700Z
DESCRIPTION:3ème ligue Seniors Groupe 1\nBegegnungs-Nr: 0\nHeim: Lausanne III\nGast: Romanel II\n\nAdresse: Vaudoise Aréna\, Ch. du Viaduc 14\, 1008 Prilly\n
LOCATION:Vaudoise Aréna\, Ch. du Viaduc 14\, 1008 Prilly
CATEGORIES:Saison 2025/26
END:VEVENT
BEGIN:VEVENT
DTSTAMP:20260424T151028Z
DTSTART;TZID=Europe/Berlin:20260324T193000
DTEND;TZID=Europe/Berlin:20260324T223000
SUMMARY:S L3 Gr 1 Crissier III vs Romanel II (0)
UID:d1c53c81-0a33-49b4-9e5d-73c2a2685c5b
STATUS:CONFIRMED
LAST-MODIFIED:20251109T153801Z
DESCRIPTION:3ème ligue Seniors Groupe 1\nBegegnungs-Nr: 0\nHeim: Crissier III\nGast: Romanel II\n\nAdresse: Ch. de Roséaz\, 1030 Bussigny\n
LOCATION:Ch. de Roséaz\, 1030 Bussigny
CATEGORIES:Saison 2025/26
END:VEVENT
BEGIN:VEVENT
DTSTAMP:20260424T151028Z
DTSTART;TZID=Europe/Berlin:20251016T194500
DTEND;TZID=Europe/Berlin:20251016T224500
SUMMARY:S L3 Gr 1 Chexbres II vs Romanel II (0)
UID:74eb3312-6382-452c-965a-110a40d8b53a
STATUS:CONFIRMED
LAST-MODIFIED:20251016T153933Z
DESCRIPTION:3ème ligue Seniors Groupe 1\nBegegnungs-Nr: 0\nHeim: Chexbres II\nGast: Romanel II\n\nAdresse: Collège de Praz Routoz\, 1071 Chexbres\n
LOCATION:Collège de Praz Routoz\, 1071 Chexbres
CATEGORIES:Saison 2025/26
END:VEVENT
BEGIN:VEVENT
DTSTAMP:20260424T151028Z
DTSTART;TZID=Europe/Berlin:20251204T200000
DTEND;TZID=Europe/Berlin:20251204T230000
SUMMARY:S L3 Gr 1 Lausanne IV vs Romanel II (0)
UID:acbc6f5e-b1aa-4bae-a469-83422f5a77ce
STATUS:CONFIRMED
LAST-MODIFIED:20251016T154021Z
DESCRIPTION:3ème ligue Seniors Groupe 1\nBegegnungs-Nr: 0\nHeim: Lausanne IV\nGast: Romanel II\n\nAdresse: Vaudoise Aréna\, Ch. du Viaduc 14\, 1008 Prilly\n
LOCATION:Vaudoise Aréna\, Ch. du Viaduc 14\, 1008 Prilly
CATEGORIES:Saison 2025/26
END:VEVENT
END:VCALENDAR
