BEGIN:VCALENDAR
PRODID:-//nuDatenautomaten//framework iCal4j //DE
VERSION:2.0
CALSCALE:GREGORIAN
BEGIN:VTIMEZONE
TZID:Europe/Berlin
LAST-MODIFIED:20260306T231828Z
TZURL:https://www.tzurl.org/zoneinfo/Europe/Berlin
X-LIC-LOCATION:Europe/Berlin
X-PROLEPTIC-TZNAME:LMT
BEGIN:STANDARD
TZNAME:CET
TZOFFSETFROM:+005328
TZOFFSETTO:+0100
DTSTART:18930401T000000
END:STANDARD
BEGIN:DAYLIGHT
TZNAME:CEST
TZOFFSETFROM:+0100
TZOFFSETTO:+0200
DTSTART:19160430T230000
RDATE:19400401T020000
RDATE:19430329T020000
RDATE:19460414T020000
RDATE:19470406T030000
RDATE:19480418T020000
RDATE:19490410T020000
RDATE:19800406T020000
END:DAYLIGHT
BEGIN:STANDARD
TZNAME:CET
TZOFFSETFROM:+0200
TZOFFSETTO:+0100
DTSTART:19161001T010000
RDATE:19421102T030000
RDATE:19431004T030000
RDATE:19441002T030000
RDATE:19451118T030000
RDATE:19461007T030000
END:STANDARD
BEGIN:DAYLIGHT
TZNAME:CEST
TZOFFSETFROM:+0100
TZOFFSETTO:+0200
DTSTART:19170416T020000
RRULE:FREQ=YEARLY;UNTIL=19180415T010000Z;BYMONTH=4;BYDAY=3MO
END:DAYLIGHT
BEGIN:STANDARD
TZNAME:CET
TZOFFSETFROM:+0200
TZOFFSETTO:+0100
DTSTART:19170917T030000
RRULE:FREQ=YEARLY;UNTIL=19180916T010000Z;BYMONTH=9;BYDAY=3MO
END:STANDARD
BEGIN:DAYLIGHT
TZNAME:CEST
TZOFFSETFROM:+0100
TZOFFSETTO:+0200
DTSTART:19440403T020000
RRULE:FREQ=YEARLY;UNTIL=19450402T010000Z;BYMONTH=4;BYDAY=1MO
END:DAYLIGHT
BEGIN:DAYLIGHT
TZNAME:CEMT
TZOFFSETFROM:+0200
TZOFFSETTO:+0300
DTSTART:19450524T020000
RDATE:19470511T030000
END:DAYLIGHT
BEGIN:DAYLIGHT
TZNAME:CEST
TZOFFSETFROM:+0300
TZOFFSETTO:+0200
DTSTART:19450924T030000
RDATE:19470629T030000
END:DAYLIGHT
BEGIN:STANDARD
TZNAME:CET
TZOFFSETFROM:+0100
TZOFFSETTO:+0100
DTSTART:19460101T000000
RDATE:19800101T000000
END:STANDARD
BEGIN:STANDARD
TZNAME:CET
TZOFFSETFROM:+0200
TZOFFSETTO:+0100
DTSTART:19471005T030000
RRULE:FREQ=YEARLY;UNTIL=19491002T010000Z;BYMONTH=10;BYDAY=1SU
END:STANDARD
BEGIN:STANDARD
TZNAME:CET
TZOFFSETFROM:+0200
TZOFFSETTO:+0100
DTSTART:19800928T030000
RRULE:FREQ=YEARLY;UNTIL=19950924T010000Z;BYMONTH=9;BYDAY=-1SU
END:STANDARD
BEGIN:DAYLIGHT
TZNAME:CEST
TZOFFSETFROM:+0100
TZOFFSETTO:+0200
DTSTART:19810329T020000
RRULE:FREQ=YEARLY;BYMONTH=3;BYDAY=-1SU
END:DAYLIGHT
BEGIN:STANDARD
TZNAME:CET
TZOFFSETFROM:+0200
TZOFFSETTO:+0100
DTSTART:19961027T030000
RRULE:FREQ=YEARLY;BYMONTH=10;BYDAY=-1SU
END:STANDARD
END:VTIMEZONE
BEGIN:VEVENT
DTSTAMP:20260424T103950Z
DTSTART;TZID=Europe/Berlin:20251205T194500
DTEND;TZID=Europe/Berlin:20251205T224500
SUMMARY:HE NLC Gr. 1 ZZ-Lancy II vs Meyrin (27)
UID:862d50b4-ba5a-4517-92f9-688a213dace9
STATUS:CONFIRMED
LAST-MODIFIED:20251209T094629Z
DESCRIPTION:Herren Nationalliga C Gruppe 1\nBegegnungs-Nr: 27\nHeim: ZZ-Lancy II\nGast: Meyrin\n\nAdresse: Avenue du Curé-Baud 40\, 1212 Grand-Lancy\n
LOCATION:Avenue du Curé-Baud 40\, 1212 Grand-Lancy
CATEGORIES:Saison 2025/26
END:VEVENT
BEGIN:VEVENT
DTSTAMP:20260424T103950Z
DTSTART;TZID=Europe/Berlin:20250913T150000
DTEND;TZID=Europe/Berlin:20250913T180000
SUMMARY:HE NLC Gr. 1 ZZ-Lancy II vs Forward-Morges (1)
UID:db8babe3-5fb8-4e6c-8df2-0f1675c8226b
STATUS:CONFIRMED
LAST-MODIFIED:20250918T112250Z
DESCRIPTION:Herren Nationalliga C Gruppe 1\nBegegnungs-Nr: 1\nHeim: ZZ-Lancy II\nGast: Forward-Morges\n\nAdresse: Avenue du Curé-Baud 40\, 1212 Grand-Lancy\n
LOCATION:Avenue du Curé-Baud 40\, 1212 Grand-Lancy
CATEGORIES:Saison 2025/26
END:VEVENT
BEGIN:VEVENT
DTSTAMP:20260424T103950Z
DTSTART;TZID=Europe/Berlin:20251011T150000
DTEND;TZID=Europe/Berlin:20251011T180000
SUMMARY:HE NLC Gr. 1 ZZ-Lancy II vs Cortaillod (9)
UID:0d5bc9ec-d4ef-42bd-8a9c-5d85c2fa7b68
STATUS:CONFIRMED
LAST-MODIFIED:20251013T101250Z
DESCRIPTION:Herren Nationalliga C Gruppe 1\nBegegnungs-Nr: 9\nHeim: ZZ-Lancy II\nGast: Cortaillod\n\nAdresse: Avenue du Curé-Baud 40\, 1212 Grand-Lancy\n
LOCATION:Avenue du Curé-Baud 40\, 1212 Grand-Lancy
CATEGORIES:Saison 2025/26
END:VEVENT
BEGIN:VEVENT
DTSTAMP:20260424T103950Z
DTSTART;TZID=Europe/Berlin:20251107T200000
DTEND;TZID=Europe/Berlin:20251107T230000
SUMMARY:HE NLC Gr. 1 ZZ-Lancy II vs Bernex (17)
UID:3c5080b3-4bd7-440e-a82a-b5ca9058d0d4
STATUS:CONFIRMED
LAST-MODIFIED:20251110T071754Z
DESCRIPTION:Herren Nationalliga C Gruppe 1\nBegegnungs-Nr: 17\nHeim: ZZ-Lancy II\nGast: Bernex\n\nAdresse: Avenue du Curé-Baud 40\, 1212 Grand-Lancy\n
LOCATION:Avenue du Curé-Baud 40\, 1212 Grand-Lancy
CATEGORIES:Saison 2025/26
END:VEVENT
BEGIN:VEVENT
DTSTAMP:20260424T103950Z
DTSTART;TZID=Europe/Berlin:20260227T200000
DTEND;TZID=Europe/Berlin:20260227T230000
SUMMARY:HE NLC Gr. 1 ZZ-Lancy II vs Lausanne (13)
UID:fc297b13-bcce-47b6-82a9-0f9ef9518fdb
STATUS:CONFIRMED
LAST-MODIFIED:20260303T101141Z
DESCRIPTION:Herren Nationalliga C Gruppe 1\nBegegnungs-Nr: 13\nHeim: ZZ-Lancy II\nGast: Lausanne\n\nAdresse: Avenue du Curé-Baud 40\, 1212 Grand-Lancy\n
LOCATION:Avenue du Curé-Baud 40\, 1212 Grand-Lancy
CATEGORIES:Saison 2025/26
END:VEVENT
BEGIN:VEVENT
DTSTAMP:20260424T103950Z
DTSTART;TZID=Europe/Berlin:20260131T150000
DTEND;TZID=Europe/Berlin:20260131T180000
SUMMARY:HE NLC Gr. 1 ZZ-Lancy II vs Versoix (7)
UID:8a9ea114-7d6e-40d2-83f7-e9172302f199
STATUS:CONFIRMED
LAST-MODIFIED:20260203T081250Z
DESCRIPTION:Herren Nationalliga C Gruppe 1\nBegegnungs-Nr: 7\nHeim: ZZ-Lancy II\nGast: Versoix\n\nAdresse: Avenue du Curé-Baud 40\, 1212 Grand-Lancy\n
LOCATION:Avenue du Curé-Baud 40\, 1212 Grand-Lancy
CATEGORIES:Saison 2025/26
END:VEVENT
BEGIN:VEVENT
DTSTAMP:20260424T103950Z
DTSTART;TZID=Europe/Berlin:20260418T170000
DTEND;TZID=Europe/Berlin:20260418T200000
SUMMARY:HE NLC Gr. 1 ZZ-Lancy II vs UGS-Chênois II (21)
UID:144d46d0-67dd-4b18-8983-2b2471192bcc
STATUS:CONFIRMED
LAST-MODIFIED:20260420T082423Z
DESCRIPTION:Herren Nationalliga C Gruppe 1\nBegegnungs-Nr: 21\nHeim: ZZ-Lancy II\nGast: UGS-Chênois II\n\nAdresse: Avenue du Curé-Baud 40\, 1212 Grand-Lancy\n
LOCATION:Avenue du Curé-Baud 40\, 1212 Grand-Lancy
CATEGORIES:Saison 2025/26
END:VEVENT
BEGIN:VEVENT
DTSTAMP:20260424T103950Z
DTSTART;TZID=Europe/Berlin:20251025T160000
DTEND;TZID=Europe/Berlin:20251025T190000
SUMMARY:HE NLC Gr. 1 Lausanne vs ZZ-Lancy II (13)
UID:9a60a20c-1b40-46d7-9e9c-8f78828d05df
STATUS:CONFIRMED
LAST-MODIFIED:20251029T082833Z
DESCRIPTION:Herren Nationalliga C Gruppe 1\nBegegnungs-Nr: 13\nHeim: Lausanne\nGast: ZZ-Lancy II\n\nAdresse: Vaudoise Aréna\, Ch. du Viaduc 14\, 1008 Prilly\n
LOCATION:Vaudoise Aréna\, Ch. du Viaduc 14\, 1008 Prilly
CATEGORIES:Saison 2025/26
END:VEVENT
BEGIN:VEVENT
DTSTAMP:20260424T103950Z
DTSTART;TZID=Europe/Berlin:20250927T170000
DTEND;TZID=Europe/Berlin:20250927T200000
SUMMARY:HE NLC Gr. 1 Versoix vs ZZ-Lancy II (7)
UID:f77faef4-7d1c-4243-848f-4f2e1600ca20
STATUS:CONFIRMED
LAST-MODIFIED:20251009T194427Z
DESCRIPTION:Herren Nationalliga C Gruppe 1\nBegegnungs-Nr: 7\nHeim: Versoix\nGast: ZZ-Lancy II\n\nAdresse: Chemin Ami-Argand 40\, 1290 Versoix\n
LOCATION:Chemin Ami-Argand 40\, 1290 Versoix
CATEGORIES:Saison 2025/26
END:VEVENT
BEGIN:VEVENT
DTSTAMP:20260424T103950Z
DTSTART;TZID=Europe/Berlin:20251122T150000
DTEND;TZID=Europe/Berlin:20251122T180000
SUMMARY:HE NLC Gr. 1 UGS-Chênois II vs ZZ-Lancy II (21)
UID:594df561-277b-4e49-9411-f5d417031541
STATUS:CONFIRMED
LAST-MODIFIED:20251126T101404Z
DESCRIPTION:Herren Nationalliga C Gruppe 1\nBegegnungs-Nr: 21\nHeim: UGS-Chênois II\nGast: ZZ-Lancy II\n\nAdresse: Route de Frontenex 68\, 1208 Genève\n
LOCATION:Route de Frontenex 68\, 1208 Genève
CATEGORIES:Saison 2025/26
END:VEVENT
BEGIN:VEVENT
DTSTAMP:20260424T103950Z
DTSTART;TZID=Europe/Berlin:20260110T150000
DTEND;TZID=Europe/Berlin:20260110T180000
SUMMARY:HE NLC Gr. 1 Forward-Morges vs ZZ-Lancy II (1)
UID:adc6d508-628a-47b1-9298-d3983dc2af83
STATUS:CONFIRMED
LAST-MODIFIED:20260112T202857Z
DESCRIPTION:Herren Nationalliga C Gruppe 1\nBegegnungs-Nr: 1\nHeim: Forward-Morges\nGast: ZZ-Lancy II\n\nAdresse: Chemin de Tolochenaz\, 1110 Morges\n
LOCATION:Chemin de Tolochenaz\, 1110 Morges
CATEGORIES:Saison 2025/26
END:VEVENT
BEGIN:VEVENT
DTSTAMP:20260424T103950Z
DTSTART;TZID=Europe/Berlin:20260221T150000
DTEND;TZID=Europe/Berlin:20260221T180000
SUMMARY:HE NLC Gr. 1 Cortaillod vs ZZ-Lancy II (9)
UID:a904221c-0478-45fb-84d0-e5b2eff68ec4
STATUS:CONFIRMED
LAST-MODIFIED:20260223T153332Z
DESCRIPTION:Herren Nationalliga C Gruppe 1\nBegegnungs-Nr: 9\nHeim: Cortaillod\nGast: ZZ-Lancy II\n\nAdresse: Coteaux 1\, 2016 Cortaillod\n
LOCATION:Coteaux 1\, 2016 Cortaillod
CATEGORIES:Saison 2025/26
END:VEVENT
BEGIN:VEVENT
DTSTAMP:20260424T103950Z
DTSTART;TZID=Europe/Berlin:20260327T194500
DTEND;TZID=Europe/Berlin:20260327T224500
SUMMARY:HE NLC Gr. 1 Bernex vs ZZ-Lancy II (17)
UID:8fb00519-4066-422e-814d-d96c16c8fbf1
STATUS:CONFIRMED
LAST-MODIFIED:20260330T075640Z
DESCRIPTION:Herren Nationalliga C Gruppe 1\nBegegnungs-Nr: 17\nHeim: Bernex\nGast: ZZ-Lancy II\n\nAdresse: Chemin de Saule 120\, 1233 Bernex\n
LOCATION:Chemin de Saule 120\, 1233 Bernex
CATEGORIES:Saison 2025/26
END:VEVENT
BEGIN:VEVENT
DTSTAMP:20260424T103950Z
DTSTART;TZID=Europe/Berlin:20260419T143000
DTEND;TZID=Europe/Berlin:20260419T173000
SUMMARY:HE NLC Gr. 1 Meyrin vs ZZ-Lancy II (27)
UID:774a9c49-ffc9-4327-9436-3ae894387cc5
STATUS:CONFIRMED
LAST-MODIFIED:20260420T082702Z
DESCRIPTION:Herren Nationalliga C Gruppe 1\nBegegnungs-Nr: 27\nHeim: Meyrin\nGast: ZZ-Lancy II\n\nAdresse: Rue De-Livron 2\, 1217 Meyrin\n
LOCATION:Rue De-Livron 2\, 1217 Meyrin
CATEGORIES:Saison 2025/26
END:VEVENT
END:VCALENDAR
