BEGIN:VCALENDAR
PRODID:-//nuDatenautomaten//framework iCal4j //DE
VERSION:2.0
CALSCALE:GREGORIAN
BEGIN:VTIMEZONE
TZID:Europe/Berlin
LAST-MODIFIED:20260306T231828Z
TZURL:https://www.tzurl.org/zoneinfo/Europe/Berlin
X-LIC-LOCATION:Europe/Berlin
X-PROLEPTIC-TZNAME:LMT
BEGIN:STANDARD
TZNAME:CET
TZOFFSETFROM:+005328
TZOFFSETTO:+0100
DTSTART:18930401T000000
END:STANDARD
BEGIN:DAYLIGHT
TZNAME:CEST
TZOFFSETFROM:+0100
TZOFFSETTO:+0200
DTSTART:19160430T230000
RDATE:19400401T020000
RDATE:19430329T020000
RDATE:19460414T020000
RDATE:19470406T030000
RDATE:19480418T020000
RDATE:19490410T020000
RDATE:19800406T020000
END:DAYLIGHT
BEGIN:STANDARD
TZNAME:CET
TZOFFSETFROM:+0200
TZOFFSETTO:+0100
DTSTART:19161001T010000
RDATE:19421102T030000
RDATE:19431004T030000
RDATE:19441002T030000
RDATE:19451118T030000
RDATE:19461007T030000
END:STANDARD
BEGIN:DAYLIGHT
TZNAME:CEST
TZOFFSETFROM:+0100
TZOFFSETTO:+0200
DTSTART:19170416T020000
RRULE:FREQ=YEARLY;UNTIL=19180415T010000Z;BYMONTH=4;BYDAY=3MO
END:DAYLIGHT
BEGIN:STANDARD
TZNAME:CET
TZOFFSETFROM:+0200
TZOFFSETTO:+0100
DTSTART:19170917T030000
RRULE:FREQ=YEARLY;UNTIL=19180916T010000Z;BYMONTH=9;BYDAY=3MO
END:STANDARD
BEGIN:DAYLIGHT
TZNAME:CEST
TZOFFSETFROM:+0100
TZOFFSETTO:+0200
DTSTART:19440403T020000
RRULE:FREQ=YEARLY;UNTIL=19450402T010000Z;BYMONTH=4;BYDAY=1MO
END:DAYLIGHT
BEGIN:DAYLIGHT
TZNAME:CEMT
TZOFFSETFROM:+0200
TZOFFSETTO:+0300
DTSTART:19450524T020000
RDATE:19470511T030000
END:DAYLIGHT
BEGIN:DAYLIGHT
TZNAME:CEST
TZOFFSETFROM:+0300
TZOFFSETTO:+0200
DTSTART:19450924T030000
RDATE:19470629T030000
END:DAYLIGHT
BEGIN:STANDARD
TZNAME:CET
TZOFFSETFROM:+0100
TZOFFSETTO:+0100
DTSTART:19460101T000000
RDATE:19800101T000000
END:STANDARD
BEGIN:STANDARD
TZNAME:CET
TZOFFSETFROM:+0200
TZOFFSETTO:+0100
DTSTART:19471005T030000
RRULE:FREQ=YEARLY;UNTIL=19491002T010000Z;BYMONTH=10;BYDAY=1SU
END:STANDARD
BEGIN:STANDARD
TZNAME:CET
TZOFFSETFROM:+0200
TZOFFSETTO:+0100
DTSTART:19800928T030000
RRULE:FREQ=YEARLY;UNTIL=19950924T010000Z;BYMONTH=9;BYDAY=-1SU
END:STANDARD
BEGIN:DAYLIGHT
TZNAME:CEST
TZOFFSETFROM:+0100
TZOFFSETTO:+0200
DTSTART:19810329T020000
RRULE:FREQ=YEARLY;BYMONTH=3;BYDAY=-1SU
END:DAYLIGHT
BEGIN:STANDARD
TZNAME:CET
TZOFFSETFROM:+0200
TZOFFSETTO:+0100
DTSTART:19961027T030000
RRULE:FREQ=YEARLY;BYMONTH=10;BYDAY=-1SU
END:STANDARD
END:VTIMEZONE
BEGIN:VEVENT
DTSTAMP:20260424T150259Z
DTSTART;TZID=Europe/Berlin:20260506T200000
DTEND;TZID=Europe/Berlin:20260506T230000
SUMMARY:Ligue 3 Gr.3 ZZ-Lancy IV vs Meyrin II (19)
UID:da9c8443-26ce-45bc-b890-e07f81c0a38c
STATUS:CONFIRMED
LAST-MODIFIED:20250826T075316Z
DESCRIPTION:3ème ligue O40 3ème Groupe\nBegegnungs-Nr: 19\nHeim: ZZ-Lancy IV\nGast: Meyrin II\n
LOCATION:
CATEGORIES:Saison 2025/26
END:VEVENT
BEGIN:VEVENT
DTSTAMP:20260424T150259Z
DTSTART;TZID=Europe/Berlin:20251210T200000
DTEND;TZID=Europe/Berlin:20251210T230000
SUMMARY:Ligue 3 Gr.3 ZZ-Lancy IV vs Rapid-Genève (8)
UID:10dd480b-be40-4326-ad88-3f78f46a0cb8
STATUS:CONFIRMED
LAST-MODIFIED:20251211T160243Z
DESCRIPTION:3ème ligue O40 3ème Groupe\nBegegnungs-Nr: 8\nHeim: ZZ-Lancy IV\nGast: Rapid-Genève\n
LOCATION:
CATEGORIES:Saison 2025/26
END:VEVENT
BEGIN:VEVENT
DTSTAMP:20260424T150259Z
DTSTART;TZID=Europe/Berlin:20250910T200000
DTEND;TZID=Europe/Berlin:20250910T230000
SUMMARY:Ligue 3 Gr.3 ZZ-Lancy IV vs Puplinge II (1)
UID:fbd92330-d7de-44e8-b74b-5e48a591972b
STATUS:CONFIRMED
LAST-MODIFIED:20250912T174829Z
DESCRIPTION:3ème ligue O40 3ème Groupe\nBegegnungs-Nr: 1\nHeim: ZZ-Lancy IV\nGast: Puplinge II\n
LOCATION:
CATEGORIES:Saison 2025/26
END:VEVENT
BEGIN:VEVENT
DTSTAMP:20260424T150259Z
DTSTART;TZID=Europe/Berlin:20251105T200000
DTEND;TZID=Europe/Berlin:20251105T230000
SUMMARY:Ligue 3 Gr.3 ZZ-Lancy IV vs Châtelaine IV (6)
UID:9cdbd5e3-9148-4710-a6ac-4cc80b3ecf76
STATUS:CONFIRMED
LAST-MODIFIED:20251106T094639Z
DESCRIPTION:3ème ligue O40 3ème Groupe\nBegegnungs-Nr: 6\nHeim: ZZ-Lancy IV\nGast: Châtelaine IV\n
LOCATION:
CATEGORIES:Saison 2025/26
END:VEVENT
BEGIN:VEVENT
DTSTAMP:20260424T150259Z
DTSTART;TZID=Europe/Berlin:20260422T194500
DTEND;TZID=Europe/Berlin:20260422T224500
SUMMARY:Ligue 3 Gr.3 Rapid-Genève vs ZZ-Lancy IV (18)
UID:678c08d0-f722-42d4-97a4-afed1cc00706
STATUS:CONFIRMED
LAST-MODIFIED:20260423T084425Z
DESCRIPTION:3ème ligue O40 3ème Groupe\nBegegnungs-Nr: 18\nHeim: Rapid-Genève\nGast: ZZ-Lancy IV\n
LOCATION:
CATEGORIES:Saison 2025/26
END:VEVENT
BEGIN:VEVENT
DTSTAMP:20260424T150259Z
DTSTART;TZID=Europe/Berlin:20260304T194500
DTEND;TZID=Europe/Berlin:20260304T224500
SUMMARY:Ligue 3 Gr.3 Châtelaine IV vs ZZ-Lancy IV (16)
UID:597d748b-ff8e-441e-8abc-4ada7ab389ad
STATUS:CONFIRMED
LAST-MODIFIED:20260305T123213Z
DESCRIPTION:3ème ligue O40 3ème Groupe\nBegegnungs-Nr: 16\nHeim: Châtelaine IV\nGast: ZZ-Lancy IV\n
LOCATION:
CATEGORIES:Saison 2025/26
END:VEVENT
BEGIN:VEVENT
DTSTAMP:20260424T150259Z
DTSTART;TZID=Europe/Berlin:20260106T194500
DTEND;TZID=Europe/Berlin:20260106T224500
SUMMARY:Ligue 3 Gr.3 Puplinge II vs ZZ-Lancy IV (11)
UID:46892fcd-2a91-423a-8ae7-fc21081db63b
STATUS:CONFIRMED
LAST-MODIFIED:20260107T131333Z
DESCRIPTION:3ème ligue O40 3ème Groupe\nBegegnungs-Nr: 11\nHeim: Puplinge II\nGast: ZZ-Lancy IV\n\nAdresse: Chemin de la Brenaz\,  15\, 1241 Puplinge\n
LOCATION:Chemin de la Brenaz\,  15\, 1241 Puplinge
CATEGORIES:Saison 2025/26
END:VEVENT
BEGIN:VEVENT
DTSTAMP:20260424T150259Z
DTSTART;TZID=Europe/Berlin:20251217T194500
DTEND;TZID=Europe/Berlin:20251217T224500
SUMMARY:Ligue 3 Gr.3 Meyrin II vs ZZ-Lancy IV (9)
UID:b36024b3-e2f3-4121-bb02-8421542ab032
STATUS:CONFIRMED
LAST-MODIFIED:20251219T100021Z
DESCRIPTION:3ème ligue O40 3ème Groupe\nBegegnungs-Nr: 9\nHeim: Meyrin II\nGast: ZZ-Lancy IV\n
LOCATION:
CATEGORIES:Saison 2025/26
END:VEVENT
END:VCALENDAR
