BEGIN:VCALENDAR
PRODID:-//nuDatenautomaten//framework iCal4j //DE
VERSION:2.0
CALSCALE:GREGORIAN
BEGIN:VTIMEZONE
TZID:Europe/Berlin
LAST-MODIFIED:20260306T231828Z
TZURL:https://www.tzurl.org/zoneinfo/Europe/Berlin
X-LIC-LOCATION:Europe/Berlin
X-PROLEPTIC-TZNAME:LMT
BEGIN:STANDARD
TZNAME:CET
TZOFFSETFROM:+005328
TZOFFSETTO:+0100
DTSTART:18930401T000000
END:STANDARD
BEGIN:DAYLIGHT
TZNAME:CEST
TZOFFSETFROM:+0100
TZOFFSETTO:+0200
DTSTART:19160430T230000
RDATE:19400401T020000
RDATE:19430329T020000
RDATE:19460414T020000
RDATE:19470406T030000
RDATE:19480418T020000
RDATE:19490410T020000
RDATE:19800406T020000
END:DAYLIGHT
BEGIN:STANDARD
TZNAME:CET
TZOFFSETFROM:+0200
TZOFFSETTO:+0100
DTSTART:19161001T010000
RDATE:19421102T030000
RDATE:19431004T030000
RDATE:19441002T030000
RDATE:19451118T030000
RDATE:19461007T030000
END:STANDARD
BEGIN:DAYLIGHT
TZNAME:CEST
TZOFFSETFROM:+0100
TZOFFSETTO:+0200
DTSTART:19170416T020000
RRULE:FREQ=YEARLY;UNTIL=19180415T010000Z;BYMONTH=4;BYDAY=3MO
END:DAYLIGHT
BEGIN:STANDARD
TZNAME:CET
TZOFFSETFROM:+0200
TZOFFSETTO:+0100
DTSTART:19170917T030000
RRULE:FREQ=YEARLY;UNTIL=19180916T010000Z;BYMONTH=9;BYDAY=3MO
END:STANDARD
BEGIN:DAYLIGHT
TZNAME:CEST
TZOFFSETFROM:+0100
TZOFFSETTO:+0200
DTSTART:19440403T020000
RRULE:FREQ=YEARLY;UNTIL=19450402T010000Z;BYMONTH=4;BYDAY=1MO
END:DAYLIGHT
BEGIN:DAYLIGHT
TZNAME:CEMT
TZOFFSETFROM:+0200
TZOFFSETTO:+0300
DTSTART:19450524T020000
RDATE:19470511T030000
END:DAYLIGHT
BEGIN:DAYLIGHT
TZNAME:CEST
TZOFFSETFROM:+0300
TZOFFSETTO:+0200
DTSTART:19450924T030000
RDATE:19470629T030000
END:DAYLIGHT
BEGIN:STANDARD
TZNAME:CET
TZOFFSETFROM:+0100
TZOFFSETTO:+0100
DTSTART:19460101T000000
RDATE:19800101T000000
END:STANDARD
BEGIN:STANDARD
TZNAME:CET
TZOFFSETFROM:+0200
TZOFFSETTO:+0100
DTSTART:19471005T030000
RRULE:FREQ=YEARLY;UNTIL=19491002T010000Z;BYMONTH=10;BYDAY=1SU
END:STANDARD
BEGIN:STANDARD
TZNAME:CET
TZOFFSETFROM:+0200
TZOFFSETTO:+0100
DTSTART:19800928T030000
RRULE:FREQ=YEARLY;UNTIL=19950924T010000Z;BYMONTH=9;BYDAY=-1SU
END:STANDARD
BEGIN:DAYLIGHT
TZNAME:CEST
TZOFFSETFROM:+0100
TZOFFSETTO:+0200
DTSTART:19810329T020000
RRULE:FREQ=YEARLY;BYMONTH=3;BYDAY=-1SU
END:DAYLIGHT
BEGIN:STANDARD
TZNAME:CET
TZOFFSETFROM:+0200
TZOFFSETTO:+0100
DTSTART:19961027T030000
RRULE:FREQ=YEARLY;BYMONTH=10;BYDAY=-1SU
END:STANDARD
END:VTIMEZONE
BEGIN:VEVENT
DTSTAMP:20260424T150247Z
DTSTART;TZID=Europe/Berlin:20251017T201500
DTEND;TZID=Europe/Berlin:20251017T231500
SUMMARY:1° Divisione ABTT II vs Locarno (7)
UID:04926b64-e508-4fb4-a1e1-78e6d2ebb9d2
STATUS:CONFIRMED
LAST-MODIFIED:20251020T094255Z
DESCRIPTION:1° Divisione\nBegegnungs-Nr: 7\nHeim: ABTT II\nGast: Locarno\n\nAdresse: Francesco Chiesa 2a\, 6500 Bellinzona\n
LOCATION:Francesco Chiesa 2a\, 6500 Bellinzona
CATEGORIES:Saison 2025/26
END:VEVENT
BEGIN:VEVENT
DTSTAMP:20260424T150247Z
DTSTART;TZID=Europe/Berlin:20251128T201500
DTEND;TZID=Europe/Berlin:20251128T231500
SUMMARY:1° Divisione ABTT II vs Riva S.Vitale (13)
UID:aab070e6-8f80-4d3b-9272-49ef8a278f27
STATUS:CONFIRMED
LAST-MODIFIED:20251201T080711Z
DESCRIPTION:1° Divisione\nBegegnungs-Nr: 13\nHeim: ABTT II\nGast: Riva S.Vitale\n\nAdresse: Francesco Chiesa 2a\, 6500 Bellinzona\n
LOCATION:Francesco Chiesa 2a\, 6500 Bellinzona
CATEGORIES:Saison 2025/26
END:VEVENT
BEGIN:VEVENT
DTSTAMP:20260424T150247Z
DTSTART;TZID=Europe/Berlin:20250919T201500
DTEND;TZID=Europe/Berlin:20250919T231500
SUMMARY:1° Divisione ABTT II vs Tenero (1)
UID:e29a251b-feea-462e-9cbb-202dc1342c68
STATUS:CONFIRMED
LAST-MODIFIED:20250922T070752Z
DESCRIPTION:1° Divisione\nBegegnungs-Nr: 1\nHeim: ABTT II\nGast: Tenero\n\nAdresse: Francesco Chiesa 2a\, 6500 Bellinzona\n
LOCATION:Francesco Chiesa 2a\, 6500 Bellinzona
CATEGORIES:Saison 2025/26
END:VEVENT
BEGIN:VEVENT
DTSTAMP:20260424T150247Z
DTSTART;TZID=Europe/Berlin:20260123T201500
DTEND;TZID=Europe/Berlin:20260123T231500
SUMMARY:1° Divisione ABTT II vs Lugano III (19)
UID:29334dde-a747-4e36-a312-747b2d44324c
STATUS:CONFIRMED
LAST-MODIFIED:20260126T072651Z
DESCRIPTION:1° Divisione\nBegegnungs-Nr: 19\nHeim: ABTT II\nGast: Lugano III\n\nAdresse: Francesco Chiesa 2a\, 6500 Bellinzona\n
LOCATION:Francesco Chiesa 2a\, 6500 Bellinzona
CATEGORIES:Saison 2025/26
END:VEVENT
BEGIN:VEVENT
DTSTAMP:20260424T150247Z
DTSTART;TZID=Europe/Berlin:20260306T201500
DTEND;TZID=Europe/Berlin:20260306T231500
SUMMARY:1° Divisione ABTT II vs Locarno II (25)
UID:3e96b8ec-1e42-4c66-a4e1-d55f4b8651c7
STATUS:CONFIRMED
LAST-MODIFIED:20260309T083651Z
DESCRIPTION:1° Divisione\nBegegnungs-Nr: 25\nHeim: ABTT II\nGast: Locarno II\n\nAdresse: Francesco Chiesa 2a\, 6500 Bellinzona\n
LOCATION:Francesco Chiesa 2a\, 6500 Bellinzona
CATEGORIES:Saison 2025/26
END:VEVENT
BEGIN:VEVENT
DTSTAMP:20260424T150247Z
DTSTART;TZID=Europe/Berlin:20251003T201500
DTEND;TZID=Europe/Berlin:20251003T231500
SUMMARY:1° Divisione Lugano III vs ABTT II (4)
UID:441bd368-5d27-4beb-941d-e59284ff0c7f
STATUS:CONFIRMED
LAST-MODIFIED:20251004T073014Z
DESCRIPTION:1° Divisione\nBegegnungs-Nr: 4\nHeim: Lugano III\nGast: ABTT II\n\nAdresse: Via al Chioso 7\, 6900 Lugano-Cassarate\n
LOCATION:Via al Chioso 7\, 6900 Lugano-Cassarate
CATEGORIES:Saison 2025/26
END:VEVENT
BEGIN:VEVENT
DTSTAMP:20260424T150247Z
DTSTART;TZID=Europe/Berlin:20251111T203000
DTEND;TZID=Europe/Berlin:20251111T233000
SUMMARY:1° Divisione Locarno II vs ABTT II (10)
UID:d6763641-5bde-44ec-8790-7a3e3991464e
STATUS:CONFIRMED
LAST-MODIFIED:20251113T092536Z
DESCRIPTION:1° Divisione\nBegegnungs-Nr: 10\nHeim: Locarno II\nGast: ABTT II\n\nAdresse: Via alla Morettina 3\, 6600 Locarno\n
LOCATION:Via alla Morettina 3\, 6600 Locarno
CATEGORIES:Saison 2025/26
END:VEVENT
BEGIN:VEVENT
DTSTAMP:20260424T150247Z
DTSTART;TZID=Europe/Berlin:20251212T194500
DTEND;TZID=Europe/Berlin:20251212T224500
SUMMARY:1° Divisione Tenero vs ABTT II (16)
UID:ec327e9f-6627-415e-a1c0-7992ff078d15
STATUS:CONFIRMED
LAST-MODIFIED:20251215T082324Z
DESCRIPTION:1° Divisione\nBegegnungs-Nr: 16\nHeim: Tenero\nGast: ABTT II\n\nAdresse: Palestra Naviglio\, Gottardo\, Squash\, 6598 Tenero\n
LOCATION:Palestra Naviglio\, Gottardo\, Squash\, 6598 Tenero
CATEGORIES:Saison 2025/26
END:VEVENT
BEGIN:VEVENT
DTSTAMP:20260424T150247Z
DTSTART;TZID=Europe/Berlin:20260206T201500
DTEND;TZID=Europe/Berlin:20260206T231500
SUMMARY:1° Divisione Locarno vs ABTT II (22)
UID:087a45c1-79d3-4b47-a9bc-f8aa7e5b7c88
STATUS:CONFIRMED
LAST-MODIFIED:20260209T105010Z
DESCRIPTION:1° Divisione\nBegegnungs-Nr: 22\nHeim: Locarno\nGast: ABTT II\n\nAdresse: Via alla Morettina 3\, 6600 Locarno\n
LOCATION:Via alla Morettina 3\, 6600 Locarno
CATEGORIES:Saison 2025/26
END:VEVENT
BEGIN:VEVENT
DTSTAMP:20260424T150247Z
DTSTART;TZID=Europe/Berlin:20260320T203000
DTEND;TZID=Europe/Berlin:20260320T233000
SUMMARY:1° Divisione Riva S.Vitale vs ABTT II (28)
UID:f531d3d3-56ad-4b0a-b74c-eb1646c289df
STATUS:CONFIRMED
LAST-MODIFIED:20260323T090450Z
DESCRIPTION:1° Divisione\nBegegnungs-Nr: 28\nHeim: Riva S.Vitale\nGast: ABTT II\n\nAdresse: Via Monsignor Sesti\, 6826 Riva San Vitale\n
LOCATION:Via Monsignor Sesti\, 6826 Riva San Vitale
CATEGORIES:Saison 2025/26
END:VEVENT
END:VCALENDAR
