BEGIN:VCALENDAR
PRODID:-//nuDatenautomaten//framework iCal4j //DE
VERSION:2.0
CALSCALE:GREGORIAN
BEGIN:VTIMEZONE
TZID:Europe/Berlin
LAST-MODIFIED:20260306T231828Z
TZURL:https://www.tzurl.org/zoneinfo/Europe/Berlin
X-LIC-LOCATION:Europe/Berlin
X-PROLEPTIC-TZNAME:LMT
BEGIN:STANDARD
TZNAME:CET
TZOFFSETFROM:+005328
TZOFFSETTO:+0100
DTSTART:18930401T000000
END:STANDARD
BEGIN:DAYLIGHT
TZNAME:CEST
TZOFFSETFROM:+0100
TZOFFSETTO:+0200
DTSTART:19160430T230000
RDATE:19400401T020000
RDATE:19430329T020000
RDATE:19460414T020000
RDATE:19470406T030000
RDATE:19480418T020000
RDATE:19490410T020000
RDATE:19800406T020000
END:DAYLIGHT
BEGIN:STANDARD
TZNAME:CET
TZOFFSETFROM:+0200
TZOFFSETTO:+0100
DTSTART:19161001T010000
RDATE:19421102T030000
RDATE:19431004T030000
RDATE:19441002T030000
RDATE:19451118T030000
RDATE:19461007T030000
END:STANDARD
BEGIN:DAYLIGHT
TZNAME:CEST
TZOFFSETFROM:+0100
TZOFFSETTO:+0200
DTSTART:19170416T020000
RRULE:FREQ=YEARLY;UNTIL=19180415T010000Z;BYMONTH=4;BYDAY=3MO
END:DAYLIGHT
BEGIN:STANDARD
TZNAME:CET
TZOFFSETFROM:+0200
TZOFFSETTO:+0100
DTSTART:19170917T030000
RRULE:FREQ=YEARLY;UNTIL=19180916T010000Z;BYMONTH=9;BYDAY=3MO
END:STANDARD
BEGIN:DAYLIGHT
TZNAME:CEST
TZOFFSETFROM:+0100
TZOFFSETTO:+0200
DTSTART:19440403T020000
RRULE:FREQ=YEARLY;UNTIL=19450402T010000Z;BYMONTH=4;BYDAY=1MO
END:DAYLIGHT
BEGIN:DAYLIGHT
TZNAME:CEMT
TZOFFSETFROM:+0200
TZOFFSETTO:+0300
DTSTART:19450524T020000
RDATE:19470511T030000
END:DAYLIGHT
BEGIN:DAYLIGHT
TZNAME:CEST
TZOFFSETFROM:+0300
TZOFFSETTO:+0200
DTSTART:19450924T030000
RDATE:19470629T030000
END:DAYLIGHT
BEGIN:STANDARD
TZNAME:CET
TZOFFSETFROM:+0100
TZOFFSETTO:+0100
DTSTART:19460101T000000
RDATE:19800101T000000
END:STANDARD
BEGIN:STANDARD
TZNAME:CET
TZOFFSETFROM:+0200
TZOFFSETTO:+0100
DTSTART:19471005T030000
RRULE:FREQ=YEARLY;UNTIL=19491002T010000Z;BYMONTH=10;BYDAY=1SU
END:STANDARD
BEGIN:STANDARD
TZNAME:CET
TZOFFSETFROM:+0200
TZOFFSETTO:+0100
DTSTART:19800928T030000
RRULE:FREQ=YEARLY;UNTIL=19950924T010000Z;BYMONTH=9;BYDAY=-1SU
END:STANDARD
BEGIN:DAYLIGHT
TZNAME:CEST
TZOFFSETFROM:+0100
TZOFFSETTO:+0200
DTSTART:19810329T020000
RRULE:FREQ=YEARLY;BYMONTH=3;BYDAY=-1SU
END:DAYLIGHT
BEGIN:STANDARD
TZNAME:CET
TZOFFSETFROM:+0200
TZOFFSETTO:+0100
DTSTART:19961027T030000
RRULE:FREQ=YEARLY;BYMONTH=10;BYDAY=-1SU
END:STANDARD
END:VTIMEZONE
BEGIN:VEVENT
DTSTAMP:20260424T135852Z
DTSTART;TZID=Europe/Berlin:20260204T194500
DTEND;TZID=Europe/Berlin:20260204T224500
SUMMARY:O40 3. Liga Gr. 2 Zürich-Affoltern II vs Dübendorf-Volketswil (0)
UID:7b29ab10-9340-4b0c-8ca3-38088408e105
STATUS:CONFIRMED
LAST-MODIFIED:20260206T141835Z
DESCRIPTION:3. Liga O40 Gruppe 2\nBegegnungs-Nr: 0\nHeim: Zürich-Affoltern II\nGast: Dübendorf-Volketswil\n\nAdresse: Fronwaldstr.115\, 8046 Zürich\n
LOCATION:Fronwaldstr.115\, 8046 Zürich
CATEGORIES:Saison 2025/26
END:VEVENT
BEGIN:VEVENT
DTSTAMP:20260424T135852Z
DTSTART;TZID=Europe/Berlin:20260318T194500
DTEND;TZID=Europe/Berlin:20260318T224500
SUMMARY:O40 3. Liga Gr. 2 Zürich-Affoltern II vs Pinguin Zürich II (0)
UID:24f4c542-5b53-41c0-9132-6712addc7e5b
STATUS:CONFIRMED
LAST-MODIFIED:20260320T141519Z
DESCRIPTION:3. Liga O40 Gruppe 2\nBegegnungs-Nr: 0\nHeim: Zürich-Affoltern II\nGast: Pinguin Zürich II\n\nAdresse: Fronwaldstr.115\, 8046 Zürich\n
LOCATION:Fronwaldstr.115\, 8046 Zürich
CATEGORIES:Saison 2025/26
END:VEVENT
BEGIN:VEVENT
DTSTAMP:20260424T135852Z
DTSTART;TZID=Europe/Berlin:20260408T194500
DTEND;TZID=Europe/Berlin:20260408T224500
SUMMARY:O40 3. Liga Gr. 2 Zürich-Affoltern II vs Wolfhausen (0)
UID:cc3a0d26-c99a-4d71-8fb7-089f35aae1d2
STATUS:CONFIRMED
LAST-MODIFIED:20260420T123949Z
DESCRIPTION:3. Liga O40 Gruppe 2\nBegegnungs-Nr: 0\nHeim: Zürich-Affoltern II\nGast: Wolfhausen\n\nAdresse: Fronwaldstr.115\, 8046 Zürich\n
LOCATION:Fronwaldstr.115\, 8046 Zürich
CATEGORIES:Saison 2025/26
END:VEVENT
BEGIN:VEVENT
DTSTAMP:20260424T135852Z
DTSTART;TZID=Europe/Berlin:20250910T194500
DTEND;TZID=Europe/Berlin:20250910T224500
SUMMARY:O40 3. Liga Gr. 2 Zürich-Affoltern II vs Winterthur II (0)
UID:63b7cc8c-e1ae-4bed-952b-fb89fe77d477
STATUS:CONFIRMED
LAST-MODIFIED:20250916T092054Z
DESCRIPTION:3. Liga O40 Gruppe 2\nBegegnungs-Nr: 0\nHeim: Zürich-Affoltern II\nGast: Winterthur II\n\nAdresse: Fronwaldstr.115\, 8046 Zürich\n
LOCATION:Fronwaldstr.115\, 8046 Zürich
CATEGORIES:Saison 2025/26
END:VEVENT
BEGIN:VEVENT
DTSTAMP:20260424T135852Z
DTSTART;TZID=Europe/Berlin:20251119T194500
DTEND;TZID=Europe/Berlin:20251119T224500
SUMMARY:O40 3. Liga Gr. 2 Zürich-Affoltern II vs Höngg (0)
UID:866e4a14-d00d-4fa4-a2ed-2ff0b89114a1
STATUS:CONFIRMED
LAST-MODIFIED:20251121T095133Z
DESCRIPTION:3. Liga O40 Gruppe 2\nBegegnungs-Nr: 0\nHeim: Zürich-Affoltern II\nGast: Höngg\n\nAdresse: Fronwaldstr.115\, 8046 Zürich\n
LOCATION:Fronwaldstr.115\, 8046 Zürich
CATEGORIES:Saison 2025/26
END:VEVENT
BEGIN:VEVENT
DTSTAMP:20260424T135852Z
DTSTART;TZID=Europe/Berlin:20251217T194500
DTEND;TZID=Europe/Berlin:20251217T224500
SUMMARY:O40 3. Liga Gr. 2 Zürich-Affoltern II vs Dübendorf-Volketswil II (0)
UID:778841b7-6c29-4b8b-ac41-ec532acd7e4a
STATUS:CONFIRMED
LAST-MODIFIED:20251218T091307Z
DESCRIPTION:3. Liga O40 Gruppe 2\nBegegnungs-Nr: 0\nHeim: Zürich-Affoltern II\nGast: Dübendorf-Volketswil II\n\nAdresse: Fronwaldstr.115\, 8046 Zürich\n
LOCATION:Fronwaldstr.115\, 8046 Zürich
CATEGORIES:Saison 2025/26
END:VEVENT
BEGIN:VEVENT
DTSTAMP:20260424T135852Z
DTSTART;TZID=Europe/Berlin:20260217T201500
DTEND;TZID=Europe/Berlin:20260217T231500
SUMMARY:O40 3. Liga Gr. 2 Dübendorf-Volketswil II vs Zürich-Affoltern II (0)
UID:ad84b6ff-bec9-4933-affa-8be42c077dcb
STATUS:CONFIRMED
LAST-MODIFIED:20260225T112238Z
DESCRIPTION:3. Liga O40 Gruppe 2\nBegegnungs-Nr: 0\nHeim: Dübendorf-Volketswil II\nGast: Zürich-Affoltern II\n\nAdresse: Dübendorfstrasse 46\, 8602 Wangen ZH\n
LOCATION:Dübendorfstrasse 46\, 8602 Wangen ZH
CATEGORIES:Saison 2025/26
END:VEVENT
BEGIN:VEVENT
DTSTAMP:20260424T135852Z
DTSTART;TZID=Europe/Berlin:20260227T201500
DTEND;TZID=Europe/Berlin:20260227T231500
SUMMARY:O40 3. Liga Gr. 2 Winterthur II vs Zürich-Affoltern II (0)
UID:be79f29e-ef90-41b6-9384-7d6d0bf90224
STATUS:CONFIRMED
LAST-MODIFIED:20260303T133534Z
DESCRIPTION:3. Liga O40 Gruppe 2\nBegegnungs-Nr: 0\nHeim: Winterthur II\nGast: Zürich-Affoltern II\n\nAdresse: Buchackerstrasse 54\, 8400 Winterthur\n
LOCATION:Buchackerstrasse 54\, 8400 Winterthur
CATEGORIES:Saison 2025/26
END:VEVENT
BEGIN:VEVENT
DTSTAMP:20260424T135852Z
DTSTART;TZID=Europe/Berlin:20260330T200000
DTEND;TZID=Europe/Berlin:20260330T230000
SUMMARY:O40 3. Liga Gr. 2 Höngg vs Zürich-Affoltern II (0)
UID:315e0b3a-5356-4161-9fb8-373a32afd1b1
STATUS:CONFIRMED
LAST-MODIFIED:20260401T133204Z
DESCRIPTION:3. Liga O40 Gruppe 2\nBegegnungs-Nr: 0\nHeim: Höngg\nGast: Zürich-Affoltern II\n\nAdresse: Bläsistrasse 2\, 8049 Zürich\n
LOCATION:Bläsistrasse 2\, 8049 Zürich
CATEGORIES:Saison 2025/26
END:VEVENT
BEGIN:VEVENT
DTSTAMP:20260424T135852Z
DTSTART;TZID=Europe/Berlin:20250819T201500
DTEND;TZID=Europe/Berlin:20250819T231500
SUMMARY:O40 3. Liga Gr. 2 Dübendorf-Volketswil vs Zürich-Affoltern II (0)
UID:9dc67e40-8132-4ae7-afb9-8ada8f9d988d
STATUS:CONFIRMED
LAST-MODIFIED:20250826T114236Z
DESCRIPTION:3. Liga O40 Gruppe 2\nBegegnungs-Nr: 0\nHeim: Dübendorf-Volketswil\nGast: Zürich-Affoltern II\n\nAdresse: Dübendorfstrasse 46\, 8602 Wangen ZH\n
LOCATION:Dübendorfstrasse 46\, 8602 Wangen ZH
CATEGORIES:Saison 2025/26
END:VEVENT
BEGIN:VEVENT
DTSTAMP:20260424T135852Z
DTSTART;TZID=Europe/Berlin:20251023T200000
DTEND;TZID=Europe/Berlin:20251023T230000
SUMMARY:O40 3. Liga Gr. 2 Pinguin Zürich II vs Zürich-Affoltern II (0)
UID:a81426c2-226c-40cb-8e66-1f0e2e96957b
STATUS:CONFIRMED
LAST-MODIFIED:20251031T144815Z
DESCRIPTION:3. Liga O40 Gruppe 2\nBegegnungs-Nr: 0\nHeim: Pinguin Zürich II\nGast: Zürich-Affoltern II\n\nAdresse: Grindelstrasse 20\, 8303 Bassersdorf\n
LOCATION:Grindelstrasse 20\, 8303 Bassersdorf
CATEGORIES:Saison 2025/26
END:VEVENT
BEGIN:VEVENT
DTSTAMP:20260424T135852Z
DTSTART;TZID=Europe/Berlin:20251124T200000
DTEND;TZID=Europe/Berlin:20251124T230000
SUMMARY:O40 3. Liga Gr. 2 Wolfhausen vs Zürich-Affoltern II (0)
UID:cbde8d5b-dd3a-4fd7-bacd-9543af1fd649
STATUS:CONFIRMED
LAST-MODIFIED:20251125T131428Z
DESCRIPTION:3. Liga O40 Gruppe 2\nBegegnungs-Nr: 0\nHeim: Wolfhausen\nGast: Zürich-Affoltern II\n\nAdresse: Schulstrasse 9\, 8633 Wolfhausen\n
LOCATION:Schulstrasse 9\, 8633 Wolfhausen
CATEGORIES:Saison 2025/26
END:VEVENT
END:VCALENDAR
