BEGIN:VCALENDAR
PRODID:-//nuDatenautomaten//framework iCal4j //DE
VERSION:2.0
CALSCALE:GREGORIAN
BEGIN:VTIMEZONE
TZID:Europe/Berlin
LAST-MODIFIED:20260306T231828Z
TZURL:https://www.tzurl.org/zoneinfo/Europe/Berlin
X-LIC-LOCATION:Europe/Berlin
X-PROLEPTIC-TZNAME:LMT
BEGIN:STANDARD
TZNAME:CET
TZOFFSETFROM:+005328
TZOFFSETTO:+0100
DTSTART:18930401T000000
END:STANDARD
BEGIN:DAYLIGHT
TZNAME:CEST
TZOFFSETFROM:+0100
TZOFFSETTO:+0200
DTSTART:19160430T230000
RDATE:19400401T020000
RDATE:19430329T020000
RDATE:19460414T020000
RDATE:19470406T030000
RDATE:19480418T020000
RDATE:19490410T020000
RDATE:19800406T020000
END:DAYLIGHT
BEGIN:STANDARD
TZNAME:CET
TZOFFSETFROM:+0200
TZOFFSETTO:+0100
DTSTART:19161001T010000
RDATE:19421102T030000
RDATE:19431004T030000
RDATE:19441002T030000
RDATE:19451118T030000
RDATE:19461007T030000
END:STANDARD
BEGIN:DAYLIGHT
TZNAME:CEST
TZOFFSETFROM:+0100
TZOFFSETTO:+0200
DTSTART:19170416T020000
RRULE:FREQ=YEARLY;UNTIL=19180415T010000Z;BYMONTH=4;BYDAY=3MO
END:DAYLIGHT
BEGIN:STANDARD
TZNAME:CET
TZOFFSETFROM:+0200
TZOFFSETTO:+0100
DTSTART:19170917T030000
RRULE:FREQ=YEARLY;UNTIL=19180916T010000Z;BYMONTH=9;BYDAY=3MO
END:STANDARD
BEGIN:DAYLIGHT
TZNAME:CEST
TZOFFSETFROM:+0100
TZOFFSETTO:+0200
DTSTART:19440403T020000
RRULE:FREQ=YEARLY;UNTIL=19450402T010000Z;BYMONTH=4;BYDAY=1MO
END:DAYLIGHT
BEGIN:DAYLIGHT
TZNAME:CEMT
TZOFFSETFROM:+0200
TZOFFSETTO:+0300
DTSTART:19450524T020000
RDATE:19470511T030000
END:DAYLIGHT
BEGIN:DAYLIGHT
TZNAME:CEST
TZOFFSETFROM:+0300
TZOFFSETTO:+0200
DTSTART:19450924T030000
RDATE:19470629T030000
END:DAYLIGHT
BEGIN:STANDARD
TZNAME:CET
TZOFFSETFROM:+0100
TZOFFSETTO:+0100
DTSTART:19460101T000000
RDATE:19800101T000000
END:STANDARD
BEGIN:STANDARD
TZNAME:CET
TZOFFSETFROM:+0200
TZOFFSETTO:+0100
DTSTART:19471005T030000
RRULE:FREQ=YEARLY;UNTIL=19491002T010000Z;BYMONTH=10;BYDAY=1SU
END:STANDARD
BEGIN:STANDARD
TZNAME:CET
TZOFFSETFROM:+0200
TZOFFSETTO:+0100
DTSTART:19800928T030000
RRULE:FREQ=YEARLY;UNTIL=19950924T010000Z;BYMONTH=9;BYDAY=-1SU
END:STANDARD
BEGIN:DAYLIGHT
TZNAME:CEST
TZOFFSETFROM:+0100
TZOFFSETTO:+0200
DTSTART:19810329T020000
RRULE:FREQ=YEARLY;BYMONTH=3;BYDAY=-1SU
END:DAYLIGHT
BEGIN:STANDARD
TZNAME:CET
TZOFFSETFROM:+0200
TZOFFSETTO:+0100
DTSTART:19961027T030000
RRULE:FREQ=YEARLY;BYMONTH=10;BYDAY=-1SU
END:STANDARD
END:VTIMEZONE
BEGIN:VEVENT
DTSTAMP:20260424T115238Z
DTSTART;TZID=Europe/Berlin:20251108T181500
DTEND;TZID=Europe/Berlin:20251108T211500
SUMMARY:HE NLC Gr. 2 La Chaux-de-Fonds vs UGS-Chênois III (20)
UID:8809e107-2e7e-487d-b29b-4be0623addbc
STATUS:CONFIRMED
LAST-MODIFIED:20251110T073042Z
DESCRIPTION:Herren Nationalliga C Gruppe 2\nBegegnungs-Nr: 20\nHeim: La Chaux-de-Fonds\nGast: UGS-Chênois III\n\nAdresse: Rue du Docteur-Kern 14\, 2300 La Chaux-de-Fonds\n
LOCATION:Rue du Docteur-Kern 14\, 2300 La Chaux-de-Fonds
CATEGORIES:Saison 2025/26
END:VEVENT
BEGIN:VEVENT
DTSTAMP:20260424T115238Z
DTSTART;TZID=Europe/Berlin:20250920T194500
DTEND;TZID=Europe/Berlin:20250920T224500
SUMMARY:HE NLC Gr. 2 La Chaux-de-Fonds vs Sierre (6)
UID:bfd89cd8-fcd5-4897-83a9-49fcc76e65a1
STATUS:CONFIRMED
LAST-MODIFIED:20250922T073403Z
DESCRIPTION:Herren Nationalliga C Gruppe 2\nBegegnungs-Nr: 6\nHeim: La Chaux-de-Fonds\nGast: Sierre\n\nAdresse: Rue du Docteur-Kern 14\, 2300 La Chaux-de-Fonds\n
LOCATION:Rue du Docteur-Kern 14\, 2300 La Chaux-de-Fonds
CATEGORIES:Saison 2025/26
END:VEVENT
BEGIN:VEVENT
DTSTAMP:20260424T115238Z
DTSTART;TZID=Europe/Berlin:20260110T184500
DTEND;TZID=Europe/Berlin:20260110T214500
SUMMARY:HE NLC Gr. 2 La Chaux-de-Fonds vs Port (3)
UID:1d56dba1-8fc8-44ca-a529-fed0a197b871
STATUS:CONFIRMED
LAST-MODIFIED:20260112T203230Z
DESCRIPTION:Herren Nationalliga C Gruppe 2\nBegegnungs-Nr: 3\nHeim: La Chaux-de-Fonds\nGast: Port\n\nAdresse: Rue du Docteur-Kern 14\, 2300 La Chaux-de-Fonds\n
LOCATION:Rue du Docteur-Kern 14\, 2300 La Chaux-de-Fonds
CATEGORIES:Saison 2025/26
END:VEVENT
BEGIN:VEVENT
DTSTAMP:20260424T115238Z
DTSTART;TZID=Europe/Berlin:20260221T191500
DTEND;TZID=Europe/Berlin:20260221T221500
SUMMARY:HE NLC Gr. 2 La Chaux-de-Fonds vs Fribourg (9)
UID:828f74ac-8017-413d-a289-ef746ed8a02f
STATUS:CONFIRMED
LAST-MODIFIED:20260223T153527Z
DESCRIPTION:Herren Nationalliga C Gruppe 2\nBegegnungs-Nr: 9\nHeim: La Chaux-de-Fonds\nGast: Fribourg\n\nAdresse: Rue du Docteur-Kern 14\, 2300 La Chaux-de-Fonds\n
LOCATION:Rue du Docteur-Kern 14\, 2300 La Chaux-de-Fonds
CATEGORIES:Saison 2025/26
END:VEVENT
BEGIN:VEVENT
DTSTAMP:20260424T115238Z
DTSTART;TZID=Europe/Berlin:20260418T200000
DTEND;TZID=Europe/Berlin:20260418T230000
SUMMARY:HE NLC Gr. 2 La Chaux-de-Fonds vs Ostermundigen II (23)
UID:d412f661-7f33-4001-a99d-95bea2978542
STATUS:CONFIRMED
LAST-MODIFIED:20260420T083049Z
DESCRIPTION:Herren Nationalliga C Gruppe 2\nBegegnungs-Nr: 23\nHeim: La Chaux-de-Fonds\nGast: Ostermundigen II\n\nAdresse: Rue du Docteur-Kern 14\, 2300 La Chaux-de-Fonds\n
LOCATION:Rue du Docteur-Kern 14\, 2300 La Chaux-de-Fonds
CATEGORIES:Saison 2025/26
END:VEVENT
BEGIN:VEVENT
DTSTAMP:20260424T115238Z
DTSTART;TZID=Europe/Berlin:20260228T191500
DTEND;TZID=Europe/Berlin:20260228T221500
SUMMARY:HE NLC Gr. 2 La Chaux-de-Fonds vs Rossens (15)
UID:b1d88d17-40c3-469c-9512-91c0213b4ed1
STATUS:CONFIRMED
LAST-MODIFIED:20260302T214847Z
DESCRIPTION:Herren Nationalliga C Gruppe 2\nBegegnungs-Nr: 15\nHeim: La Chaux-de-Fonds\nGast: Rossens\n\nAdresse: Rue du Docteur-Kern 14\, 2300 La Chaux-de-Fonds\n
LOCATION:Rue du Docteur-Kern 14\, 2300 La Chaux-de-Fonds
CATEGORIES:Saison 2025/26
END:VEVENT
BEGIN:VEVENT
DTSTAMP:20260424T115238Z
DTSTART;TZID=Europe/Berlin:20260419T200000
DTEND;TZID=Europe/Berlin:20260419T230000
SUMMARY:HE NLC Gr. 2 La Chaux-de-Fonds vs Burgdorf II (26)
UID:9034f4ad-bbb8-44c2-ac74-5b17d9b61e9a
STATUS:CONFIRMED
LAST-MODIFIED:20260420T083159Z
DESCRIPTION:Herren Nationalliga C Gruppe 2\nBegegnungs-Nr: 26\nHeim: La Chaux-de-Fonds\nGast: Burgdorf II\n\nAdresse: Rue du Docteur-Kern 14\, 2300 La Chaux-de-Fonds\n
LOCATION:Rue du Docteur-Kern 14\, 2300 La Chaux-de-Fonds
CATEGORIES:Saison 2025/26
END:VEVENT
BEGIN:VEVENT
DTSTAMP:20260424T115238Z
DTSTART;TZID=Europe/Berlin:20251206T140000
DTEND;TZID=Europe/Berlin:20251206T170000
SUMMARY:HE NLC Gr. 2 Burgdorf II vs La Chaux-de-Fonds (26)
UID:12f20c31-55fb-466d-849b-7fc4989e2285
STATUS:CONFIRMED
LAST-MODIFIED:20251209T094724Z
DESCRIPTION:Herren Nationalliga C Gruppe 2\nBegegnungs-Nr: 26\nHeim: Burgdorf II\nGast: La Chaux-de-Fonds\n\nAdresse: Pestalozzistrasse 69\, 3400 Burgdorf\n
LOCATION:Pestalozzistrasse 69\, 3400 Burgdorf
CATEGORIES:Saison 2025/26
END:VEVENT
BEGIN:VEVENT
DTSTAMP:20260424T115238Z
DTSTART;TZID=Europe/Berlin:20250913T140000
DTEND;TZID=Europe/Berlin:20250913T170000
SUMMARY:HE NLC Gr. 2 Port vs La Chaux-de-Fonds (3)
UID:bc05406b-8ace-4a74-96ff-ec182a8b134f
STATUS:CONFIRMED
LAST-MODIFIED:20250918T112317Z
DESCRIPTION:Herren Nationalliga C Gruppe 2\nBegegnungs-Nr: 3\nHeim: Port\nGast: La Chaux-de-Fonds\n
LOCATION:
CATEGORIES:Saison 2025/26
END:VEVENT
BEGIN:VEVENT
DTSTAMP:20260424T115238Z
DTSTART;TZID=Europe/Berlin:20251012T160000
DTEND;TZID=Europe/Berlin:20251012T190000
SUMMARY:HE NLC Gr. 2 Fribourg vs La Chaux-de-Fonds (9)
UID:1d84a8e2-9315-4d5e-aa1d-d3c76d3512d3
STATUS:CONFIRMED
LAST-MODIFIED:20251016T145435Z
DESCRIPTION:Herren Nationalliga C Gruppe 2\nBegegnungs-Nr: 9\nHeim: Fribourg\nGast: La Chaux-de-Fonds\n\nAdresse: Avenue Général Guisan 61\, 1700 Fribourg\n
LOCATION:Avenue Général Guisan 61\, 1700 Fribourg
CATEGORIES:Saison 2025/26
END:VEVENT
BEGIN:VEVENT
DTSTAMP:20260424T115238Z
DTSTART;TZID=Europe/Berlin:20251122T140000
DTEND;TZID=Europe/Berlin:20251122T170000
SUMMARY:HE NLC Gr. 2 Ostermundigen II vs La Chaux-de-Fonds (23)
UID:94766aeb-b448-4239-9223-677a20d30154
STATUS:CONFIRMED
LAST-MODIFIED:20251126T101422Z
DESCRIPTION:Herren Nationalliga C Gruppe 2\nBegegnungs-Nr: 23\nHeim: Ostermundigen II\nGast: La Chaux-de-Fonds\n\nAdresse: Dennigkofenweg 169\, 3072 Ostermundigen\n
LOCATION:Dennigkofenweg 169\, 3072 Ostermundigen
CATEGORIES:Saison 2025/26
END:VEVENT
BEGIN:VEVENT
DTSTAMP:20260424T115238Z
DTSTART;TZID=Europe/Berlin:20251025T150000
DTEND;TZID=Europe/Berlin:20251025T180000
SUMMARY:HE NLC Gr. 2 Rossens vs La Chaux-de-Fonds (15)
UID:a17e41c5-af94-4e82-ad01-77dc53c06000
STATUS:CONFIRMED
LAST-MODIFIED:20251029T082803Z
DESCRIPTION:Herren Nationalliga C Gruppe 2\nBegegnungs-Nr: 15\nHeim: Rossens\nGast: La Chaux-de-Fonds\n\nAdresse: Route du Jordil 14\, 1728 Rossens\n
LOCATION:Route du Jordil 14\, 1728 Rossens
CATEGORIES:Saison 2025/26
END:VEVENT
BEGIN:VEVENT
DTSTAMP:20260424T115238Z
DTSTART;TZID=Europe/Berlin:20260131T170000
DTEND;TZID=Europe/Berlin:20260131T200000
SUMMARY:HE NLC Gr. 2 Sierre vs La Chaux-de-Fonds (6)
UID:52bd6912-0ea7-401b-a27a-5b21b08fb4e2
STATUS:CONFIRMED
LAST-MODIFIED:20260203T081350Z
DESCRIPTION:Herren Nationalliga C Gruppe 2\nBegegnungs-Nr: 6\nHeim: Sierre\nGast: La Chaux-de-Fonds\n\nAdresse: Rte des Liddes 6\, 3960 Sierre\n
LOCATION:Rte des Liddes 6\, 3960 Sierre
CATEGORIES:Saison 2025/26
END:VEVENT
BEGIN:VEVENT
DTSTAMP:20260424T115238Z
DTSTART;TZID=Europe/Berlin:20260329T150000
DTEND;TZID=Europe/Berlin:20260329T180000
SUMMARY:HE NLC Gr. 2 UGS-Chênois III vs La Chaux-de-Fonds (20)
UID:25b48444-0c3d-4bd8-bf93-3300ea6d90a2
STATUS:CONFIRMED
LAST-MODIFIED:20260330T080043Z
DESCRIPTION:Herren Nationalliga C Gruppe 2\nBegegnungs-Nr: 20\nHeim: UGS-Chênois III\nGast: La Chaux-de-Fonds\n\nAdresse: Route de Frontenex 68\, 1208 Genève\n
LOCATION:Route de Frontenex 68\, 1208 Genève
CATEGORIES:Saison 2025/26
END:VEVENT
END:VCALENDAR
