BEGIN:VCALENDAR
PRODID:-//nuDatenautomaten//framework iCal4j //DE
VERSION:2.0
CALSCALE:GREGORIAN
BEGIN:VTIMEZONE
TZID:Europe/Berlin
LAST-MODIFIED:20260306T231828Z
TZURL:https://www.tzurl.org/zoneinfo/Europe/Berlin
X-LIC-LOCATION:Europe/Berlin
X-PROLEPTIC-TZNAME:LMT
BEGIN:STANDARD
TZNAME:CET
TZOFFSETFROM:+005328
TZOFFSETTO:+0100
DTSTART:18930401T000000
END:STANDARD
BEGIN:DAYLIGHT
TZNAME:CEST
TZOFFSETFROM:+0100
TZOFFSETTO:+0200
DTSTART:19160430T230000
RDATE:19400401T020000
RDATE:19430329T020000
RDATE:19460414T020000
RDATE:19470406T030000
RDATE:19480418T020000
RDATE:19490410T020000
RDATE:19800406T020000
END:DAYLIGHT
BEGIN:STANDARD
TZNAME:CET
TZOFFSETFROM:+0200
TZOFFSETTO:+0100
DTSTART:19161001T010000
RDATE:19421102T030000
RDATE:19431004T030000
RDATE:19441002T030000
RDATE:19451118T030000
RDATE:19461007T030000
END:STANDARD
BEGIN:DAYLIGHT
TZNAME:CEST
TZOFFSETFROM:+0100
TZOFFSETTO:+0200
DTSTART:19170416T020000
RRULE:FREQ=YEARLY;UNTIL=19180415T010000Z;BYMONTH=4;BYDAY=3MO
END:DAYLIGHT
BEGIN:STANDARD
TZNAME:CET
TZOFFSETFROM:+0200
TZOFFSETTO:+0100
DTSTART:19170917T030000
RRULE:FREQ=YEARLY;UNTIL=19180916T010000Z;BYMONTH=9;BYDAY=3MO
END:STANDARD
BEGIN:DAYLIGHT
TZNAME:CEST
TZOFFSETFROM:+0100
TZOFFSETTO:+0200
DTSTART:19440403T020000
RRULE:FREQ=YEARLY;UNTIL=19450402T010000Z;BYMONTH=4;BYDAY=1MO
END:DAYLIGHT
BEGIN:DAYLIGHT
TZNAME:CEMT
TZOFFSETFROM:+0200
TZOFFSETTO:+0300
DTSTART:19450524T020000
RDATE:19470511T030000
END:DAYLIGHT
BEGIN:DAYLIGHT
TZNAME:CEST
TZOFFSETFROM:+0300
TZOFFSETTO:+0200
DTSTART:19450924T030000
RDATE:19470629T030000
END:DAYLIGHT
BEGIN:STANDARD
TZNAME:CET
TZOFFSETFROM:+0100
TZOFFSETTO:+0100
DTSTART:19460101T000000
RDATE:19800101T000000
END:STANDARD
BEGIN:STANDARD
TZNAME:CET
TZOFFSETFROM:+0200
TZOFFSETTO:+0100
DTSTART:19471005T030000
RRULE:FREQ=YEARLY;UNTIL=19491002T010000Z;BYMONTH=10;BYDAY=1SU
END:STANDARD
BEGIN:STANDARD
TZNAME:CET
TZOFFSETFROM:+0200
TZOFFSETTO:+0100
DTSTART:19800928T030000
RRULE:FREQ=YEARLY;UNTIL=19950924T010000Z;BYMONTH=9;BYDAY=-1SU
END:STANDARD
BEGIN:DAYLIGHT
TZNAME:CEST
TZOFFSETFROM:+0100
TZOFFSETTO:+0200
DTSTART:19810329T020000
RRULE:FREQ=YEARLY;BYMONTH=3;BYDAY=-1SU
END:DAYLIGHT
BEGIN:STANDARD
TZNAME:CET
TZOFFSETFROM:+0200
TZOFFSETTO:+0100
DTSTART:19961027T030000
RRULE:FREQ=YEARLY;BYMONTH=10;BYDAY=-1SU
END:STANDARD
END:VTIMEZONE
BEGIN:VEVENT
DTSTAMP:20260424T045344Z
DTSTART;TZID=Europe/Berlin:20250822T201500
DTEND;TZID=Europe/Berlin:20250822T231500
SUMMARY:HE 5. Liga Gr. 3 Lenzburg III vs Birrfeld II (0)
UID:4589dcea-1476-47d4-ada0-257ad083e0fe
STATUS:CONFIRMED
LAST-MODIFIED:20250918T094730Z
DESCRIPTION:5. Liga Herren Gruppe 3\nBegegnungs-Nr: 0\nHeim: Lenzburg III\nGast: Birrfeld II\n\nAdresse: Turnerweg\, 5600 Lenzburg\n
LOCATION:Turnerweg\, 5600 Lenzburg
CATEGORIES:Saison 2025/26
END:VEVENT
BEGIN:VEVENT
DTSTAMP:20260424T045344Z
DTSTART;TZID=Europe/Berlin:20260116T201500
DTEND;TZID=Europe/Berlin:20260116T231500
SUMMARY:HE 5. Liga Gr. 3 Lenzburg III vs Zofingen IV (0)
UID:6871b433-c0cd-403a-ac50-f8e846924a76
STATUS:CONFIRMED
LAST-MODIFIED:20260123T081844Z
DESCRIPTION:5. Liga Herren Gruppe 3\nBegegnungs-Nr: 0\nHeim: Lenzburg III\nGast: Zofingen IV\n\nAdresse: Turnerweg\, 5600 Lenzburg\n
LOCATION:Turnerweg\, 5600 Lenzburg
CATEGORIES:Saison 2025/26
END:VEVENT
BEGIN:VEVENT
DTSTAMP:20260424T045344Z
DTSTART;TZID=Europe/Berlin:20260213T201500
DTEND;TZID=Europe/Berlin:20260213T231500
SUMMARY:HE 5. Liga Gr. 3 Lenzburg III vs BW Rupperswil III (0)
UID:89af75b9-0690-4c65-87ff-18b3231d99a8
STATUS:CONFIRMED
LAST-MODIFIED:20260218T071718Z
DESCRIPTION:5. Liga Herren Gruppe 3\nBegegnungs-Nr: 0\nHeim: Lenzburg III\nGast: BW Rupperswil III\n\nAdresse: Turnerweg\, 5600 Lenzburg\n
LOCATION:Turnerweg\, 5600 Lenzburg
CATEGORIES:Saison 2025/26
END:VEVENT
BEGIN:VEVENT
DTSTAMP:20260424T045344Z
DTSTART;TZID=Europe/Berlin:20260313T201500
DTEND;TZID=Europe/Berlin:20260313T231500
SUMMARY:HE 5. Liga Gr. 3 Lenzburg III vs Olten VI (0)
UID:a7d50c85-e799-42cb-8a11-39dcd0ba1334
STATUS:CONFIRMED
LAST-MODIFIED:20260318T110232Z
DESCRIPTION:5. Liga Herren Gruppe 3\nBegegnungs-Nr: 0\nHeim: Lenzburg III\nGast: Olten VI\n\nAdresse: Turnerweg\, 5600 Lenzburg\n
LOCATION:Turnerweg\, 5600 Lenzburg
CATEGORIES:Saison 2025/26
END:VEVENT
BEGIN:VEVENT
DTSTAMP:20260424T045344Z
DTSTART;TZID=Europe/Berlin:20260319T203000
DTEND;TZID=Europe/Berlin:20260319T233000
SUMMARY:HE 5. Liga Gr. 3 Lenzburg III vs Aarau IV (0)
UID:93f2138d-a9b9-47b5-be21-bef77d463d68
STATUS:CONFIRMED
LAST-MODIFIED:20260320T140630Z
DESCRIPTION:5. Liga Herren Gruppe 3\nBegegnungs-Nr: 0\nHeim: Lenzburg III\nGast: Aarau IV\n\nAdresse: Turnerweg\, 5600 Lenzburg\n
LOCATION:Turnerweg\, 5600 Lenzburg
CATEGORIES:Saison 2025/26
END:VEVENT
BEGIN:VEVENT
DTSTAMP:20260424T045344Z
DTSTART;TZID=Europe/Berlin:20251010T201500
DTEND;TZID=Europe/Berlin:20251010T231500
SUMMARY:HE 5. Liga Gr. 3 Lenzburg III vs Frick V (0)
UID:d4268b54-5255-4866-8e74-97ef1f4ec0de
STATUS:CONFIRMED
LAST-MODIFIED:20251016T145909Z
DESCRIPTION:5. Liga Herren Gruppe 3\nBegegnungs-Nr: 0\nHeim: Lenzburg III\nGast: Frick V\n\nAdresse: Turnerweg\, 5600 Lenzburg\n
LOCATION:Turnerweg\, 5600 Lenzburg
CATEGORIES:Saison 2025/26
END:VEVENT
BEGIN:VEVENT
DTSTAMP:20260424T045344Z
DTSTART;TZID=Europe/Berlin:20251031T201500
DTEND;TZID=Europe/Berlin:20251031T231500
SUMMARY:HE 5. Liga Gr. 3 Lenzburg III vs Döttingen V (0)
UID:884ea3a3-dd53-4e11-9a01-966fda391190
STATUS:CONFIRMED
LAST-MODIFIED:20251107T143407Z
DESCRIPTION:5. Liga Herren Gruppe 3\nBegegnungs-Nr: 0\nHeim: Lenzburg III\nGast: Döttingen V\n\nAdresse: Turnerweg\, 5600 Lenzburg\n
LOCATION:Turnerweg\, 5600 Lenzburg
CATEGORIES:Saison 2025/26
END:VEVENT
BEGIN:VEVENT
DTSTAMP:20260424T045344Z
DTSTART;TZID=Europe/Berlin:20260107T194500
DTEND;TZID=Europe/Berlin:20260107T224500
SUMMARY:HE 5. Liga Gr. 3 Birrfeld II vs Lenzburg III (0)
UID:fbe78e68-3589-4bfe-afa3-ab8f05f57a82
STATUS:CONFIRMED
LAST-MODIFIED:20260109T074410Z
DESCRIPTION:5. Liga Herren Gruppe 3\nBegegnungs-Nr: 0\nHeim: Birrfeld II\nGast: Lenzburg III\n\nAdresse: Zentralstrasse 30\, 5242 Birr\n
LOCATION:Zentralstrasse 30\, 5242 Birr
CATEGORIES:Saison 2025/26
END:VEVENT
BEGIN:VEVENT
DTSTAMP:20260424T045344Z
DTSTART;TZID=Europe/Berlin:20260126T200000
DTEND;TZID=Europe/Berlin:20260126T230000
SUMMARY:HE 5. Liga Gr. 3 Frick V vs Lenzburg III (0)
UID:612a8180-2e76-439f-b7fc-1231d8fe8011
STATUS:CONFIRMED
LAST-MODIFIED:20260130T133401Z
DESCRIPTION:5. Liga Herren Gruppe 3\nBegegnungs-Nr: 0\nHeim: Frick V\nGast: Lenzburg III\n\nAdresse: Schulstrasse 51\, 5070 Frick\n
LOCATION:Schulstrasse 51\, 5070 Frick
CATEGORIES:Saison 2025/26
END:VEVENT
BEGIN:VEVENT
DTSTAMP:20260424T045344Z
DTSTART;TZID=Europe/Berlin:20260305T201500
DTEND;TZID=Europe/Berlin:20260305T231500
SUMMARY:HE 5. Liga Gr. 3 Döttingen V vs Lenzburg III (0)
UID:afb33c70-8040-4f71-bc3d-499153fe9cb6
STATUS:CONFIRMED
LAST-MODIFIED:20260313T130622Z
DESCRIPTION:5. Liga Herren Gruppe 3\nBegegnungs-Nr: 0\nHeim: Döttingen V\nGast: Lenzburg III\n\nAdresse: Im Bogen\, Chilbert 25\, 5312 Döttingen\n
LOCATION:Im Bogen\, Chilbert 25\, 5312 Döttingen
CATEGORIES:Saison 2025/26
END:VEVENT
BEGIN:VEVENT
DTSTAMP:20260424T045344Z
DTSTART;TZID=Europe/Berlin:20250903T194500
DTEND;TZID=Europe/Berlin:20250903T224500
SUMMARY:HE 5. Liga Gr. 3 Zofingen IV vs Lenzburg III (0)
UID:3379ea9d-03fb-43d6-bb61-202a56327ce3
STATUS:CONFIRMED
LAST-MODIFIED:20250905T121757Z
DESCRIPTION:5. Liga Herren Gruppe 3\nBegegnungs-Nr: 0\nHeim: Zofingen IV\nGast: Lenzburg III\n\nAdresse: Kreuzplatz\, 4802 Strengelbach\n
LOCATION:Kreuzplatz\, 4802 Strengelbach
CATEGORIES:Saison 2025/26
END:VEVENT
BEGIN:VEVENT
DTSTAMP:20260424T045344Z
DTSTART;TZID=Europe/Berlin:20251008T200000
DTEND;TZID=Europe/Berlin:20251008T230000
SUMMARY:HE 5. Liga Gr. 3 BW Rupperswil III vs Lenzburg III (0)
UID:0ace6b01-71e1-4239-8b25-c749f8541fd9
STATUS:CONFIRMED
LAST-MODIFIED:20251009T194128Z
DESCRIPTION:5. Liga Herren Gruppe 3\nBegegnungs-Nr: 0\nHeim: BW Rupperswil III\nGast: Lenzburg III\n\nAdresse: -\, 5102 Rupperswil\n
LOCATION:-\, 5102 Rupperswil
CATEGORIES:Saison 2025/26
END:VEVENT
BEGIN:VEVENT
DTSTAMP:20260424T045344Z
DTSTART;TZID=Europe/Berlin:20251117T194500
DTEND;TZID=Europe/Berlin:20251117T224500
SUMMARY:HE 5. Liga Gr. 3 Olten VI vs Lenzburg III (0)
UID:308edc29-cf51-4c8f-9be0-5b48ce722667
STATUS:CONFIRMED
LAST-MODIFIED:20251120T083622Z
DESCRIPTION:5. Liga Herren Gruppe 3\nBegegnungs-Nr: 0\nHeim: Olten VI\nGast: Lenzburg III\n\nAdresse: Lostorferstrasse 16\, 4652 Winznau\n
LOCATION:Lostorferstrasse 16\, 4652 Winznau
CATEGORIES:Saison 2025/26
END:VEVENT
BEGIN:VEVENT
DTSTAMP:20260424T045344Z
DTSTART;TZID=Europe/Berlin:20251210T194500
DTEND;TZID=Europe/Berlin:20251210T224500
SUMMARY:HE 5. Liga Gr. 3 Aarau IV vs Lenzburg III (0)
UID:f312cfa6-ec1e-462b-9313-91ea8b504925
STATUS:CONFIRMED
LAST-MODIFIED:20251216T122232Z
DESCRIPTION:5. Liga Herren Gruppe 3\nBegegnungs-Nr: 0\nHeim: Aarau IV\nGast: Lenzburg III\n\nAdresse: Weltistrasse 20\, 5000 Aarau\n
LOCATION:Weltistrasse 20\, 5000 Aarau
CATEGORIES:Saison 2025/26
END:VEVENT
END:VCALENDAR
