BEGIN:VCALENDAR
PRODID:-//nuDatenautomaten//framework iCal4j //DE
VERSION:2.0
CALSCALE:GREGORIAN
BEGIN:VTIMEZONE
TZID:Europe/Berlin
LAST-MODIFIED:20260306T231828Z
TZURL:https://www.tzurl.org/zoneinfo/Europe/Berlin
X-LIC-LOCATION:Europe/Berlin
X-PROLEPTIC-TZNAME:LMT
BEGIN:STANDARD
TZNAME:CET
TZOFFSETFROM:+005328
TZOFFSETTO:+0100
DTSTART:18930401T000000
END:STANDARD
BEGIN:DAYLIGHT
TZNAME:CEST
TZOFFSETFROM:+0100
TZOFFSETTO:+0200
DTSTART:19160430T230000
RDATE:19400401T020000
RDATE:19430329T020000
RDATE:19460414T020000
RDATE:19470406T030000
RDATE:19480418T020000
RDATE:19490410T020000
RDATE:19800406T020000
END:DAYLIGHT
BEGIN:STANDARD
TZNAME:CET
TZOFFSETFROM:+0200
TZOFFSETTO:+0100
DTSTART:19161001T010000
RDATE:19421102T030000
RDATE:19431004T030000
RDATE:19441002T030000
RDATE:19451118T030000
RDATE:19461007T030000
END:STANDARD
BEGIN:DAYLIGHT
TZNAME:CEST
TZOFFSETFROM:+0100
TZOFFSETTO:+0200
DTSTART:19170416T020000
RRULE:FREQ=YEARLY;UNTIL=19180415T010000Z;BYMONTH=4;BYDAY=3MO
END:DAYLIGHT
BEGIN:STANDARD
TZNAME:CET
TZOFFSETFROM:+0200
TZOFFSETTO:+0100
DTSTART:19170917T030000
RRULE:FREQ=YEARLY;UNTIL=19180916T010000Z;BYMONTH=9;BYDAY=3MO
END:STANDARD
BEGIN:DAYLIGHT
TZNAME:CEST
TZOFFSETFROM:+0100
TZOFFSETTO:+0200
DTSTART:19440403T020000
RRULE:FREQ=YEARLY;UNTIL=19450402T010000Z;BYMONTH=4;BYDAY=1MO
END:DAYLIGHT
BEGIN:DAYLIGHT
TZNAME:CEMT
TZOFFSETFROM:+0200
TZOFFSETTO:+0300
DTSTART:19450524T020000
RDATE:19470511T030000
END:DAYLIGHT
BEGIN:DAYLIGHT
TZNAME:CEST
TZOFFSETFROM:+0300
TZOFFSETTO:+0200
DTSTART:19450924T030000
RDATE:19470629T030000
END:DAYLIGHT
BEGIN:STANDARD
TZNAME:CET
TZOFFSETFROM:+0100
TZOFFSETTO:+0100
DTSTART:19460101T000000
RDATE:19800101T000000
END:STANDARD
BEGIN:STANDARD
TZNAME:CET
TZOFFSETFROM:+0200
TZOFFSETTO:+0100
DTSTART:19471005T030000
RRULE:FREQ=YEARLY;UNTIL=19491002T010000Z;BYMONTH=10;BYDAY=1SU
END:STANDARD
BEGIN:STANDARD
TZNAME:CET
TZOFFSETFROM:+0200
TZOFFSETTO:+0100
DTSTART:19800928T030000
RRULE:FREQ=YEARLY;UNTIL=19950924T010000Z;BYMONTH=9;BYDAY=-1SU
END:STANDARD
BEGIN:DAYLIGHT
TZNAME:CEST
TZOFFSETFROM:+0100
TZOFFSETTO:+0200
DTSTART:19810329T020000
RRULE:FREQ=YEARLY;BYMONTH=3;BYDAY=-1SU
END:DAYLIGHT
BEGIN:STANDARD
TZNAME:CET
TZOFFSETFROM:+0200
TZOFFSETTO:+0100
DTSTART:19961027T030000
RRULE:FREQ=YEARLY;BYMONTH=10;BYDAY=-1SU
END:STANDARD
END:VTIMEZONE
BEGIN:VEVENT
DTSTAMP:20260424T103949Z
DTSTART;TZID=Europe/Berlin:20250830T130000
DTEND;TZID=Europe/Berlin:20250830T160000
SUMMARY:JUG\, 3.Li\, Gr.7\, VR Horgen II vs Wädenswil III (1)
UID:029a268d-f521-4312-813e-86ab08d93f6c
STATUS:CONFIRMED
LAST-MODIFIED:20250902T125140Z
DESCRIPTION:Jugend\, 3. Liga\, Gruppe 7\, Vorrunde\nBegegnungs-Nr: 1\nHeim: Horgen II\nGast: Wädenswil III\nHalle: Poule in Horgen\, Bildungszentrum 2. UG\nAdresse: Seestrasse 110\, 8810 Horgen\n
LOCATION:Poule in Horgen\, Bildungszentrum 2. UG Seestrasse 110\, 8810 Horgen
CATEGORIES:Saison 2025/26
END:VEVENT
BEGIN:VEVENT
DTSTAMP:20260424T103949Z
DTSTART;TZID=Europe/Berlin:20250830T162000
DTEND;TZID=Europe/Berlin:20250830T192000
SUMMARY:JUG\, 3.Li\, Gr.7\, VR Horgen II vs Meilen-Männedorf III (3)
UID:0b4fae8a-ab75-4173-8956-68bfab890df4
STATUS:CONFIRMED
LAST-MODIFIED:20250905T124817Z
DESCRIPTION:Jugend\, 3. Liga\, Gruppe 7\, Vorrunde\nBegegnungs-Nr: 3\nHeim: Horgen II\nGast: Meilen-Männedorf III\n\nAdresse: Seestrasse 110\, 8810 Horgen\n
LOCATION:Seestrasse 110\, 8810 Horgen
CATEGORIES:Saison 2025/26
END:VEVENT
BEGIN:VEVENT
DTSTAMP:20260424T103949Z
DTSTART;TZID=Europe/Berlin:20251115T130000
DTEND;TZID=Europe/Berlin:20251115T160000
SUMMARY:JUG\, 3.Li\, Gr.2\, ZR Horgen II vs Affoltern A/A III (1)
UID:85f18d8e-2363-4abb-b07d-e3edd13292bb
STATUS:CONFIRMED
LAST-MODIFIED:20251124T150641Z
DESCRIPTION:Jugend\, 3. Liga\, Gruppe 2\, Zwischenrunde\nBegegnungs-Nr: 1\nHeim: Horgen II\nGast: Affoltern A/A III\nHalle: Poule in Horgen\, Bildungszentrum 2. UG\nAdresse: Seestrasse 110\, 8810 Horgen\n
LOCATION:Poule in Horgen\, Bildungszentrum 2. UG Seestrasse 110\, 8810 Horgen
CATEGORIES:Saison 2025/26
END:VEVENT
BEGIN:VEVENT
DTSTAMP:20260424T103949Z
DTSTART;TZID=Europe/Berlin:20251115T143000
DTEND;TZID=Europe/Berlin:20251115T173000
SUMMARY:JUG\, 3.Li\, Gr.2\, ZR Horgen II vs Kloten III (4)
UID:37763e89-2210-4dbc-912e-0e1d7cb4ecbf
STATUS:CONFIRMED
LAST-MODIFIED:20251121T100020Z
DESCRIPTION:Jugend\, 3. Liga\, Gruppe 2\, Zwischenrunde\nBegegnungs-Nr: 4\nHeim: Horgen II\nGast: Kloten III\n\nAdresse: Seestrasse 110\, 8810 Horgen\n
LOCATION:Seestrasse 110\, 8810 Horgen
CATEGORIES:Saison 2025/26
END:VEVENT
BEGIN:VEVENT
DTSTAMP:20260424T103949Z
DTSTART;TZID=Europe/Berlin:20260328T143000
DTEND;TZID=Europe/Berlin:20260328T173000
SUMMARY:JUG\, 3.Li\, Gr.3\, Final Horgen II vs St. Gallen III (4)
UID:477b3c5b-38e3-40f7-ab1d-dec3652a5f1b
STATUS:CONFIRMED
LAST-MODIFIED:20260401T140057Z
DESCRIPTION:Jugend\, 3. Liga\, Gruppe 3\, Final\nBegegnungs-Nr: 4\nHeim: Horgen II\nGast: St. Gallen III\n\nAdresse: Seestrasse 110\, 8810 Horgen\n
LOCATION:Seestrasse 110\, 8810 Horgen
CATEGORIES:Saison 2025/26
END:VEVENT
BEGIN:VEVENT
DTSTAMP:20260424T103949Z
DTSTART;TZID=Europe/Berlin:20260328T130000
DTEND;TZID=Europe/Berlin:20260328T160000
SUMMARY:JUG\, 3.Li\, Gr.3\, Final Horgen II vs Thalwil (1)
UID:c59b2995-9ce1-48df-8bd5-67640009b7d8
STATUS:CONFIRMED
LAST-MODIFIED:20260401T135849Z
DESCRIPTION:Jugend\, 3. Liga\, Gruppe 3\, Final\nBegegnungs-Nr: 1\nHeim: Horgen II\nGast: Thalwil\nHalle: Poule in Horgen\, Bildungszentrum 2. UG\nAdresse: Seestrasse 110\, 8810 Horgen\n
LOCATION:Poule in Horgen\, Bildungszentrum 2. UG Seestrasse 110\, 8810 Horgen
CATEGORIES:Saison 2025/26
END:VEVENT
BEGIN:VEVENT
DTSTAMP:20260424T103949Z
DTSTART;TZID=Europe/Berlin:20251115T160000
DTEND;TZID=Europe/Berlin:20251115T190000
SUMMARY:JUG\, 3.Li\, Gr.2\, ZR Young Stars ZH III vs Horgen II (6)
UID:ba93e0cb-b8f1-4302-8ad7-17b51f9c26f9
STATUS:CONFIRMED
LAST-MODIFIED:20251124T150700Z
DESCRIPTION:Jugend\, 3. Liga\, Gruppe 2\, Zwischenrunde\nBegegnungs-Nr: 6\nHeim: Young Stars ZH III\nGast: Horgen II\n\nAdresse: Balgriststrasse 55\, 8008 Zürich\n
LOCATION:Balgriststrasse 55\, 8008 Zürich
CATEGORIES:Saison 2025/26
END:VEVENT
BEGIN:VEVENT
DTSTAMP:20260424T103949Z
DTSTART;TZID=Europe/Berlin:20260328T160000
DTEND;TZID=Europe/Berlin:20260328T190000
SUMMARY:JUG\, 3.Li\, Gr.3\, Final Zürich-Affoltern III vs Horgen II (6)
UID:557186bc-d1c9-4b9b-a795-3d6d61a2d0dc
STATUS:CONFIRMED
LAST-MODIFIED:20260401T140133Z
DESCRIPTION:Jugend\, 3. Liga\, Gruppe 3\, Final\nBegegnungs-Nr: 6\nHeim: Zürich-Affoltern III\nGast: Horgen II\n\nAdresse: Rümlangstr. 89\, 8052 Zürich\n
LOCATION:Rümlangstr. 89\, 8052 Zürich
CATEGORIES:Saison 2025/26
END:VEVENT
END:VCALENDAR
