BEGIN:VCALENDAR
PRODID:-//nuDatenautomaten//framework iCal4j //DE
VERSION:2.0
CALSCALE:GREGORIAN
BEGIN:VTIMEZONE
TZID:Europe/Berlin
LAST-MODIFIED:20260306T231828Z
TZURL:https://www.tzurl.org/zoneinfo/Europe/Berlin
X-LIC-LOCATION:Europe/Berlin
X-PROLEPTIC-TZNAME:LMT
BEGIN:STANDARD
TZNAME:CET
TZOFFSETFROM:+005328
TZOFFSETTO:+0100
DTSTART:18930401T000000
END:STANDARD
BEGIN:DAYLIGHT
TZNAME:CEST
TZOFFSETFROM:+0100
TZOFFSETTO:+0200
DTSTART:19160430T230000
RDATE:19400401T020000
RDATE:19430329T020000
RDATE:19460414T020000
RDATE:19470406T030000
RDATE:19480418T020000
RDATE:19490410T020000
RDATE:19800406T020000
END:DAYLIGHT
BEGIN:STANDARD
TZNAME:CET
TZOFFSETFROM:+0200
TZOFFSETTO:+0100
DTSTART:19161001T010000
RDATE:19421102T030000
RDATE:19431004T030000
RDATE:19441002T030000
RDATE:19451118T030000
RDATE:19461007T030000
END:STANDARD
BEGIN:DAYLIGHT
TZNAME:CEST
TZOFFSETFROM:+0100
TZOFFSETTO:+0200
DTSTART:19170416T020000
RRULE:FREQ=YEARLY;UNTIL=19180415T010000Z;BYMONTH=4;BYDAY=3MO
END:DAYLIGHT
BEGIN:STANDARD
TZNAME:CET
TZOFFSETFROM:+0200
TZOFFSETTO:+0100
DTSTART:19170917T030000
RRULE:FREQ=YEARLY;UNTIL=19180916T010000Z;BYMONTH=9;BYDAY=3MO
END:STANDARD
BEGIN:DAYLIGHT
TZNAME:CEST
TZOFFSETFROM:+0100
TZOFFSETTO:+0200
DTSTART:19440403T020000
RRULE:FREQ=YEARLY;UNTIL=19450402T010000Z;BYMONTH=4;BYDAY=1MO
END:DAYLIGHT
BEGIN:DAYLIGHT
TZNAME:CEMT
TZOFFSETFROM:+0200
TZOFFSETTO:+0300
DTSTART:19450524T020000
RDATE:19470511T030000
END:DAYLIGHT
BEGIN:DAYLIGHT
TZNAME:CEST
TZOFFSETFROM:+0300
TZOFFSETTO:+0200
DTSTART:19450924T030000
RDATE:19470629T030000
END:DAYLIGHT
BEGIN:STANDARD
TZNAME:CET
TZOFFSETFROM:+0100
TZOFFSETTO:+0100
DTSTART:19460101T000000
RDATE:19800101T000000
END:STANDARD
BEGIN:STANDARD
TZNAME:CET
TZOFFSETFROM:+0200
TZOFFSETTO:+0100
DTSTART:19471005T030000
RRULE:FREQ=YEARLY;UNTIL=19491002T010000Z;BYMONTH=10;BYDAY=1SU
END:STANDARD
BEGIN:STANDARD
TZNAME:CET
TZOFFSETFROM:+0200
TZOFFSETTO:+0100
DTSTART:19800928T030000
RRULE:FREQ=YEARLY;UNTIL=19950924T010000Z;BYMONTH=9;BYDAY=-1SU
END:STANDARD
BEGIN:DAYLIGHT
TZNAME:CEST
TZOFFSETFROM:+0100
TZOFFSETTO:+0200
DTSTART:19810329T020000
RRULE:FREQ=YEARLY;BYMONTH=3;BYDAY=-1SU
END:DAYLIGHT
BEGIN:STANDARD
TZNAME:CET
TZOFFSETFROM:+0200
TZOFFSETTO:+0100
DTSTART:19961027T030000
RRULE:FREQ=YEARLY;BYMONTH=10;BYDAY=-1SU
END:STANDARD
END:VTIMEZONE
BEGIN:VEVENT
DTSTAMP:20260424T115147Z
DTSTART;TZID=Europe/Berlin:20250827T194500
DTEND;TZID=Europe/Berlin:20250827T224500
SUMMARY:HE 3. Liga Gr. 4 Solothurn IV vs Aarberg IV (1)
UID:0cbf65df-9eb8-4813-ab94-c3abf7bf2c0c
STATUS:CONFIRMED
LAST-MODIFIED:20250828T192450Z
DESCRIPTION:3. Liga Herren Gruppe 4\nBegegnungs-Nr: 1\nHeim: Solothurn IV\nGast: Aarberg IV\n\nAdresse: Untere Sternengasse 24\, 4500 Solothurn\n
LOCATION:Untere Sternengasse 24\, 4500 Solothurn
CATEGORIES:Saison 2025/26
END:VEVENT
BEGIN:VEVENT
DTSTAMP:20260424T115147Z
DTSTART;TZID=Europe/Berlin:20250903T194500
DTEND;TZID=Europe/Berlin:20250903T224500
SUMMARY:HE 3. Liga Gr. 4 Solothurn IV vs Lyss II (9)
UID:dc63f2df-6136-46a5-b1fb-ff820100511c
STATUS:CONFIRMED
LAST-MODIFIED:20250907T200639Z
DESCRIPTION:3. Liga Herren Gruppe 4\nBegegnungs-Nr: 9\nHeim: Solothurn IV\nGast: Lyss II\n\nAdresse: Untere Sternengasse 24\, 4500 Solothurn\n
LOCATION:Untere Sternengasse 24\, 4500 Solothurn
CATEGORIES:Saison 2025/26
END:VEVENT
BEGIN:VEVENT
DTSTAMP:20260424T115147Z
DTSTART;TZID=Europe/Berlin:20260318T194500
DTEND;TZID=Europe/Berlin:20260318T224500
SUMMARY:HE 3. Liga Gr. 4 Solothurn IV vs Erlach (21)
UID:38ea0970-561f-4b55-b20e-994348a2d354
STATUS:CONFIRMED
LAST-MODIFIED:20260327T143515Z
DESCRIPTION:3. Liga Herren Gruppe 4\nBegegnungs-Nr: 21\nHeim: Solothurn IV\nGast: Erlach\n\nAdresse: Untere Sternengasse 24\, 4500 Solothurn\n
LOCATION:Untere Sternengasse 24\, 4500 Solothurn
CATEGORIES:Saison 2025/26
END:VEVENT
BEGIN:VEVENT
DTSTAMP:20260424T115147Z
DTSTART;TZID=Europe/Berlin:20260304T194500
DTEND;TZID=Europe/Berlin:20260304T224500
SUMMARY:HE 3. Liga Gr. 4 Solothurn IV vs Pieterlen (17)
UID:f0ff3e65-7ff2-4228-89b4-68749c393a04
STATUS:CONFIRMED
LAST-MODIFIED:20260308T173954Z
DESCRIPTION:3. Liga Herren Gruppe 4\nBegegnungs-Nr: 17\nHeim: Solothurn IV\nGast: Pieterlen\n\nAdresse: Untere Sternengasse 24\, 4500 Solothurn\n
LOCATION:Untere Sternengasse 24\, 4500 Solothurn
CATEGORIES:Saison 2025/26
END:VEVENT
BEGIN:VEVENT
DTSTAMP:20260424T115147Z
DTSTART;TZID=Europe/Berlin:20260225T194500
DTEND;TZID=Europe/Berlin:20260225T224500
SUMMARY:HE 3. Liga Gr. 4 Solothurn IV vs Port V (13)
UID:242b649f-f73f-4b53-813a-403498b69865
STATUS:CONFIRMED
LAST-MODIFIED:20260302T144526Z
DESCRIPTION:3. Liga Herren Gruppe 4\nBegegnungs-Nr: 13\nHeim: Solothurn IV\nGast: Port V\n\nAdresse: Untere Sternengasse 24\, 4500 Solothurn\n
LOCATION:Untere Sternengasse 24\, 4500 Solothurn
CATEGORIES:Saison 2025/26
END:VEVENT
BEGIN:VEVENT
DTSTAMP:20260424T115147Z
DTSTART;TZID=Europe/Berlin:20260123T200000
DTEND;TZID=Europe/Berlin:20260123T230000
SUMMARY:HE 3. Liga Gr. 4 Solothurn IV vs Herzogenbuchsee II (5)
UID:35fe61e2-9599-4efe-96c1-8a42a02f4e2c
STATUS:CONFIRMED
LAST-MODIFIED:20260125T001413Z
DESCRIPTION:3. Liga Herren Gruppe 4\nBegegnungs-Nr: 5\nHeim: Solothurn IV\nGast: Herzogenbuchsee II\n\nAdresse: Untere Sternengasse 24\, 4500 Solothurn\n
LOCATION:Untere Sternengasse 24\, 4500 Solothurn
CATEGORIES:Saison 2025/26
END:VEVENT
BEGIN:VEVENT
DTSTAMP:20260424T115147Z
DTSTART;TZID=Europe/Berlin:20251210T194500
DTEND;TZID=Europe/Berlin:20251210T224500
SUMMARY:HE 3. Liga Gr. 4 Solothurn IV vs Brügg (25)
UID:6ca161e5-d814-4e36-85d9-90881eab5832
STATUS:CONFIRMED
LAST-MODIFIED:20251216T120454Z
DESCRIPTION:3. Liga Herren Gruppe 4\nBegegnungs-Nr: 25\nHeim: Solothurn IV\nGast: Brügg\n\nAdresse: Untere Sternengasse 24\, 4500 Solothurn\n
LOCATION:Untere Sternengasse 24\, 4500 Solothurn
CATEGORIES:Saison 2025/26
END:VEVENT
BEGIN:VEVENT
DTSTAMP:20260424T115147Z
DTSTART;TZID=Europe/Berlin:20251120T193000
DTEND;TZID=Europe/Berlin:20251120T223000
SUMMARY:HE 3. Liga Gr. 4 Pieterlen vs Solothurn IV (17)
UID:9c75b1a2-23f9-4978-99ce-0c586899e79a
STATUS:CONFIRMED
LAST-MODIFIED:20251122T090905Z
DESCRIPTION:3. Liga Herren Gruppe 4\nBegegnungs-Nr: 17\nHeim: Pieterlen\nGast: Solothurn IV\n\nAdresse: Bielstrasse 9\, 2542 Pieterlen\n
LOCATION:Bielstrasse 9\, 2542 Pieterlen
CATEGORIES:Saison 2025/26
END:VEVENT
BEGIN:VEVENT
DTSTAMP:20260424T115147Z
DTSTART;TZID=Europe/Berlin:20251125T194500
DTEND;TZID=Europe/Berlin:20251125T224500
SUMMARY:HE 3. Liga Gr. 4 Port V vs Solothurn IV (13)
UID:b6983e3d-9a23-45a5-8510-45871728a39e
STATUS:CONFIRMED
LAST-MODIFIED:20251206T233831Z
DESCRIPTION:3. Liga Herren Gruppe 4\nBegegnungs-Nr: 13\nHeim: Port V\nGast: Solothurn IV\n\nAdresse: Allmendstrasse 23\, 2562 Port\n
LOCATION:Allmendstrasse 23\, 2562 Port
CATEGORIES:Saison 2025/26
END:VEVENT
BEGIN:VEVENT
DTSTAMP:20260424T115147Z
DTSTART;TZID=Europe/Berlin:20251003T200000
DTEND;TZID=Europe/Berlin:20251003T230000
SUMMARY:HE 3. Liga Gr. 4 Herzogenbuchsee II vs Solothurn IV (5)
UID:46699a82-4399-44ac-852c-baded349bc4c
STATUS:CONFIRMED
LAST-MODIFIED:20251004T193242Z
DESCRIPTION:3. Liga Herren Gruppe 4\nBegegnungs-Nr: 5\nHeim: Herzogenbuchsee II\nGast: Solothurn IV\n\nAdresse: Ringstrasse 10\, 3360 Herzogenbuchsee\n
LOCATION:Ringstrasse 10\, 3360 Herzogenbuchsee
CATEGORIES:Saison 2025/26
END:VEVENT
BEGIN:VEVENT
DTSTAMP:20260424T115147Z
DTSTART;TZID=Europe/Berlin:20260401T200000
DTEND;TZID=Europe/Berlin:20260401T230000
SUMMARY:HE 3. Liga Gr. 4 Brügg vs Solothurn IV (25)
UID:cc9b5e25-e8ca-45fb-84e1-b460c3224d0e
STATUS:CONFIRMED
LAST-MODIFIED:20260409T122456Z
DESCRIPTION:3. Liga Herren Gruppe 4\nBegegnungs-Nr: 25\nHeim: Brügg\nGast: Solothurn IV\n\nAdresse: Bärletweg 7\, 2555 Brügg\n
LOCATION:Bärletweg 7\, 2555 Brügg
CATEGORIES:Saison 2025/26
END:VEVENT
BEGIN:VEVENT
DTSTAMP:20260424T115147Z
DTSTART;TZID=Europe/Berlin:20260114T201500
DTEND;TZID=Europe/Berlin:20260114T231500
SUMMARY:HE 3. Liga Gr. 4 Aarberg IV vs Solothurn IV (1)
UID:ac6431cd-a595-4fbc-86cf-e2a2b91074ce
STATUS:CONFIRMED
LAST-MODIFIED:20260125T001312Z
DESCRIPTION:3. Liga Herren Gruppe 4\nBegegnungs-Nr: 1\nHeim: Aarberg IV\nGast: Solothurn IV\n\nAdresse: Nidaustrasse 7\, 3270 Aarberg\n
LOCATION:Nidaustrasse 7\, 3270 Aarberg
CATEGORIES:Saison 2025/26
END:VEVENT
BEGIN:VEVENT
DTSTAMP:20260424T115147Z
DTSTART;TZID=Europe/Berlin:20260203T200000
DTEND;TZID=Europe/Berlin:20260203T230000
SUMMARY:HE 3. Liga Gr. 4 Lyss II vs Solothurn IV (9)
UID:0bc1ef4e-1212-47f8-99c7-f38e35d58659
STATUS:CONFIRMED
LAST-MODIFIED:20260217T212959Z
DESCRIPTION:3. Liga Herren Gruppe 4\nBegegnungs-Nr: 9\nHeim: Lyss II\nGast: Solothurn IV\n\nAdresse: Stegmattweg 15-17\, 3250 Lyss\n
LOCATION:Stegmattweg 15-17\, 3250 Lyss
CATEGORIES:Saison 2025/26
END:VEVENT
BEGIN:VEVENT
DTSTAMP:20260424T115147Z
DTSTART;TZID=Europe/Berlin:20251117T200000
DTEND;TZID=Europe/Berlin:20251117T230000
SUMMARY:HE 3. Liga Gr. 4 Erlach vs Solothurn IV (21)
UID:a42f191a-e1ad-410c-b87b-a96cea97306c
STATUS:CONFIRMED
LAST-MODIFIED:20251122T090857Z
DESCRIPTION:3. Liga Herren Gruppe 4\nBegegnungs-Nr: 21\nHeim: Erlach\nGast: Solothurn IV\n\nAdresse: Vinelzstrasse 54 (24)\, 3235 Erlach\n
LOCATION:Vinelzstrasse 54 (24)\, 3235 Erlach
CATEGORIES:Saison 2025/26
END:VEVENT
END:VCALENDAR
