BEGIN:VCALENDAR
PRODID:-//nuDatenautomaten//framework iCal4j //DE
VERSION:2.0
CALSCALE:GREGORIAN
BEGIN:VTIMEZONE
TZID:Europe/Berlin
LAST-MODIFIED:20260306T231828Z
TZURL:https://www.tzurl.org/zoneinfo/Europe/Berlin
X-LIC-LOCATION:Europe/Berlin
X-PROLEPTIC-TZNAME:LMT
BEGIN:STANDARD
TZNAME:CET
TZOFFSETFROM:+005328
TZOFFSETTO:+0100
DTSTART:18930401T000000
END:STANDARD
BEGIN:DAYLIGHT
TZNAME:CEST
TZOFFSETFROM:+0100
TZOFFSETTO:+0200
DTSTART:19160430T230000
RDATE:19400401T020000
RDATE:19430329T020000
RDATE:19460414T020000
RDATE:19470406T030000
RDATE:19480418T020000
RDATE:19490410T020000
RDATE:19800406T020000
END:DAYLIGHT
BEGIN:STANDARD
TZNAME:CET
TZOFFSETFROM:+0200
TZOFFSETTO:+0100
DTSTART:19161001T010000
RDATE:19421102T030000
RDATE:19431004T030000
RDATE:19441002T030000
RDATE:19451118T030000
RDATE:19461007T030000
END:STANDARD
BEGIN:DAYLIGHT
TZNAME:CEST
TZOFFSETFROM:+0100
TZOFFSETTO:+0200
DTSTART:19170416T020000
RRULE:FREQ=YEARLY;UNTIL=19180415T010000Z;BYMONTH=4;BYDAY=3MO
END:DAYLIGHT
BEGIN:STANDARD
TZNAME:CET
TZOFFSETFROM:+0200
TZOFFSETTO:+0100
DTSTART:19170917T030000
RRULE:FREQ=YEARLY;UNTIL=19180916T010000Z;BYMONTH=9;BYDAY=3MO
END:STANDARD
BEGIN:DAYLIGHT
TZNAME:CEST
TZOFFSETFROM:+0100
TZOFFSETTO:+0200
DTSTART:19440403T020000
RRULE:FREQ=YEARLY;UNTIL=19450402T010000Z;BYMONTH=4;BYDAY=1MO
END:DAYLIGHT
BEGIN:DAYLIGHT
TZNAME:CEMT
TZOFFSETFROM:+0200
TZOFFSETTO:+0300
DTSTART:19450524T020000
RDATE:19470511T030000
END:DAYLIGHT
BEGIN:DAYLIGHT
TZNAME:CEST
TZOFFSETFROM:+0300
TZOFFSETTO:+0200
DTSTART:19450924T030000
RDATE:19470629T030000
END:DAYLIGHT
BEGIN:STANDARD
TZNAME:CET
TZOFFSETFROM:+0100
TZOFFSETTO:+0100
DTSTART:19460101T000000
RDATE:19800101T000000
END:STANDARD
BEGIN:STANDARD
TZNAME:CET
TZOFFSETFROM:+0200
TZOFFSETTO:+0100
DTSTART:19471005T030000
RRULE:FREQ=YEARLY;UNTIL=19491002T010000Z;BYMONTH=10;BYDAY=1SU
END:STANDARD
BEGIN:STANDARD
TZNAME:CET
TZOFFSETFROM:+0200
TZOFFSETTO:+0100
DTSTART:19800928T030000
RRULE:FREQ=YEARLY;UNTIL=19950924T010000Z;BYMONTH=9;BYDAY=-1SU
END:STANDARD
BEGIN:DAYLIGHT
TZNAME:CEST
TZOFFSETFROM:+0100
TZOFFSETTO:+0200
DTSTART:19810329T020000
RRULE:FREQ=YEARLY;BYMONTH=3;BYDAY=-1SU
END:DAYLIGHT
BEGIN:STANDARD
TZNAME:CET
TZOFFSETFROM:+0200
TZOFFSETTO:+0100
DTSTART:19961027T030000
RRULE:FREQ=YEARLY;BYMONTH=10;BYDAY=-1SU
END:STANDARD
END:VTIMEZONE
BEGIN:VEVENT
DTSTAMP:20260424T150340Z
DTSTART;TZID=Europe/Berlin:20251110T200000
DTEND;TZID=Europe/Berlin:20251110T230000
SUMMARY:Ligue 1 Ph.A Carouge III vs Châtelaine (32)
UID:838397d2-ff1e-4e12-a941-fb5e4ddc0cc2
STATUS:CONFIRMED
LAST-MODIFIED:20251111T081934Z
DESCRIPTION:1ère ligue Homme Gr. unique Phase A\nBegegnungs-Nr: 32\nHeim: Carouge III\nGast: Châtelaine\n
LOCATION:
CATEGORIES:Saison 2025/26
END:VEVENT
BEGIN:VEVENT
DTSTAMP:20260424T150340Z
DTSTART;TZID=Europe/Berlin:20250901T200000
DTEND;TZID=Europe/Berlin:20250901T230000
SUMMARY:Ligue 1 Ph.A Carouge III vs UGS-Chênois IV (2)
UID:48db59b7-9906-412a-a4d6-439bb8e9a556
STATUS:CONFIRMED
LAST-MODIFIED:20250902T073039Z
DESCRIPTION:1ère ligue Homme Gr. unique Phase A\nBegegnungs-Nr: 2\nHeim: Carouge III\nGast: UGS-Chênois IV\n
LOCATION:
CATEGORIES:Saison 2025/26
END:VEVENT
BEGIN:VEVENT
DTSTAMP:20260424T150340Z
DTSTART;TZID=Europe/Berlin:20251013T200000
DTEND;TZID=Europe/Berlin:20251013T230000
SUMMARY:Ligue 1 Ph.A Carouge III vs Châtelaine II (22)
UID:6698ec33-70d8-4671-a4bb-7ecbdf59ec34
STATUS:CONFIRMED
LAST-MODIFIED:20251014T080452Z
DESCRIPTION:1ère ligue Homme Gr. unique Phase A\nBegegnungs-Nr: 22\nHeim: Carouge III\nGast: Châtelaine II\n
LOCATION:
CATEGORIES:Saison 2025/26
END:VEVENT
BEGIN:VEVENT
DTSTAMP:20260424T150340Z
DTSTART;TZID=Europe/Berlin:20251006T200000
DTEND;TZID=Europe/Berlin:20251006T230000
SUMMARY:Ligue 1 Ph.A Carouge III vs ZZ-Lancy IV (17)
UID:a10965b2-8fe6-4967-92ba-2f14ec57cdc2
STATUS:CONFIRMED
LAST-MODIFIED:20251007T071145Z
DESCRIPTION:1ère ligue Homme Gr. unique Phase A\nBegegnungs-Nr: 17\nHeim: Carouge III\nGast: ZZ-Lancy IV\n\nAdresse: Route de Veyrier 44\, 1227 Carouge GE\n
LOCATION:Route de Veyrier 44\, 1227 Carouge GE
CATEGORIES:Saison 2025/26
END:VEVENT
BEGIN:VEVENT
DTSTAMP:20260424T150340Z
DTSTART;TZID=Europe/Berlin:20250922T200000
DTEND;TZID=Europe/Berlin:20250922T230000
SUMMARY:Ligue 1 Ph.A Carouge III vs Mandement III (12)
UID:ebab30fe-227f-4700-94ff-4c7c4f29c7c5
STATUS:CONFIRMED
LAST-MODIFIED:20250923T071306Z
DESCRIPTION:1ère ligue Homme Gr. unique Phase A\nBegegnungs-Nr: 12\nHeim: Carouge III\nGast: Mandement III\n
LOCATION:
CATEGORIES:Saison 2025/26
END:VEVENT
BEGIN:VEVENT
DTSTAMP:20260424T150340Z
DTSTART;TZID=Europe/Berlin:20260126T200000
DTEND;TZID=Europe/Berlin:20260126T230000
SUMMARY:Ligue 1 Ph.B Carouge III vs Bernex III (11)
UID:b5604fa7-638e-4552-aa15-9eeac0e36e33
STATUS:CONFIRMED
LAST-MODIFIED:20260127T084855Z
DESCRIPTION:1ère ligue Homme Gr. unique Phase B\nBegegnungs-Nr: 11\nHeim: Carouge III\nGast: Bernex III\n
LOCATION:
CATEGORIES:Saison 2025/26
END:VEVENT
BEGIN:VEVENT
DTSTAMP:20260424T150340Z
DTSTART;TZID=Europe/Berlin:20260216T200000
DTEND;TZID=Europe/Berlin:20260216T230000
SUMMARY:Ligue 1 Ph.B Carouge III vs Versoix II (21)
UID:ed025014-0be9-40a9-b569-54e33af76298
STATUS:CONFIRMED
LAST-MODIFIED:20260217T124127Z
DESCRIPTION:1ère ligue Homme Gr. unique Phase B\nBegegnungs-Nr: 21\nHeim: Carouge III\nGast: Versoix II\n\nAdresse: Route de Veyrier 44\, 1227 Carouge GE\n
LOCATION:Route de Veyrier 44\, 1227 Carouge GE
CATEGORIES:Saison 2025/26
END:VEVENT
BEGIN:VEVENT
DTSTAMP:20260424T150340Z
DTSTART;TZID=Europe/Berlin:20260316T200000
DTEND;TZID=Europe/Berlin:20260316T230000
SUMMARY:Ligue 1 Ph.B Carouge III vs ZZ-Lancy III (31)
UID:d195c425-0191-479b-9f9e-51961a0c2aa8
STATUS:CONFIRMED
LAST-MODIFIED:20260317T210431Z
DESCRIPTION:1ère ligue Homme Gr. unique Phase B\nBegegnungs-Nr: 31\nHeim: Carouge III\nGast: ZZ-Lancy III\n
LOCATION:
CATEGORIES:Saison 2025/26
END:VEVENT
BEGIN:VEVENT
DTSTAMP:20260424T150340Z
DTSTART;TZID=Europe/Berlin:20260112T200000
DTEND;TZID=Europe/Berlin:20260112T230000
SUMMARY:Ligue 1 Ph.B Carouge III vs Mandement II (1)
UID:b6e43314-2de1-46f4-99f1-34c2f17dda87
STATUS:CONFIRMED
LAST-MODIFIED:20260113T081538Z
DESCRIPTION:1ère ligue Homme Gr. unique Phase B\nBegegnungs-Nr: 1\nHeim: Carouge III\nGast: Mandement II\n
LOCATION:
CATEGORIES:Saison 2025/26
END:VEVENT
BEGIN:VEVENT
DTSTAMP:20260424T150340Z
DTSTART;TZID=Europe/Berlin:20260209T200000
DTEND;TZID=Europe/Berlin:20260209T230000
SUMMARY:Ligue 1 Ph.B Carouge III vs UGS-Chênois IV (16)
UID:b46f8fe3-60c1-4bf7-b21b-195a576365d7
STATUS:CONFIRMED
LAST-MODIFIED:20260210T081930Z
DESCRIPTION:1ère ligue Homme Gr. unique Phase B\nBegegnungs-Nr: 16\nHeim: Carouge III\nGast: UGS-Chênois IV\n\nAdresse: Route de Veyrier 44\, 1227 Carouge GE\n
LOCATION:Route de Veyrier 44\, 1227 Carouge GE
CATEGORIES:Saison 2025/26
END:VEVENT
BEGIN:VEVENT
DTSTAMP:20260424T150340Z
DTSTART;TZID=Europe/Berlin:20251117T194500
DTEND;TZID=Europe/Berlin:20251117T224500
SUMMARY:Ligue 1 Ph.A Mandement II vs Carouge III (37)
UID:c1193ca9-d5c2-46b5-bcf9-c514e007fb40
STATUS:CONFIRMED
LAST-MODIFIED:20251118T080643Z
DESCRIPTION:1ère ligue Homme Gr. unique Phase A\nBegegnungs-Nr: 37\nHeim: Mandement II\nGast: Carouge III\n
LOCATION:
CATEGORIES:Saison 2025/26
END:VEVENT
BEGIN:VEVENT
DTSTAMP:20260424T150340Z
DTSTART;TZID=Europe/Berlin:20251027T200000
DTEND;TZID=Europe/Berlin:20251027T230000
SUMMARY:Ligue 1 Ph.A ZZ-Lancy III vs Carouge III (27)
UID:7afeb9be-0358-41cc-b20c-e45814077e87
STATUS:CONFIRMED
LAST-MODIFIED:20251028T092827Z
DESCRIPTION:1ère ligue Homme Gr. unique Phase A\nBegegnungs-Nr: 27\nHeim: ZZ-Lancy III\nGast: Carouge III\n
LOCATION:
CATEGORIES:Saison 2025/26
END:VEVENT
BEGIN:VEVENT
DTSTAMP:20260424T150340Z
DTSTART;TZID=Europe/Berlin:20250915T194500
DTEND;TZID=Europe/Berlin:20250915T224500
SUMMARY:Ligue 1 Ph.A Silver Star II vs Carouge III (7)
UID:22232254-70da-412d-b4b7-5c0b1c4297e3
STATUS:CONFIRMED
LAST-MODIFIED:20250916T071405Z
DESCRIPTION:1ère ligue Homme Gr. unique Phase A\nBegegnungs-Nr: 7\nHeim: Silver Star II\nGast: Carouge III\n
LOCATION:
CATEGORIES:Saison 2025/26
END:VEVENT
BEGIN:VEVENT
DTSTAMP:20260424T150340Z
DTSTART;TZID=Europe/Berlin:20251124T194500
DTEND;TZID=Europe/Berlin:20251124T224500
SUMMARY:Ligue 1 Ph.A Versoix II vs Carouge III (41)
UID:aadf58d7-7078-47bc-bded-2e91484c5493
STATUS:CONFIRMED
LAST-MODIFIED:20251125T074841Z
DESCRIPTION:1ère ligue Homme Gr. unique Phase A\nBegegnungs-Nr: 41\nHeim: Versoix II\nGast: Carouge III\n
LOCATION:
CATEGORIES:Saison 2025/26
END:VEVENT
BEGIN:VEVENT
DTSTAMP:20260424T150340Z
DTSTART;TZID=Europe/Berlin:20260330T200000
DTEND;TZID=Europe/Berlin:20260330T230000
SUMMARY:Ligue 1 Ph.B ZZ-Lancy IV vs Carouge III (41)
UID:4eb7b621-3842-49c0-9838-5abee21293e8
STATUS:CONFIRMED
LAST-MODIFIED:20260331T071555Z
DESCRIPTION:1ère ligue Homme Gr. unique Phase B\nBegegnungs-Nr: 41\nHeim: ZZ-Lancy IV\nGast: Carouge III\n\nAdresse: Avenue du Curé-Baud 40\, 1212 Grand-Lancy\n
LOCATION:Avenue du Curé-Baud 40\, 1212 Grand-Lancy
CATEGORIES:Saison 2025/26
END:VEVENT
BEGIN:VEVENT
DTSTAMP:20260424T150340Z
DTSTART;TZID=Europe/Berlin:20260323T200000
DTEND;TZID=Europe/Berlin:20260323T230000
SUMMARY:Ligue 1 Ph.B Châtelaine vs Carouge III (36)
UID:9ec7c4dc-1a76-4922-8d5c-03a874e5984b
STATUS:CONFIRMED
LAST-MODIFIED:20260324T072535Z
DESCRIPTION:1ère ligue Homme Gr. unique Phase B\nBegegnungs-Nr: 36\nHeim: Châtelaine\nGast: Carouge III\n
LOCATION:
CATEGORIES:Saison 2025/26
END:VEVENT
BEGIN:VEVENT
DTSTAMP:20260424T150340Z
DTSTART;TZID=Europe/Berlin:20260309T194500
DTEND;TZID=Europe/Berlin:20260309T224500
SUMMARY:Ligue 1 Ph.B Silver Star II vs Carouge III (26)
UID:c9dac525-494b-4bd9-84ab-e97224a7f5e4
STATUS:CONFIRMED
LAST-MODIFIED:20260314T113745Z
DESCRIPTION:1ère ligue Homme Gr. unique Phase B\nBegegnungs-Nr: 26\nHeim: Silver Star II\nGast: Carouge III\n
LOCATION:
CATEGORIES:Saison 2025/26
END:VEVENT
BEGIN:VEVENT
DTSTAMP:20260424T150340Z
DTSTART;TZID=Europe/Berlin:20260119T194500
DTEND;TZID=Europe/Berlin:20260119T224500
SUMMARY:Ligue 1 Ph.B Bernex II vs Carouge III (6)
UID:d655707f-2e0e-4ccb-8218-b3463dd3360e
STATUS:CONFIRMED
LAST-MODIFIED:20260120T120418Z
DESCRIPTION:1ère ligue Homme Gr. unique Phase B\nBegegnungs-Nr: 6\nHeim: Bernex II\nGast: Carouge III\n\nAdresse: Chemin de Saule 120\, 1233 Bernex\n
LOCATION:Chemin de Saule 120\, 1233 Bernex
CATEGORIES:Saison 2025/26
END:VEVENT
END:VCALENDAR
