BEGIN:VCALENDAR
PRODID:-//nuDatenautomaten//framework iCal4j //DE
VERSION:2.0
CALSCALE:GREGORIAN
BEGIN:VTIMEZONE
TZID:Europe/Berlin
LAST-MODIFIED:20260306T231828Z
TZURL:https://www.tzurl.org/zoneinfo/Europe/Berlin
X-LIC-LOCATION:Europe/Berlin
X-PROLEPTIC-TZNAME:LMT
BEGIN:STANDARD
TZNAME:CET
TZOFFSETFROM:+005328
TZOFFSETTO:+0100
DTSTART:18930401T000000
END:STANDARD
BEGIN:DAYLIGHT
TZNAME:CEST
TZOFFSETFROM:+0100
TZOFFSETTO:+0200
DTSTART:19160430T230000
RDATE:19400401T020000
RDATE:19430329T020000
RDATE:19460414T020000
RDATE:19470406T030000
RDATE:19480418T020000
RDATE:19490410T020000
RDATE:19800406T020000
END:DAYLIGHT
BEGIN:STANDARD
TZNAME:CET
TZOFFSETFROM:+0200
TZOFFSETTO:+0100
DTSTART:19161001T010000
RDATE:19421102T030000
RDATE:19431004T030000
RDATE:19441002T030000
RDATE:19451118T030000
RDATE:19461007T030000
END:STANDARD
BEGIN:DAYLIGHT
TZNAME:CEST
TZOFFSETFROM:+0100
TZOFFSETTO:+0200
DTSTART:19170416T020000
RRULE:FREQ=YEARLY;UNTIL=19180415T010000Z;BYMONTH=4;BYDAY=3MO
END:DAYLIGHT
BEGIN:STANDARD
TZNAME:CET
TZOFFSETFROM:+0200
TZOFFSETTO:+0100
DTSTART:19170917T030000
RRULE:FREQ=YEARLY;UNTIL=19180916T010000Z;BYMONTH=9;BYDAY=3MO
END:STANDARD
BEGIN:DAYLIGHT
TZNAME:CEST
TZOFFSETFROM:+0100
TZOFFSETTO:+0200
DTSTART:19440403T020000
RRULE:FREQ=YEARLY;UNTIL=19450402T010000Z;BYMONTH=4;BYDAY=1MO
END:DAYLIGHT
BEGIN:DAYLIGHT
TZNAME:CEMT
TZOFFSETFROM:+0200
TZOFFSETTO:+0300
DTSTART:19450524T020000
RDATE:19470511T030000
END:DAYLIGHT
BEGIN:DAYLIGHT
TZNAME:CEST
TZOFFSETFROM:+0300
TZOFFSETTO:+0200
DTSTART:19450924T030000
RDATE:19470629T030000
END:DAYLIGHT
BEGIN:STANDARD
TZNAME:CET
TZOFFSETFROM:+0100
TZOFFSETTO:+0100
DTSTART:19460101T000000
RDATE:19800101T000000
END:STANDARD
BEGIN:STANDARD
TZNAME:CET
TZOFFSETFROM:+0200
TZOFFSETTO:+0100
DTSTART:19471005T030000
RRULE:FREQ=YEARLY;UNTIL=19491002T010000Z;BYMONTH=10;BYDAY=1SU
END:STANDARD
BEGIN:STANDARD
TZNAME:CET
TZOFFSETFROM:+0200
TZOFFSETTO:+0100
DTSTART:19800928T030000
RRULE:FREQ=YEARLY;UNTIL=19950924T010000Z;BYMONTH=9;BYDAY=-1SU
END:STANDARD
BEGIN:DAYLIGHT
TZNAME:CEST
TZOFFSETFROM:+0100
TZOFFSETTO:+0200
DTSTART:19810329T020000
RRULE:FREQ=YEARLY;BYMONTH=3;BYDAY=-1SU
END:DAYLIGHT
BEGIN:STANDARD
TZNAME:CET
TZOFFSETFROM:+0200
TZOFFSETTO:+0100
DTSTART:19961027T030000
RRULE:FREQ=YEARLY;BYMONTH=10;BYDAY=-1SU
END:STANDARD
END:VTIMEZONE
BEGIN:VEVENT
DTSTAMP:20260424T115146Z
DTSTART;TZID=Europe/Berlin:20251127T194500
DTEND;TZID=Europe/Berlin:20251127T224500
SUMMARY:Ligue 4 Gr.4 Ph.A Versoix IV vs UGS-Chênois VIII (25)
UID:03fc5897-e217-4e18-86c1-902161f6f41f
STATUS:CONFIRMED
LAST-MODIFIED:20251128T083339Z
DESCRIPTION:4ème ligue Hommes Gr.4 Phase A\nBegegnungs-Nr: 25\nHeim: Versoix IV\nGast: UGS-Chênois VIII\n
LOCATION:
CATEGORIES:Saison 2025/26
END:VEVENT
BEGIN:VEVENT
DTSTAMP:20260424T115146Z
DTSTART;TZID=Europe/Berlin:20251030T194500
DTEND;TZID=Europe/Berlin:20251030T224500
SUMMARY:Ligue 4 Gr.4 Ph.A Versoix IV vs Meyrin IV (18)
UID:4114d63d-0a6e-4ded-b2ff-c3c4a4894dbb
STATUS:CONFIRMED
LAST-MODIFIED:20251031T080154Z
DESCRIPTION:4ème ligue Hommes Gr.4 Phase A\nBegegnungs-Nr: 18\nHeim: Versoix IV\nGast: Meyrin IV\n
LOCATION:
CATEGORIES:Saison 2025/26
END:VEVENT
BEGIN:VEVENT
DTSTAMP:20260424T115146Z
DTSTART;TZID=Europe/Berlin:20251016T194500
DTEND;TZID=Europe/Berlin:20251016T224500
SUMMARY:Ligue 4 Gr.4 Ph.A Versoix IV vs Silver Star VIII (14)
UID:e0222102-cba4-45b2-a114-7e5746fd8a9f
STATUS:CONFIRMED
LAST-MODIFIED:20251017T064807Z
DESCRIPTION:4ème ligue Hommes Gr.4 Phase A\nBegegnungs-Nr: 14\nHeim: Versoix IV\nGast: Silver Star VIII\n\nAdresse: Chemin Ami-Argand 40\, 1290 Versoix\n
LOCATION:Chemin Ami-Argand 40\, 1290 Versoix
CATEGORIES:Saison 2025/26
END:VEVENT
BEGIN:VEVENT
DTSTAMP:20260424T115146Z
DTSTART;TZID=Europe/Berlin:20250925T194500
DTEND;TZID=Europe/Berlin:20250925T224500
SUMMARY:Ligue 4 Gr.4 Ph.A Versoix IV vs Collex-Bossy (8)
UID:7a0a40ca-0c3b-4ff0-92bb-876c88fb8f7f
STATUS:CONFIRMED
LAST-MODIFIED:20250926T074921Z
DESCRIPTION:4ème ligue Hommes Gr.4 Phase A\nBegegnungs-Nr: 8\nHeim: Versoix IV\nGast: Collex-Bossy\n
LOCATION:
CATEGORIES:Saison 2025/26
END:VEVENT
BEGIN:VEVENT
DTSTAMP:20260424T115146Z
DTSTART;TZID=Europe/Berlin:20250918T194500
DTEND;TZID=Europe/Berlin:20250918T224500
SUMMARY:Ligue 4 Gr.4 Ph.A Versoix IV vs Grand-Saconnex III (4)
UID:f24853fe-04d4-423d-be7f-222468efc396
STATUS:CONFIRMED
LAST-MODIFIED:20250919T200510Z
DESCRIPTION:4ème ligue Hommes Gr.4 Phase A\nBegegnungs-Nr: 4\nHeim: Versoix IV\nGast: Grand-Saconnex III\n
LOCATION:
CATEGORIES:Saison 2025/26
END:VEVENT
BEGIN:VEVENT
DTSTAMP:20260424T115146Z
DTSTART;TZID=Europe/Berlin:20260122T194500
DTEND;TZID=Europe/Berlin:20260122T224500
SUMMARY:Ligue 4 Gr.4 Ph.B Versoix IV vs Silver Star VI (6)
UID:dc780184-b963-42ba-8c67-12680ba9710a
STATUS:CONFIRMED
LAST-MODIFIED:20260123T083544Z
DESCRIPTION:4ème ligue Hommes Gr.4 Phase B\nBegegnungs-Nr: 6\nHeim: Versoix IV\nGast: Silver Star VI\n
LOCATION:
CATEGORIES:Saison 2025/26
END:VEVENT
BEGIN:VEVENT
DTSTAMP:20260424T115146Z
DTSTART;TZID=Europe/Berlin:20260430T194500
DTEND;TZID=Europe/Berlin:20260430T224500
SUMMARY:Ligue 4 Gr.4 Ph.B Versoix IV vs Mandement VI (30)
UID:cf20a117-edd5-4f65-bb47-24226ae1fb4f
STATUS:CONFIRMED
DESCRIPTION:4ème ligue Hommes Gr.4 Phase B\nBegegnungs-Nr: 30\nHeim: Versoix IV\nGast: Mandement VI\n
LOCATION:
CATEGORIES:Saison 2025/26
END:VEVENT
BEGIN:VEVENT
DTSTAMP:20260424T115146Z
DTSTART;TZID=Europe/Berlin:20260402T194500
DTEND;TZID=Europe/Berlin:20260402T224500
SUMMARY:Ligue 4 Gr.4 Ph.B Versoix IV vs Bernex V (27)
UID:74cb8d05-31c3-43f6-b098-66f5d503d250
STATUS:CONFIRMED
LAST-MODIFIED:20260403T075219Z
DESCRIPTION:4ème ligue Hommes Gr.4 Phase B\nBegegnungs-Nr: 27\nHeim: Versoix IV\nGast: Bernex V\n
LOCATION:
CATEGORIES:Saison 2025/26
END:VEVENT
BEGIN:VEVENT
DTSTAMP:20260424T115146Z
DTSTART;TZID=Europe/Berlin:20260312T194500
DTEND;TZID=Europe/Berlin:20260312T224500
SUMMARY:Ligue 4 Gr.4 Ph.B Versoix IV vs ZZ-Lancy IX (18)
UID:2649f1aa-8f1d-417f-aa80-cc4347c23a0d
STATUS:CONFIRMED
LAST-MODIFIED:20260313T073212Z
DESCRIPTION:4ème ligue Hommes Gr.4 Phase B\nBegegnungs-Nr: 18\nHeim: Versoix IV\nGast: ZZ-Lancy IX\n
LOCATION:
CATEGORIES:Saison 2025/26
END:VEVENT
BEGIN:VEVENT
DTSTAMP:20260424T115146Z
DTSTART;TZID=Europe/Berlin:20260129T194500
DTEND;TZID=Europe/Berlin:20260129T224500
SUMMARY:Ligue 4 Gr.4 Ph.B Versoix IV vs Grand-Saconnex II (9)
UID:8e7e757d-6160-4ed3-9650-03b78681716c
STATUS:CONFIRMED
LAST-MODIFIED:20260130T084854Z
DESCRIPTION:4ème ligue Hommes Gr.4 Phase B\nBegegnungs-Nr: 9\nHeim: Versoix IV\nGast: Grand-Saconnex II\n
LOCATION:
CATEGORIES:Saison 2025/26
END:VEVENT
BEGIN:VEVENT
DTSTAMP:20260424T115146Z
DTSTART;TZID=Europe/Berlin:20251117T194500
DTEND;TZID=Europe/Berlin:20251117T224500
SUMMARY:Ligue 4 Gr.4 Ph.A Collex-Bossy vs Versoix IV (23)
UID:ff3c1777-21ca-4a32-b6bc-3594835205d5
STATUS:CONFIRMED
LAST-MODIFIED:20251118T192911Z
DESCRIPTION:4ème ligue Hommes Gr.4 Phase A\nBegegnungs-Nr: 23\nHeim: Collex-Bossy\nGast: Versoix IV\n
LOCATION:
CATEGORIES:Saison 2025/26
END:VEVENT
BEGIN:VEVENT
DTSTAMP:20260424T115146Z
DTSTART;TZID=Europe/Berlin:20251113T194500
DTEND;TZID=Europe/Berlin:20251113T224500
SUMMARY:Ligue 4 Gr.4 Ph.A Grand-Saconnex III vs Versoix IV (19)
UID:f814e180-436e-48b9-b416-bbe48012cbcd
STATUS:CONFIRMED
LAST-MODIFIED:20251114T082244Z
DESCRIPTION:4ème ligue Hommes Gr.4 Phase A\nBegegnungs-Nr: 19\nHeim: Grand-Saconnex III\nGast: Versoix IV\n
LOCATION:
CATEGORIES:Saison 2025/26
END:VEVENT
BEGIN:VEVENT
DTSTAMP:20260424T115146Z
DTSTART;TZID=Europe/Berlin:20251002T194500
DTEND;TZID=Europe/Berlin:20251002T224500
SUMMARY:Ligue 4 Gr.4 Ph.A UGS-Chênois VIII vs Versoix IV (10)
UID:3aaf5640-bf18-428f-98f0-7ae4c865f19e
STATUS:CONFIRMED
LAST-MODIFIED:20251003T061845Z
DESCRIPTION:4ème ligue Hommes Gr.4 Phase A\nBegegnungs-Nr: 10\nHeim: UGS-Chênois VIII\nGast: Versoix IV\n
LOCATION:
CATEGORIES:Saison 2025/26
END:VEVENT
BEGIN:VEVENT
DTSTAMP:20260424T115146Z
DTSTART;TZID=Europe/Berlin:20250904T194500
DTEND;TZID=Europe/Berlin:20250904T224500
SUMMARY:Ligue 4 Gr.4 Ph.A Meyrin IV vs Versoix IV (3)
UID:7f77c634-b3b1-453d-ba8b-b63effe082b4
STATUS:CONFIRMED
LAST-MODIFIED:20250904T213118Z
DESCRIPTION:4ème ligue Hommes Gr.4 Phase A\nBegegnungs-Nr: 3\nHeim: Meyrin IV\nGast: Versoix IV\n
LOCATION:
CATEGORIES:Saison 2025/26
END:VEVENT
BEGIN:VEVENT
DTSTAMP:20260424T115146Z
DTSTART;TZID=Europe/Berlin:20251204T194500
DTEND;TZID=Europe/Berlin:20251204T224500
SUMMARY:Ligue 4 Gr.4 Ph.A Silver Star VIII vs Versoix IV (29)
UID:15787b17-773a-4a79-a63d-6df69e7ceaad
STATUS:CONFIRMED
LAST-MODIFIED:20251205T082542Z
DESCRIPTION:4ème ligue Hommes Gr.4 Phase A\nBegegnungs-Nr: 29\nHeim: Silver Star VIII\nGast: Versoix IV\n\nAdresse: Rue de Vermont 33\, 1202 Genève\n
LOCATION:Rue de Vermont 33\, 1202 Genève
CATEGORIES:Saison 2025/26
END:VEVENT
BEGIN:VEVENT
DTSTAMP:20260424T115146Z
DTSTART;TZID=Europe/Berlin:20260115T200000
DTEND;TZID=Europe/Berlin:20260115T230000
SUMMARY:Ligue 4 Gr.4 Ph.B ZZ-Lancy IX vs Versoix IV (3)
UID:d64a5896-61fc-4134-901d-7ad46c32bce1
STATUS:CONFIRMED
LAST-MODIFIED:20260116T095747Z
DESCRIPTION:4ème ligue Hommes Gr.4 Phase B\nBegegnungs-Nr: 3\nHeim: ZZ-Lancy IX\nGast: Versoix IV\n
LOCATION:
CATEGORIES:Saison 2025/26
END:VEVENT
BEGIN:VEVENT
DTSTAMP:20260424T115146Z
DTSTART;TZID=Europe/Berlin:20260326T194500
DTEND;TZID=Europe/Berlin:20260326T224500
SUMMARY:Ligue 4 Gr.4 Ph.B Grand-Saconnex II vs Versoix IV (24)
UID:e82b53a7-4a29-4623-9e29-f30603930c87
STATUS:CONFIRMED
LAST-MODIFIED:20260328T071440Z
DESCRIPTION:4ème ligue Hommes Gr.4 Phase B\nBegegnungs-Nr: 24\nHeim: Grand-Saconnex II\nGast: Versoix IV\n
LOCATION:
CATEGORIES:Saison 2025/26
END:VEVENT
BEGIN:VEVENT
DTSTAMP:20260424T115146Z
DTSTART;TZID=Europe/Berlin:20260319T194500
DTEND;TZID=Europe/Berlin:20260319T224500
SUMMARY:Ligue 4 Gr.4 Ph.B Silver Star VI vs Versoix IV (21)
UID:f1cf87da-558a-4aca-90f0-5996451bba83
STATUS:CONFIRMED
LAST-MODIFIED:20260320T081906Z
DESCRIPTION:4ème ligue Hommes Gr.4 Phase B\nBegegnungs-Nr: 21\nHeim: Silver Star VI\nGast: Versoix IV\n
LOCATION:
CATEGORIES:Saison 2025/26
END:VEVENT
BEGIN:VEVENT
DTSTAMP:20260424T115146Z
DTSTART;TZID=Europe/Berlin:20260217T194500
DTEND;TZID=Europe/Berlin:20260217T224500
SUMMARY:Ligue 4 Gr.4 Ph.B Mandement VI vs Versoix IV (15)
UID:9b8f8203-7a9c-4407-9160-cc4c5f5f2635
STATUS:CONFIRMED
LAST-MODIFIED:20260218T134531Z
DESCRIPTION:4ème ligue Hommes Gr.4 Phase B\nBegegnungs-Nr: 15\nHeim: Mandement VI\nGast: Versoix IV\n
LOCATION:
CATEGORIES:Saison 2025/26
END:VEVENT
BEGIN:VEVENT
DTSTAMP:20260424T115146Z
DTSTART;TZID=Europe/Berlin:20260212T194500
DTEND;TZID=Europe/Berlin:20260212T224500
SUMMARY:Ligue 4 Gr.4 Ph.B Bernex V vs Versoix IV (12)
UID:24d0f4e8-174a-46c6-8310-80219a8c1ea3
STATUS:CONFIRMED
LAST-MODIFIED:20260213T083336Z
DESCRIPTION:4ème ligue Hommes Gr.4 Phase B\nBegegnungs-Nr: 12\nHeim: Bernex V\nGast: Versoix IV\n
LOCATION:
CATEGORIES:Saison 2025/26
END:VEVENT
END:VCALENDAR
