BEGIN:VCALENDAR
PRODID:-//nuDatenautomaten//framework iCal4j //DE
VERSION:2.0
CALSCALE:GREGORIAN
BEGIN:VTIMEZONE
TZID:Europe/Berlin
LAST-MODIFIED:20260306T231828Z
TZURL:https://www.tzurl.org/zoneinfo/Europe/Berlin
X-LIC-LOCATION:Europe/Berlin
X-PROLEPTIC-TZNAME:LMT
BEGIN:STANDARD
TZNAME:CET
TZOFFSETFROM:+005328
TZOFFSETTO:+0100
DTSTART:18930401T000000
END:STANDARD
BEGIN:DAYLIGHT
TZNAME:CEST
TZOFFSETFROM:+0100
TZOFFSETTO:+0200
DTSTART:19160430T230000
RDATE:19400401T020000
RDATE:19430329T020000
RDATE:19460414T020000
RDATE:19470406T030000
RDATE:19480418T020000
RDATE:19490410T020000
RDATE:19800406T020000
END:DAYLIGHT
BEGIN:STANDARD
TZNAME:CET
TZOFFSETFROM:+0200
TZOFFSETTO:+0100
DTSTART:19161001T010000
RDATE:19421102T030000
RDATE:19431004T030000
RDATE:19441002T030000
RDATE:19451118T030000
RDATE:19461007T030000
END:STANDARD
BEGIN:DAYLIGHT
TZNAME:CEST
TZOFFSETFROM:+0100
TZOFFSETTO:+0200
DTSTART:19170416T020000
RRULE:FREQ=YEARLY;UNTIL=19180415T010000Z;BYMONTH=4;BYDAY=3MO
END:DAYLIGHT
BEGIN:STANDARD
TZNAME:CET
TZOFFSETFROM:+0200
TZOFFSETTO:+0100
DTSTART:19170917T030000
RRULE:FREQ=YEARLY;UNTIL=19180916T010000Z;BYMONTH=9;BYDAY=3MO
END:STANDARD
BEGIN:DAYLIGHT
TZNAME:CEST
TZOFFSETFROM:+0100
TZOFFSETTO:+0200
DTSTART:19440403T020000
RRULE:FREQ=YEARLY;UNTIL=19450402T010000Z;BYMONTH=4;BYDAY=1MO
END:DAYLIGHT
BEGIN:DAYLIGHT
TZNAME:CEMT
TZOFFSETFROM:+0200
TZOFFSETTO:+0300
DTSTART:19450524T020000
RDATE:19470511T030000
END:DAYLIGHT
BEGIN:DAYLIGHT
TZNAME:CEST
TZOFFSETFROM:+0300
TZOFFSETTO:+0200
DTSTART:19450924T030000
RDATE:19470629T030000
END:DAYLIGHT
BEGIN:STANDARD
TZNAME:CET
TZOFFSETFROM:+0100
TZOFFSETTO:+0100
DTSTART:19460101T000000
RDATE:19800101T000000
END:STANDARD
BEGIN:STANDARD
TZNAME:CET
TZOFFSETFROM:+0200
TZOFFSETTO:+0100
DTSTART:19471005T030000
RRULE:FREQ=YEARLY;UNTIL=19491002T010000Z;BYMONTH=10;BYDAY=1SU
END:STANDARD
BEGIN:STANDARD
TZNAME:CET
TZOFFSETFROM:+0200
TZOFFSETTO:+0100
DTSTART:19800928T030000
RRULE:FREQ=YEARLY;UNTIL=19950924T010000Z;BYMONTH=9;BYDAY=-1SU
END:STANDARD
BEGIN:DAYLIGHT
TZNAME:CEST
TZOFFSETFROM:+0100
TZOFFSETTO:+0200
DTSTART:19810329T020000
RRULE:FREQ=YEARLY;BYMONTH=3;BYDAY=-1SU
END:DAYLIGHT
BEGIN:STANDARD
TZNAME:CET
TZOFFSETFROM:+0200
TZOFFSETTO:+0100
DTSTART:19961027T030000
RRULE:FREQ=YEARLY;BYMONTH=10;BYDAY=-1SU
END:STANDARD
END:VTIMEZONE
BEGIN:VEVENT
DTSTAMP:20260424T191149Z
DTSTART;TZID=Europe/Berlin:20260319T200000
DTEND;TZID=Europe/Berlin:20260319T230000
SUMMARY:HE 4. Liga Gr. 1 KV Liestal II vs Binningen II (0)
UID:a94a4dc9-182d-4bc0-bdb9-8120b4ae5733
STATUS:CONFIRMED
LAST-MODIFIED:20260320T140523Z
DESCRIPTION:4. Liga Herren Gruppe 1\nBegegnungs-Nr: 0\nHeim: KV Liestal II\nGast: Binningen II\n\nAdresse: Büchelistrasse\, 4410 Liestal\n
LOCATION:Büchelistrasse\, 4410 Liestal
CATEGORIES:Saison 2025/26
END:VEVENT
BEGIN:VEVENT
DTSTAMP:20260424T191149Z
DTSTART;TZID=Europe/Berlin:20251216T201500
DTEND;TZID=Europe/Berlin:20251216T231500
SUMMARY:HE 4. Liga Gr. 1 KV Liestal II vs Aesch IV (0)
UID:fa3cca74-9965-406b-b775-7fdb7b1ae464
STATUS:CONFIRMED
LAST-MODIFIED:20251218T122641Z
DESCRIPTION:4. Liga Herren Gruppe 1\nBegegnungs-Nr: 0\nHeim: KV Liestal II\nGast: Aesch IV\n\nAdresse: Büchelistrasse\, 4410 Liestal\n
LOCATION:Büchelistrasse\, 4410 Liestal
CATEGORIES:Saison 2025/26
END:VEVENT
BEGIN:VEVENT
DTSTAMP:20260424T191149Z
DTSTART;TZID=Europe/Berlin:20250828T200000
DTEND;TZID=Europe/Berlin:20250828T230000
SUMMARY:HE 4. Liga Gr. 1 KV Liestal II vs Breitenbach (0)
UID:2b0aa31c-e0b8-42c3-9ce0-cca26d87857c
STATUS:CONFIRMED
LAST-MODIFIED:20250905T121206Z
DESCRIPTION:4. Liga Herren Gruppe 1\nBegegnungs-Nr: 0\nHeim: KV Liestal II\nGast: Breitenbach\n\nAdresse: Büchelistrasse\, 4410 Liestal\n
LOCATION:Büchelistrasse\, 4410 Liestal
CATEGORIES:Saison 2025/26
END:VEVENT
BEGIN:VEVENT
DTSTAMP:20260424T191149Z
DTSTART;TZID=Europe/Berlin:20250925T200000
DTEND;TZID=Europe/Berlin:20250925T230000
SUMMARY:HE 4. Liga Gr. 1 KV Liestal II vs Copains Birsfelden III (0)
UID:ca088f85-8e2c-4f67-86e8-7b997ef47f9b
STATUS:CONFIRMED
LAST-MODIFIED:20250926T125259Z
DESCRIPTION:4. Liga Herren Gruppe 1\nBegegnungs-Nr: 0\nHeim: KV Liestal II\nGast: Copains Birsfelden III\n\nAdresse: Büchelistrasse\, 4410 Liestal\n
LOCATION:Büchelistrasse\, 4410 Liestal
CATEGORIES:Saison 2025/26
END:VEVENT
BEGIN:VEVENT
DTSTAMP:20260424T191149Z
DTSTART;TZID=Europe/Berlin:20251023T200000
DTEND;TZID=Europe/Berlin:20251023T230000
SUMMARY:HE 4. Liga Gr. 1 KV Liestal II vs Oberwil VI (0)
UID:21f70172-e834-44a1-83cd-f7d7b3ff2738
STATUS:CONFIRMED
LAST-MODIFIED:20251029T095556Z
DESCRIPTION:4. Liga Herren Gruppe 1\nBegegnungs-Nr: 0\nHeim: KV Liestal II\nGast: Oberwil VI\n\nAdresse: Büchelistrasse\, 4410 Liestal\n
LOCATION:Büchelistrasse\, 4410 Liestal
CATEGORIES:Saison 2025/26
END:VEVENT
BEGIN:VEVENT
DTSTAMP:20260424T191149Z
DTSTART;TZID=Europe/Berlin:20251030T200000
DTEND;TZID=Europe/Berlin:20251030T230000
SUMMARY:HE 4. Liga Gr. 1 KV Liestal II vs Old Boys Basel II (0)
UID:ddea78a1-086d-44d3-9c03-8c2f90511fed
STATUS:CONFIRMED
LAST-MODIFIED:20251031T143206Z
DESCRIPTION:4. Liga Herren Gruppe 1\nBegegnungs-Nr: 0\nHeim: KV Liestal II\nGast: Old Boys Basel II\n\nAdresse: Büchelistrasse\, 4410 Liestal\n
LOCATION:Büchelistrasse\, 4410 Liestal
CATEGORIES:Saison 2025/26
END:VEVENT
BEGIN:VEVENT
DTSTAMP:20260424T191149Z
DTSTART;TZID=Europe/Berlin:20251204T200000
DTEND;TZID=Europe/Berlin:20251204T230000
SUMMARY:HE 4. Liga Gr. 1 KV Liestal II vs Oberwil V (0)
UID:0dd6e5ac-ba8c-4349-beaf-32bb1608e848
STATUS:CONFIRMED
LAST-MODIFIED:20251211T111832Z
DESCRIPTION:4. Liga Herren Gruppe 1\nBegegnungs-Nr: 0\nHeim: KV Liestal II\nGast: Oberwil V\n\nAdresse: Büchelistrasse\, 4410 Liestal\n
LOCATION:Büchelistrasse\, 4410 Liestal
CATEGORIES:Saison 2025/26
END:VEVENT
BEGIN:VEVENT
DTSTAMP:20260424T191149Z
DTSTART;TZID=Europe/Berlin:20260211T200000
DTEND;TZID=Europe/Berlin:20260211T230000
SUMMARY:HE 4. Liga Gr. 1 Old Boys Basel II vs KV Liestal II (0)
UID:38c720f5-21c6-4825-a289-12625fdaf9c3
STATUS:CONFIRMED
LAST-MODIFIED:20260212T100209Z
DESCRIPTION:4. Liga Herren Gruppe 1\nBegegnungs-Nr: 0\nHeim: Old Boys Basel II\nGast: KV Liestal II\n\nAdresse: 5 Rue Saint-Exupéry\, \, 683020 St. Louis\n
LOCATION:5 Rue Saint-Exupéry\, \, 683020 St. Louis
CATEGORIES:Saison 2025/26
END:VEVENT
BEGIN:VEVENT
DTSTAMP:20260424T191149Z
DTSTART;TZID=Europe/Berlin:20260309T200000
DTEND;TZID=Europe/Berlin:20260309T230000
SUMMARY:HE 4. Liga Gr. 1 Oberwil V vs KV Liestal II (0)
UID:1ea94215-7c21-4800-9e0c-7fc85d767198
STATUS:CONFIRMED
LAST-MODIFIED:20260313T125301Z
DESCRIPTION:4. Liga Herren Gruppe 1\nBegegnungs-Nr: 0\nHeim: Oberwil V\nGast: KV Liestal II\n\nAdresse: Schulstrasse\, 4104 Oberwil\n
LOCATION:Schulstrasse\, 4104 Oberwil
CATEGORIES:Saison 2025/26
END:VEVENT
BEGIN:VEVENT
DTSTAMP:20260424T191149Z
DTSTART;TZID=Europe/Berlin:20260113T200000
DTEND;TZID=Europe/Berlin:20260113T230000
SUMMARY:HE 4. Liga Gr. 1 Breitenbach vs KV Liestal II (0)
UID:6ffce24e-694b-4389-a7e8-5646aff3387b
STATUS:CONFIRMED
LAST-MODIFIED:20260115T094441Z
DESCRIPTION:4. Liga Herren Gruppe 1\nBegegnungs-Nr: 0\nHeim: Breitenbach\nGast: KV Liestal II\n\nAdresse: Grienackerweg 12\, 4226 Breitenbach\n
LOCATION:Grienackerweg 12\, 4226 Breitenbach
CATEGORIES:Saison 2025/26
END:VEVENT
BEGIN:VEVENT
DTSTAMP:20260424T191149Z
DTSTART;TZID=Europe/Berlin:20260127T193000
DTEND;TZID=Europe/Berlin:20260127T223000
SUMMARY:HE 4. Liga Gr. 1 Copains Birsfelden III vs KV Liestal II (0)
UID:ecaddaca-ade4-4d33-b230-05d8c024a352
STATUS:CONFIRMED
LAST-MODIFIED:20260129T075809Z
DESCRIPTION:4. Liga Herren Gruppe 1\nBegegnungs-Nr: 0\nHeim: Copains Birsfelden III\nGast: KV Liestal II\n\nAdresse: Wartenbergstrasse (Hintereingang)\, 4127 Birsfelden\n
LOCATION:Wartenbergstrasse (Hintereingang)\, 4127 Birsfelden
CATEGORIES:Saison 2025/26
END:VEVENT
BEGIN:VEVENT
DTSTAMP:20260424T191149Z
DTSTART;TZID=Europe/Berlin:20260209T194500
DTEND;TZID=Europe/Berlin:20260209T224500
SUMMARY:HE 4. Liga Gr. 1 Oberwil VI vs KV Liestal II (0)
UID:ac96c2e1-d2f1-4ee1-906b-22d47223020e
STATUS:CONFIRMED
LAST-MODIFIED:20260211T093653Z
DESCRIPTION:4. Liga Herren Gruppe 1\nBegegnungs-Nr: 0\nHeim: Oberwil VI\nGast: KV Liestal II\n\nAdresse: Schulstrasse\, 4104 Oberwil\n
LOCATION:Schulstrasse\, 4104 Oberwil
CATEGORIES:Saison 2025/26
END:VEVENT
BEGIN:VEVENT
DTSTAMP:20260424T191149Z
DTSTART;TZID=Europe/Berlin:20250829T193000
DTEND;TZID=Europe/Berlin:20250829T223000
SUMMARY:HE 4. Liga Gr. 1 Aesch IV vs KV Liestal II (0)
UID:3a90d4b4-c795-4528-82e2-6cb64b1a3d25
STATUS:CONFIRMED
LAST-MODIFIED:20250905T121255Z
DESCRIPTION:4. Liga Herren Gruppe 1\nBegegnungs-Nr: 0\nHeim: Aesch IV\nGast: KV Liestal II\n\nAdresse: Dornacherstrasse\, 4147 Aesch\n
LOCATION:Dornacherstrasse\, 4147 Aesch
CATEGORIES:Saison 2025/26
END:VEVENT
BEGIN:VEVENT
DTSTAMP:20260424T191149Z
DTSTART;TZID=Europe/Berlin:20251211T200000
DTEND;TZID=Europe/Berlin:20251211T230000
SUMMARY:HE 4. Liga Gr. 1 Binningen II vs KV Liestal II (0)
UID:c8dcfbe6-a856-479c-b693-f4e72762abfa
STATUS:CONFIRMED
LAST-MODIFIED:20251216T102448Z
DESCRIPTION:4. Liga Herren Gruppe 1\nBegegnungs-Nr: 0\nHeim: Binningen II\nGast: KV Liestal II\n\nAdresse: Rottmannsbodenstr./Neusatzweg\, 4102 Binningen\n
LOCATION:Rottmannsbodenstr./Neusatzweg\, 4102 Binningen
CATEGORIES:Saison 2025/26
END:VEVENT
END:VCALENDAR
