BEGIN:VCALENDAR
PRODID:-//nuDatenautomaten//framework iCal4j //DE
VERSION:2.0
CALSCALE:GREGORIAN
BEGIN:VTIMEZONE
TZID:Europe/Berlin
LAST-MODIFIED:20260306T231828Z
TZURL:https://www.tzurl.org/zoneinfo/Europe/Berlin
X-LIC-LOCATION:Europe/Berlin
X-PROLEPTIC-TZNAME:LMT
BEGIN:STANDARD
TZNAME:CET
TZOFFSETFROM:+005328
TZOFFSETTO:+0100
DTSTART:18930401T000000
END:STANDARD
BEGIN:DAYLIGHT
TZNAME:CEST
TZOFFSETFROM:+0100
TZOFFSETTO:+0200
DTSTART:19160430T230000
RDATE:19400401T020000
RDATE:19430329T020000
RDATE:19460414T020000
RDATE:19470406T030000
RDATE:19480418T020000
RDATE:19490410T020000
RDATE:19800406T020000
END:DAYLIGHT
BEGIN:STANDARD
TZNAME:CET
TZOFFSETFROM:+0200
TZOFFSETTO:+0100
DTSTART:19161001T010000
RDATE:19421102T030000
RDATE:19431004T030000
RDATE:19441002T030000
RDATE:19451118T030000
RDATE:19461007T030000
END:STANDARD
BEGIN:DAYLIGHT
TZNAME:CEST
TZOFFSETFROM:+0100
TZOFFSETTO:+0200
DTSTART:19170416T020000
RRULE:FREQ=YEARLY;UNTIL=19180415T010000Z;BYMONTH=4;BYDAY=3MO
END:DAYLIGHT
BEGIN:STANDARD
TZNAME:CET
TZOFFSETFROM:+0200
TZOFFSETTO:+0100
DTSTART:19170917T030000
RRULE:FREQ=YEARLY;UNTIL=19180916T010000Z;BYMONTH=9;BYDAY=3MO
END:STANDARD
BEGIN:DAYLIGHT
TZNAME:CEST
TZOFFSETFROM:+0100
TZOFFSETTO:+0200
DTSTART:19440403T020000
RRULE:FREQ=YEARLY;UNTIL=19450402T010000Z;BYMONTH=4;BYDAY=1MO
END:DAYLIGHT
BEGIN:DAYLIGHT
TZNAME:CEMT
TZOFFSETFROM:+0200
TZOFFSETTO:+0300
DTSTART:19450524T020000
RDATE:19470511T030000
END:DAYLIGHT
BEGIN:DAYLIGHT
TZNAME:CEST
TZOFFSETFROM:+0300
TZOFFSETTO:+0200
DTSTART:19450924T030000
RDATE:19470629T030000
END:DAYLIGHT
BEGIN:STANDARD
TZNAME:CET
TZOFFSETFROM:+0100
TZOFFSETTO:+0100
DTSTART:19460101T000000
RDATE:19800101T000000
END:STANDARD
BEGIN:STANDARD
TZNAME:CET
TZOFFSETFROM:+0200
TZOFFSETTO:+0100
DTSTART:19471005T030000
RRULE:FREQ=YEARLY;UNTIL=19491002T010000Z;BYMONTH=10;BYDAY=1SU
END:STANDARD
BEGIN:STANDARD
TZNAME:CET
TZOFFSETFROM:+0200
TZOFFSETTO:+0100
DTSTART:19800928T030000
RRULE:FREQ=YEARLY;UNTIL=19950924T010000Z;BYMONTH=9;BYDAY=-1SU
END:STANDARD
BEGIN:DAYLIGHT
TZNAME:CEST
TZOFFSETFROM:+0100
TZOFFSETTO:+0200
DTSTART:19810329T020000
RRULE:FREQ=YEARLY;BYMONTH=3;BYDAY=-1SU
END:DAYLIGHT
BEGIN:STANDARD
TZNAME:CET
TZOFFSETFROM:+0200
TZOFFSETTO:+0100
DTSTART:19961027T030000
RRULE:FREQ=YEARLY;BYMONTH=10;BYDAY=-1SU
END:STANDARD
END:VTIMEZONE
BEGIN:VEVENT
DTSTAMP:20260424T122854Z
DTSTART;TZID=Europe/Berlin:20260123T200000
DTEND;TZID=Europe/Berlin:20260123T230000
SUMMARY:HE 4. Liga Gr. 7 Gossau Zuerich vs Wetzikon VII (0)
UID:79358f2a-5dba-4b9b-8d69-f1fea21ef3a4
STATUS:CONFIRMED
LAST-MODIFIED:20260127T150044Z
DESCRIPTION:4. Liga Herren Gruppe 7\nBegegnungs-Nr: 0\nHeim: Gossau Zuerich\nGast: Wetzikon VII\n\nAdresse: Schulstrasse\, 8624 Grüt-Gossau\n
LOCATION:Schulstrasse\, 8624 Grüt-Gossau
CATEGORIES:Saison 2025/26
END:VEVENT
BEGIN:VEVENT
DTSTAMP:20260424T122854Z
DTSTART;TZID=Europe/Berlin:20260327T200000
DTEND;TZID=Europe/Berlin:20260327T230000
SUMMARY:HE 4. Liga Gr. 7 Gossau Zuerich vs Glarus II (0)
UID:6b281c72-30db-45a7-9581-a8f9ae3c31e2
STATUS:CONFIRMED
LAST-MODIFIED:20260401T124011Z
DESCRIPTION:4. Liga Herren Gruppe 7\nBegegnungs-Nr: 0\nHeim: Gossau Zuerich\nGast: Glarus II\n\nAdresse: Schulstrasse\, 8624 Grüt-Gossau\n
LOCATION:Schulstrasse\, 8624 Grüt-Gossau
CATEGORIES:Saison 2025/26
END:VEVENT
BEGIN:VEVENT
DTSTAMP:20260424T122854Z
DTSTART;TZID=Europe/Berlin:20260313T200000
DTEND;TZID=Europe/Berlin:20260313T230000
SUMMARY:HE 4. Liga Gr. 7 Gossau Zuerich vs Uster III (0)
UID:11f071ff-1070-40b7-a8b0-0d95d8849fe8
STATUS:CONFIRMED
LAST-MODIFIED:20260317T135402Z
DESCRIPTION:4. Liga Herren Gruppe 7\nBegegnungs-Nr: 0\nHeim: Gossau Zuerich\nGast: Uster III\n\nAdresse: Schulstrasse\, 8624 Grüt-Gossau\n
LOCATION:Schulstrasse\, 8624 Grüt-Gossau
CATEGORIES:Saison 2025/26
END:VEVENT
BEGIN:VEVENT
DTSTAMP:20260424T122854Z
DTSTART;TZID=Europe/Berlin:20250905T200000
DTEND;TZID=Europe/Berlin:20250905T230000
SUMMARY:HE 4. Liga Gr. 7 Gossau Zuerich vs Wollerau (0)
UID:f6d4a11c-e0b8-4694-a53f-c83444e87c65
STATUS:CONFIRMED
LAST-MODIFIED:20250908T140509Z
DESCRIPTION:4. Liga Herren Gruppe 7\nBegegnungs-Nr: 0\nHeim: Gossau Zuerich\nGast: Wollerau\n\nAdresse: Schulstrasse\, 8624 Grüt-Gossau\n
LOCATION:Schulstrasse\, 8624 Grüt-Gossau
CATEGORIES:Saison 2025/26
END:VEVENT
BEGIN:VEVENT
DTSTAMP:20260424T122854Z
DTSTART;TZID=Europe/Berlin:20251003T200000
DTEND;TZID=Europe/Berlin:20251003T230000
SUMMARY:HE 4. Liga Gr. 7 Gossau Zuerich vs Toggenburg II (0)
UID:4e0ccc6e-c56c-4137-af51-a1786b15f720
STATUS:CONFIRMED
LAST-MODIFIED:20251007T060159Z
DESCRIPTION:4. Liga Herren Gruppe 7\nBegegnungs-Nr: 0\nHeim: Gossau Zuerich\nGast: Toggenburg II\n\nAdresse: Schulstrasse\, 8624 Grüt-Gossau\n
LOCATION:Schulstrasse\, 8624 Grüt-Gossau
CATEGORIES:Saison 2025/26
END:VEVENT
BEGIN:VEVENT
DTSTAMP:20260424T122854Z
DTSTART;TZID=Europe/Berlin:20251107T200000
DTEND;TZID=Europe/Berlin:20251107T230000
SUMMARY:HE 4. Liga Gr. 7 Gossau Zuerich vs Meilen-Männedorf III (0)
UID:a6567bb7-3b5a-4603-bc82-e487321d6a1a
STATUS:CONFIRMED
LAST-MODIFIED:20251114T142319Z
DESCRIPTION:4. Liga Herren Gruppe 7\nBegegnungs-Nr: 0\nHeim: Gossau Zuerich\nGast: Meilen-Männedorf III\n\nAdresse: Schulstrasse\, 8624 Grüt-Gossau\n
LOCATION:Schulstrasse\, 8624 Grüt-Gossau
CATEGORIES:Saison 2025/26
END:VEVENT
BEGIN:VEVENT
DTSTAMP:20260424T122854Z
DTSTART;TZID=Europe/Berlin:20251205T200000
DTEND;TZID=Europe/Berlin:20251205T230000
SUMMARY:HE 4. Liga Gr. 7 Gossau Zuerich vs Flums IV (0)
UID:a0e76bb3-49bc-4b3b-97cb-5eeecb79ab5e
STATUS:CONFIRMED
LAST-MODIFIED:20251210T085138Z
DESCRIPTION:4. Liga Herren Gruppe 7\nBegegnungs-Nr: 0\nHeim: Gossau Zuerich\nGast: Flums IV\n\nAdresse: Schulstrasse\, 8624 Grüt-Gossau\n
LOCATION:Schulstrasse\, 8624 Grüt-Gossau
CATEGORIES:Saison 2025/26
END:VEVENT
BEGIN:VEVENT
DTSTAMP:20260424T122854Z
DTSTART;TZID=Europe/Berlin:20260202T200000
DTEND;TZID=Europe/Berlin:20260202T230000
SUMMARY:HE 4. Liga Gr. 7 Wollerau vs Gossau Zuerich (0)
UID:86b47d66-e448-446c-a433-8026fe0f514f
STATUS:CONFIRMED
LAST-MODIFIED:20260203T142522Z
DESCRIPTION:4. Liga Herren Gruppe 7\nBegegnungs-Nr: 0\nHeim: Wollerau\nGast: Gossau Zuerich\n\nAdresse: Erlenstrasse 18\, 8832 Wollerau\n
LOCATION:Erlenstrasse 18\, 8832 Wollerau
CATEGORIES:Saison 2025/26
END:VEVENT
BEGIN:VEVENT
DTSTAMP:20260424T122854Z
DTSTART;TZID=Europe/Berlin:20260126T200000
DTEND;TZID=Europe/Berlin:20260126T230000
SUMMARY:HE 4. Liga Gr. 7 Toggenburg II vs Gossau Zuerich (0)
UID:b1979f73-6012-47fe-abef-745f098735ca
STATUS:CONFIRMED
LAST-MODIFIED:20260127T152231Z
DESCRIPTION:4. Liga Herren Gruppe 7\nBegegnungs-Nr: 0\nHeim: Toggenburg II\nGast: Gossau Zuerich\n\nAdresse: Frohmaderweg\, 9630 Wattwil\n
LOCATION:Frohmaderweg\, 9630 Wattwil
CATEGORIES:Saison 2025/26
END:VEVENT
BEGIN:VEVENT
DTSTAMP:20260424T122854Z
DTSTART;TZID=Europe/Berlin:20260326T194500
DTEND;TZID=Europe/Berlin:20260326T224500
SUMMARY:HE 4. Liga Gr. 7 Meilen-Männedorf III vs Gossau Zuerich (0)
UID:457963ab-73ff-4c89-94b4-7d574677b3e6
STATUS:CONFIRMED
LAST-MODIFIED:20260401T124002Z
DESCRIPTION:4. Liga Herren Gruppe 7\nBegegnungs-Nr: 0\nHeim: Meilen-Männedorf III\nGast: Gossau Zuerich\n\nAdresse: Schulhausstr. 27\, 8706 Meilen\n
LOCATION:Schulhausstr. 27\, 8706 Meilen
CATEGORIES:Saison 2025/26
END:VEVENT
BEGIN:VEVENT
DTSTAMP:20260424T122854Z
DTSTART;TZID=Europe/Berlin:20260320T201500
DTEND;TZID=Europe/Berlin:20260320T231500
SUMMARY:HE 4. Liga Gr. 7 Flums IV vs Gossau Zuerich (0)
UID:37372a33-cda4-4374-84a8-619593e38773
STATUS:CONFIRMED
LAST-MODIFIED:20260326T152719Z
DESCRIPTION:4. Liga Herren Gruppe 7\nBegegnungs-Nr: 0\nHeim: Flums IV\nGast: Gossau Zuerich\n\nAdresse: Bahnhofstrasse 23\, 8890 Flums\n
LOCATION:Bahnhofstrasse 23\, 8890 Flums
CATEGORIES:Saison 2025/26
END:VEVENT
BEGIN:VEVENT
DTSTAMP:20260424T122854Z
DTSTART;TZID=Europe/Berlin:20250901T194500
DTEND;TZID=Europe/Berlin:20250901T224500
SUMMARY:HE 4. Liga Gr. 7 Wetzikon VII vs Gossau Zuerich (0)
UID:1d2a5c97-b902-4097-9743-d5b8432db7b5
STATUS:CONFIRMED
LAST-MODIFIED:20250902T092813Z
DESCRIPTION:4. Liga Herren Gruppe 7\nBegegnungs-Nr: 0\nHeim: Wetzikon VII\nGast: Gossau Zuerich\n\nAdresse: Usterstrasse 37\, 8620 Wetzikon\n
LOCATION:Usterstrasse 37\, 8620 Wetzikon
CATEGORIES:Saison 2025/26
END:VEVENT
BEGIN:VEVENT
DTSTAMP:20260424T122854Z
DTSTART;TZID=Europe/Berlin:20250926T200000
DTEND;TZID=Europe/Berlin:20250926T230000
SUMMARY:HE 4. Liga Gr. 7 Glarus II vs Gossau Zuerich (0)
UID:f4f3e076-5a32-4d9a-98d2-548f3515ebf5
STATUS:CONFIRMED
LAST-MODIFIED:20250930T124009Z
DESCRIPTION:4. Liga Herren Gruppe 7\nBegegnungs-Nr: 0\nHeim: Glarus II\nGast: Gossau Zuerich\n\nAdresse: Schwertgasse 23\, 8750 Glarus\n
LOCATION:Schwertgasse 23\, 8750 Glarus
CATEGORIES:Saison 2025/26
END:VEVENT
BEGIN:VEVENT
DTSTAMP:20260424T122854Z
DTSTART;TZID=Europe/Berlin:20251027T194500
DTEND;TZID=Europe/Berlin:20251027T224500
SUMMARY:HE 4. Liga Gr. 7 Uster III vs Gossau Zuerich (0)
UID:5dc1ea3e-18c3-45d3-b9b0-934c4ef8fdd6
STATUS:CONFIRMED
LAST-MODIFIED:20251031T143641Z
DESCRIPTION:4. Liga Herren Gruppe 7\nBegegnungs-Nr: 0\nHeim: Uster III\nGast: Gossau Zuerich\n\nAdresse: Wilstrasse 30 / Zürcherstrasse\, 8610 Uster\n
LOCATION:Wilstrasse 30 / Zürcherstrasse\, 8610 Uster
CATEGORIES:Saison 2025/26
END:VEVENT
END:VCALENDAR
