BEGIN:VCALENDAR
PRODID:-//nuDatenautomaten//framework iCal4j //DE
VERSION:2.0
CALSCALE:GREGORIAN
BEGIN:VTIMEZONE
TZID:Europe/Berlin
LAST-MODIFIED:20260306T231828Z
TZURL:https://www.tzurl.org/zoneinfo/Europe/Berlin
X-LIC-LOCATION:Europe/Berlin
X-PROLEPTIC-TZNAME:LMT
BEGIN:STANDARD
TZNAME:CET
TZOFFSETFROM:+005328
TZOFFSETTO:+0100
DTSTART:18930401T000000
END:STANDARD
BEGIN:DAYLIGHT
TZNAME:CEST
TZOFFSETFROM:+0100
TZOFFSETTO:+0200
DTSTART:19160430T230000
RDATE:19400401T020000
RDATE:19430329T020000
RDATE:19460414T020000
RDATE:19470406T030000
RDATE:19480418T020000
RDATE:19490410T020000
RDATE:19800406T020000
END:DAYLIGHT
BEGIN:STANDARD
TZNAME:CET
TZOFFSETFROM:+0200
TZOFFSETTO:+0100
DTSTART:19161001T010000
RDATE:19421102T030000
RDATE:19431004T030000
RDATE:19441002T030000
RDATE:19451118T030000
RDATE:19461007T030000
END:STANDARD
BEGIN:DAYLIGHT
TZNAME:CEST
TZOFFSETFROM:+0100
TZOFFSETTO:+0200
DTSTART:19170416T020000
RRULE:FREQ=YEARLY;UNTIL=19180415T010000Z;BYMONTH=4;BYDAY=3MO
END:DAYLIGHT
BEGIN:STANDARD
TZNAME:CET
TZOFFSETFROM:+0200
TZOFFSETTO:+0100
DTSTART:19170917T030000
RRULE:FREQ=YEARLY;UNTIL=19180916T010000Z;BYMONTH=9;BYDAY=3MO
END:STANDARD
BEGIN:DAYLIGHT
TZNAME:CEST
TZOFFSETFROM:+0100
TZOFFSETTO:+0200
DTSTART:19440403T020000
RRULE:FREQ=YEARLY;UNTIL=19450402T010000Z;BYMONTH=4;BYDAY=1MO
END:DAYLIGHT
BEGIN:DAYLIGHT
TZNAME:CEMT
TZOFFSETFROM:+0200
TZOFFSETTO:+0300
DTSTART:19450524T020000
RDATE:19470511T030000
END:DAYLIGHT
BEGIN:DAYLIGHT
TZNAME:CEST
TZOFFSETFROM:+0300
TZOFFSETTO:+0200
DTSTART:19450924T030000
RDATE:19470629T030000
END:DAYLIGHT
BEGIN:STANDARD
TZNAME:CET
TZOFFSETFROM:+0100
TZOFFSETTO:+0100
DTSTART:19460101T000000
RDATE:19800101T000000
END:STANDARD
BEGIN:STANDARD
TZNAME:CET
TZOFFSETFROM:+0200
TZOFFSETTO:+0100
DTSTART:19471005T030000
RRULE:FREQ=YEARLY;UNTIL=19491002T010000Z;BYMONTH=10;BYDAY=1SU
END:STANDARD
BEGIN:STANDARD
TZNAME:CET
TZOFFSETFROM:+0200
TZOFFSETTO:+0100
DTSTART:19800928T030000
RRULE:FREQ=YEARLY;UNTIL=19950924T010000Z;BYMONTH=9;BYDAY=-1SU
END:STANDARD
BEGIN:DAYLIGHT
TZNAME:CEST
TZOFFSETFROM:+0100
TZOFFSETTO:+0200
DTSTART:19810329T020000
RRULE:FREQ=YEARLY;BYMONTH=3;BYDAY=-1SU
END:DAYLIGHT
BEGIN:STANDARD
TZNAME:CET
TZOFFSETFROM:+0200
TZOFFSETTO:+0100
DTSTART:19961027T030000
RRULE:FREQ=YEARLY;BYMONTH=10;BYDAY=-1SU
END:STANDARD
END:VTIMEZONE
BEGIN:VEVENT
DTSTAMP:20260424T114932Z
DTSTART;TZID=Europe/Berlin:20251216T200000
DTEND;TZID=Europe/Berlin:20251216T230000
SUMMARY:HE 5. Liga Gr. 4 Lyss V vs Port VIII (27)
UID:9741aba4-c585-4997-945d-b27c2c49dc24
STATUS:CONFIRMED
LAST-MODIFIED:20251218T122259Z
DESCRIPTION:5. Liga Herren Gruppe 4\nBegegnungs-Nr: 27\nHeim: Lyss V\nGast: Port VIII\n\nAdresse: Stegmattweg 15-17\, 3250 Lyss\n
LOCATION:Stegmattweg 15-17\, 3250 Lyss
CATEGORIES:Saison 2025/26
END:VEVENT
BEGIN:VEVENT
DTSTAMP:20260424T114932Z
DTSTART;TZID=Europe/Berlin:20251114T200000
DTEND;TZID=Europe/Berlin:20251114T230000
SUMMARY:HE 5. Liga Gr. 4 Lyss V vs Huttwil II (19)
UID:ebff3500-a400-4c63-bf26-f1ddee5384c5
STATUS:CONFIRMED
LAST-MODIFIED:20251122T091447Z
DESCRIPTION:5. Liga Herren Gruppe 4\nBegegnungs-Nr: 19\nHeim: Lyss V\nGast: Huttwil II\n\nAdresse: Stegmattweg 15-17\, 3250 Lyss\n
LOCATION:Stegmattweg 15-17\, 3250 Lyss
CATEGORIES:Saison 2025/26
END:VEVENT
BEGIN:VEVENT
DTSTAMP:20260424T114932Z
DTSTART;TZID=Europe/Berlin:20251125T200000
DTEND;TZID=Europe/Berlin:20251125T230000
SUMMARY:HE 5. Liga Gr. 4 Lyss V vs Kirchberg III (13)
UID:baa2443d-6d1b-4d80-a7d0-055ba42b9fb7
STATUS:CONFIRMED
LAST-MODIFIED:20251207T174303Z
DESCRIPTION:5. Liga Herren Gruppe 4\nBegegnungs-Nr: 13\nHeim: Lyss V\nGast: Kirchberg III\n\nAdresse: Stegmattweg 15-17\, 3250 Lyss\n
LOCATION:Stegmattweg 15-17\, 3250 Lyss
CATEGORIES:Saison 2025/26
END:VEVENT
BEGIN:VEVENT
DTSTAMP:20260424T114932Z
DTSTART;TZID=Europe/Berlin:20250909T200000
DTEND;TZID=Europe/Berlin:20250909T230000
SUMMARY:HE 5. Liga Gr. 4 Lyss V vs Utzenstorf II (7)
UID:3bd4003a-4b76-4f41-93f7-8a945414d0ea
STATUS:CONFIRMED
LAST-MODIFIED:20250918T140459Z
DESCRIPTION:5. Liga Herren Gruppe 4\nBegegnungs-Nr: 7\nHeim: Lyss V\nGast: Utzenstorf II\n\nAdresse: Stegmattweg 15-17\, 3250 Lyss\n
LOCATION:Stegmattweg 15-17\, 3250 Lyss
CATEGORIES:Saison 2025/26
END:VEVENT
BEGIN:VEVENT
DTSTAMP:20260424T114932Z
DTSTART;TZID=Europe/Berlin:20260326T200000
DTEND;TZID=Europe/Berlin:20260326T230000
SUMMARY:HE 5. Liga Gr. 4 Lyss V vs Langenthal III (23)
UID:9f1b2d9c-9fab-4d48-9d93-45a1b6be307a
STATUS:CONFIRMED
LAST-MODIFIED:20260409T123407Z
DESCRIPTION:5. Liga Herren Gruppe 4\nBegegnungs-Nr: 23\nHeim: Lyss V\nGast: Langenthal III\n\nAdresse: Stegmattweg 15-17\, 3250 Lyss\n
LOCATION:Stegmattweg 15-17\, 3250 Lyss
CATEGORIES:Saison 2025/26
END:VEVENT
BEGIN:VEVENT
DTSTAMP:20260424T114932Z
DTSTART;TZID=Europe/Berlin:20260210T200000
DTEND;TZID=Europe/Berlin:20260210T230000
SUMMARY:HE 5. Liga Gr. 4 Lyss V vs Burgdorf IX (12)
UID:5ae9e08a-bafb-40be-b994-f984b37e0be7
STATUS:CONFIRMED
LAST-MODIFIED:20260217T212349Z
DESCRIPTION:5. Liga Herren Gruppe 4\nBegegnungs-Nr: 12\nHeim: Lyss V\nGast: Burgdorf IX\n\nAdresse: Stegmattweg 15-17\, 3250 Lyss\n
LOCATION:Stegmattweg 15-17\, 3250 Lyss
CATEGORIES:Saison 2025/26
END:VEVENT
BEGIN:VEVENT
DTSTAMP:20260424T114932Z
DTSTART;TZID=Europe/Berlin:20260108T200000
DTEND;TZID=Europe/Berlin:20260108T230000
SUMMARY:HE 5. Liga Gr. 4 Lyss V vs Grossaffoltern III (2)
UID:0f066678-c22d-425b-aba0-d99580980270
STATUS:CONFIRMED
LAST-MODIFIED:20260125T002539Z
DESCRIPTION:5. Liga Herren Gruppe 4\nBegegnungs-Nr: 2\nHeim: Lyss V\nGast: Grossaffoltern III\n\nAdresse: Stegmattweg 15-17\, 3250 Lyss\n
LOCATION:Stegmattweg 15-17\, 3250 Lyss
CATEGORIES:Saison 2025/26
END:VEVENT
BEGIN:VEVENT
DTSTAMP:20260424T114932Z
DTSTART;TZID=Europe/Berlin:20251201T200000
DTEND;TZID=Europe/Berlin:20251201T230000
SUMMARY:HE 5. Liga Gr. 4 Langenthal III vs Lyss V (23)
UID:e092b60f-bd03-425d-9fb2-83b25c201e61
STATUS:CONFIRMED
LAST-MODIFIED:20251207T174330Z
DESCRIPTION:5. Liga Herren Gruppe 4\nBegegnungs-Nr: 23\nHeim: Langenthal III\nGast: Lyss V\n\nAdresse: Weststrasse 29\, 4900 Langenthal\n
LOCATION:Weststrasse 29\, 4900 Langenthal
CATEGORIES:Saison 2025/26
END:VEVENT
BEGIN:VEVENT
DTSTAMP:20260424T114932Z
DTSTART;TZID=Europe/Berlin:20250901T200000
DTEND;TZID=Europe/Berlin:20250901T230000
SUMMARY:HE 5. Liga Gr. 4 Grossaffoltern III vs Lyss V (2)
UID:17a5c712-4ecb-4116-a607-199a8bcc3a96
STATUS:CONFIRMED
LAST-MODIFIED:20250904T074852Z
DESCRIPTION:5. Liga Herren Gruppe 4\nBegegnungs-Nr: 2\nHeim: Grossaffoltern III\nGast: Lyss V\n\nAdresse: Schulhausstrasse 5 \, 3257 Grossaffoltern\n
LOCATION:Schulhausstrasse 5 \, 3257 Grossaffoltern
CATEGORIES:Saison 2025/26
END:VEVENT
BEGIN:VEVENT
DTSTAMP:20260424T114932Z
DTSTART;TZID=Europe/Berlin:20251024T193000
DTEND;TZID=Europe/Berlin:20251024T223000
SUMMARY:HE 5. Liga Gr. 4 Burgdorf IX vs Lyss V (12)
UID:c821c5a4-a914-48c2-954c-78f0a0a6deac
STATUS:CONFIRMED
LAST-MODIFIED:20251029T221320Z
DESCRIPTION:5. Liga Herren Gruppe 4\nBegegnungs-Nr: 12\nHeim: Burgdorf IX\nGast: Lyss V\n\nAdresse: Pestalozzistrasse 69\, 3400 Burgdorf\n
LOCATION:Pestalozzistrasse 69\, 3400 Burgdorf
CATEGORIES:Saison 2025/26
END:VEVENT
BEGIN:VEVENT
DTSTAMP:20260424T114932Z
DTSTART;TZID=Europe/Berlin:20260324T194500
DTEND;TZID=Europe/Berlin:20260324T224500
SUMMARY:HE 5. Liga Gr. 4 Port VIII vs Lyss V (27)
UID:ae4dd619-077e-4454-a5bf-1a0c733e7cbb
STATUS:CONFIRMED
LAST-MODIFIED:20260409T123359Z
DESCRIPTION:5. Liga Herren Gruppe 4\nBegegnungs-Nr: 27\nHeim: Port VIII\nGast: Lyss V\n\nAdresse: Allmendstrasse 23\, 2562 Port\n
LOCATION:Allmendstrasse 23\, 2562 Port
CATEGORIES:Saison 2025/26
END:VEVENT
BEGIN:VEVENT
DTSTAMP:20260424T114932Z
DTSTART;TZID=Europe/Berlin:20260302T200000
DTEND;TZID=Europe/Berlin:20260302T230000
SUMMARY:HE 5. Liga Gr. 4 Huttwil II vs Lyss V (19)
UID:ef1557ea-0d80-422d-9e93-81498d4bc5a8
STATUS:CONFIRMED
LAST-MODIFIED:20260308T174731Z
DESCRIPTION:5. Liga Herren Gruppe 4\nBegegnungs-Nr: 19\nHeim: Huttwil II\nGast: Lyss V\n\nAdresse: Dornackerweg 2 (untere Halle)\, 4950 Huttwil\n
LOCATION:Dornackerweg 2 (untere Halle)\, 4950 Huttwil
CATEGORIES:Saison 2025/26
END:VEVENT
BEGIN:VEVENT
DTSTAMP:20260424T114932Z
DTSTART;TZID=Europe/Berlin:20260221T130000
DTEND;TZID=Europe/Berlin:20260221T160000
SUMMARY:HE 5. Liga Gr. 4 Kirchberg III vs Lyss V (13)
UID:da83c955-81d9-4cf9-aeda-77f6545a97dd
STATUS:CONFIRMED
LAST-MODIFIED:20260224T075524Z
DESCRIPTION:5. Liga Herren Gruppe 4\nBegegnungs-Nr: 13\nHeim: Kirchberg III\nGast: Lyss V\n\nAdresse: Reinhardweg\, 3422 Kirchberg\n
LOCATION:Reinhardweg\, 3422 Kirchberg
CATEGORIES:Saison 2025/26
END:VEVENT
BEGIN:VEVENT
DTSTAMP:20260424T114932Z
DTSTART;TZID=Europe/Berlin:20260129T200000
DTEND;TZID=Europe/Berlin:20260129T230000
SUMMARY:HE 5. Liga Gr. 4 Utzenstorf II vs Lyss V (7)
UID:4e1df42b-cac1-473d-9ebd-e5b23470ba0d
STATUS:CONFIRMED
LAST-MODIFIED:20260217T214847Z
DESCRIPTION:5. Liga Herren Gruppe 4\nBegegnungs-Nr: 7\nHeim: Utzenstorf II\nGast: Lyss V\n\nAdresse: Gotthelfstrasse 15a\, 3427 Utzenstorf\n
LOCATION:Gotthelfstrasse 15a\, 3427 Utzenstorf
CATEGORIES:Saison 2025/26
END:VEVENT
END:VCALENDAR
