BEGIN:VCALENDAR
PRODID:-//nuDatenautomaten//framework iCal4j //DE
VERSION:2.0
CALSCALE:GREGORIAN
BEGIN:VTIMEZONE
TZID:Europe/Berlin
LAST-MODIFIED:20260306T231828Z
TZURL:https://www.tzurl.org/zoneinfo/Europe/Berlin
X-LIC-LOCATION:Europe/Berlin
X-PROLEPTIC-TZNAME:LMT
BEGIN:STANDARD
TZNAME:CET
TZOFFSETFROM:+005328
TZOFFSETTO:+0100
DTSTART:18930401T000000
END:STANDARD
BEGIN:DAYLIGHT
TZNAME:CEST
TZOFFSETFROM:+0100
TZOFFSETTO:+0200
DTSTART:19160430T230000
RDATE:19400401T020000
RDATE:19430329T020000
RDATE:19460414T020000
RDATE:19470406T030000
RDATE:19480418T020000
RDATE:19490410T020000
RDATE:19800406T020000
END:DAYLIGHT
BEGIN:STANDARD
TZNAME:CET
TZOFFSETFROM:+0200
TZOFFSETTO:+0100
DTSTART:19161001T010000
RDATE:19421102T030000
RDATE:19431004T030000
RDATE:19441002T030000
RDATE:19451118T030000
RDATE:19461007T030000
END:STANDARD
BEGIN:DAYLIGHT
TZNAME:CEST
TZOFFSETFROM:+0100
TZOFFSETTO:+0200
DTSTART:19170416T020000
RRULE:FREQ=YEARLY;UNTIL=19180415T010000Z;BYMONTH=4;BYDAY=3MO
END:DAYLIGHT
BEGIN:STANDARD
TZNAME:CET
TZOFFSETFROM:+0200
TZOFFSETTO:+0100
DTSTART:19170917T030000
RRULE:FREQ=YEARLY;UNTIL=19180916T010000Z;BYMONTH=9;BYDAY=3MO
END:STANDARD
BEGIN:DAYLIGHT
TZNAME:CEST
TZOFFSETFROM:+0100
TZOFFSETTO:+0200
DTSTART:19440403T020000
RRULE:FREQ=YEARLY;UNTIL=19450402T010000Z;BYMONTH=4;BYDAY=1MO
END:DAYLIGHT
BEGIN:DAYLIGHT
TZNAME:CEMT
TZOFFSETFROM:+0200
TZOFFSETTO:+0300
DTSTART:19450524T020000
RDATE:19470511T030000
END:DAYLIGHT
BEGIN:DAYLIGHT
TZNAME:CEST
TZOFFSETFROM:+0300
TZOFFSETTO:+0200
DTSTART:19450924T030000
RDATE:19470629T030000
END:DAYLIGHT
BEGIN:STANDARD
TZNAME:CET
TZOFFSETFROM:+0100
TZOFFSETTO:+0100
DTSTART:19460101T000000
RDATE:19800101T000000
END:STANDARD
BEGIN:STANDARD
TZNAME:CET
TZOFFSETFROM:+0200
TZOFFSETTO:+0100
DTSTART:19471005T030000
RRULE:FREQ=YEARLY;UNTIL=19491002T010000Z;BYMONTH=10;BYDAY=1SU
END:STANDARD
BEGIN:STANDARD
TZNAME:CET
TZOFFSETFROM:+0200
TZOFFSETTO:+0100
DTSTART:19800928T030000
RRULE:FREQ=YEARLY;UNTIL=19950924T010000Z;BYMONTH=9;BYDAY=-1SU
END:STANDARD
BEGIN:DAYLIGHT
TZNAME:CEST
TZOFFSETFROM:+0100
TZOFFSETTO:+0200
DTSTART:19810329T020000
RRULE:FREQ=YEARLY;BYMONTH=3;BYDAY=-1SU
END:DAYLIGHT
BEGIN:STANDARD
TZNAME:CET
TZOFFSETFROM:+0200
TZOFFSETTO:+0100
DTSTART:19961027T030000
RRULE:FREQ=YEARLY;BYMONTH=10;BYDAY=-1SU
END:STANDARD
END:VTIMEZONE
BEGIN:VEVENT
DTSTAMP:20260424T135917Z
DTSTART;TZID=Europe/Berlin:20260119T201500
DTEND;TZID=Europe/Berlin:20260119T231500
SUMMARY:DA 1. Liga Gr. 1 Romanshorn vs Horgen (0)
UID:f589f756-82d9-4480-a332-c3f7123b8b39
STATUS:CONFIRMED
LAST-MODIFIED:20260120T154418Z
DESCRIPTION:1. Liga Damen Gruppe 1\nBegegnungs-Nr: 0\nHeim: Romanshorn\nGast: Horgen\n\nAdresse: Florastrasse\, 8590 Romanshorn\n
LOCATION:Florastrasse\, 8590 Romanshorn
CATEGORIES:Saison 2025/26
END:VEVENT
BEGIN:VEVENT
DTSTAMP:20260424T135917Z
DTSTART;TZID=Europe/Berlin:20260302T201500
DTEND;TZID=Europe/Berlin:20260302T231500
SUMMARY:DA 1. Liga Gr. 1 Romanshorn vs Zürich-Affoltern II (0)
UID:785b18ec-f5ca-418f-9e25-e8fb22f846d4
STATUS:CONFIRMED
LAST-MODIFIED:20260303T132845Z
DESCRIPTION:1. Liga Damen Gruppe 1\nBegegnungs-Nr: 0\nHeim: Romanshorn\nGast: Zürich-Affoltern II\n\nAdresse: Florastrasse\, 8590 Romanshorn\n
LOCATION:Florastrasse\, 8590 Romanshorn
CATEGORIES:Saison 2025/26
END:VEVENT
BEGIN:VEVENT
DTSTAMP:20260424T135917Z
DTSTART;TZID=Europe/Berlin:20251103T201500
DTEND;TZID=Europe/Berlin:20251103T231500
SUMMARY:DA 1. Liga Gr. 1 Romanshorn vs Wetzikon II (0)
UID:91c4f386-621f-4358-b41b-7b59f1bb296e
STATUS:CONFIRMED
LAST-MODIFIED:20251107T145622Z
DESCRIPTION:1. Liga Damen Gruppe 1\nBegegnungs-Nr: 0\nHeim: Romanshorn\nGast: Wetzikon II\n\nAdresse: Florastrasse\, 8590 Romanshorn\n
LOCATION:Florastrasse\, 8590 Romanshorn
CATEGORIES:Saison 2025/26
END:VEVENT
BEGIN:VEVENT
DTSTAMP:20260424T135917Z
DTSTART;TZID=Europe/Berlin:20251201T201500
DTEND;TZID=Europe/Berlin:20251201T231500
SUMMARY:DA 1. Liga Gr. 1 Romanshorn vs Wädenswil II (0)
UID:d7e6e65a-ebfe-4240-9ab2-1cc0a8a8c4fb
STATUS:CONFIRMED
LAST-MODIFIED:20251205T131337Z
DESCRIPTION:1. Liga Damen Gruppe 1\nBegegnungs-Nr: 0\nHeim: Romanshorn\nGast: Wädenswil II\n\nAdresse: Florastrasse\, 8590 Romanshorn\n
LOCATION:Florastrasse\, 8590 Romanshorn
CATEGORIES:Saison 2025/26
END:VEVENT
BEGIN:VEVENT
DTSTAMP:20260424T135917Z
DTSTART;TZID=Europe/Berlin:20250915T201500
DTEND;TZID=Europe/Berlin:20250915T231500
SUMMARY:DA 1. Liga Gr. 1 Romanshorn vs Uster III (0)
UID:62cbd98a-8a64-46fd-93ff-a14ac4cc5c82
STATUS:CONFIRMED
LAST-MODIFIED:20250916T092728Z
DESCRIPTION:1. Liga Damen Gruppe 1\nBegegnungs-Nr: 0\nHeim: Romanshorn\nGast: Uster III\n\nAdresse: Florastrasse\, 8590 Romanshorn\n
LOCATION:Florastrasse\, 8590 Romanshorn
CATEGORIES:Saison 2025/26
END:VEVENT
BEGIN:VEVENT
DTSTAMP:20260424T135917Z
DTSTART;TZID=Europe/Berlin:20260130T201500
DTEND;TZID=Europe/Berlin:20260130T231500
SUMMARY:DA 1. Liga Gr. 1 Uster III vs Romanshorn (0)
UID:12fc52a4-acc4-45e8-8bed-ca1902c37a50
STATUS:CONFIRMED
LAST-MODIFIED:20260203T142934Z
DESCRIPTION:1. Liga Damen Gruppe 1\nBegegnungs-Nr: 0\nHeim: Uster III\nGast: Romanshorn\n\nAdresse: Wilstrasse 30 / Zürcherstrasse\, 8610 Uster\n
LOCATION:Wilstrasse 30 / Zürcherstrasse\, 8610 Uster
CATEGORIES:Saison 2025/26
END:VEVENT
BEGIN:VEVENT
DTSTAMP:20260424T135917Z
DTSTART;TZID=Europe/Berlin:20260309T194500
DTEND;TZID=Europe/Berlin:20260309T224500
SUMMARY:DA 1. Liga Gr. 1 Wetzikon II vs Romanshorn (0)
UID:80d00e0f-6c51-4eba-ae74-b08f8a3fe45b
STATUS:CONFIRMED
LAST-MODIFIED:20260313T132959Z
DESCRIPTION:1. Liga Damen Gruppe 1\nBegegnungs-Nr: 0\nHeim: Wetzikon II\nGast: Romanshorn\n\nAdresse: Usterstrasse 37\, 8620 Wetzikon\n
LOCATION:Usterstrasse 37\, 8620 Wetzikon
CATEGORIES:Saison 2025/26
END:VEVENT
BEGIN:VEVENT
DTSTAMP:20260424T135917Z
DTSTART;TZID=Europe/Berlin:20260409T200000
DTEND;TZID=Europe/Berlin:20260409T230000
SUMMARY:DA 1. Liga Gr. 1 Wädenswil II vs Romanshorn (0)
UID:42735948-7bbc-42fb-acd7-6e4f3483a746
STATUS:CONFIRMED
LAST-MODIFIED:20260416T104311Z
DESCRIPTION:1. Liga Damen Gruppe 1\nBegegnungs-Nr: 0\nHeim: Wädenswil II\nGast: Romanshorn\n\nAdresse: Speerstrasse 95\, 8820 Wädenswil\n
LOCATION:Speerstrasse 95\, 8820 Wädenswil
CATEGORIES:Saison 2025/26
END:VEVENT
BEGIN:VEVENT
DTSTAMP:20260424T135917Z
DTSTART;TZID=Europe/Berlin:20250903T200000
DTEND;TZID=Europe/Berlin:20250903T230000
SUMMARY:DA 1. Liga Gr. 1 Horgen vs Romanshorn (0)
UID:6089d9a8-88bc-49f1-8fe0-63999bbd1ed4
STATUS:CONFIRMED
LAST-MODIFIED:20250905T124738Z
DESCRIPTION:1. Liga Damen Gruppe 1\nBegegnungs-Nr: 0\nHeim: Horgen\nGast: Romanshorn\n\nAdresse: Seestrasse 110\, 8810 Horgen\n
LOCATION:Seestrasse 110\, 8810 Horgen
CATEGORIES:Saison 2025/26
END:VEVENT
BEGIN:VEVENT
DTSTAMP:20260424T135917Z
DTSTART;TZID=Europe/Berlin:20251030T201500
DTEND;TZID=Europe/Berlin:20251030T231500
SUMMARY:DA 1. Liga Gr. 1 Zürich-Affoltern II vs Romanshorn (0)
UID:3d228d6e-7d2e-4468-b31c-0d96016fbffc
STATUS:CONFIRMED
LAST-MODIFIED:20251031T144732Z
DESCRIPTION:1. Liga Damen Gruppe 1\nBegegnungs-Nr: 0\nHeim: Zürich-Affoltern II\nGast: Romanshorn\n\nAdresse: Rümlangstr. 89\, 8052 Zürich\n
LOCATION:Rümlangstr. 89\, 8052 Zürich
CATEGORIES:Saison 2025/26
END:VEVENT
END:VCALENDAR
