BEGIN:VCALENDAR
PRODID:-//nuDatenautomaten//framework iCal4j //DE
VERSION:2.0
CALSCALE:GREGORIAN
BEGIN:VTIMEZONE
TZID:Europe/Berlin
LAST-MODIFIED:20260306T231828Z
TZURL:https://www.tzurl.org/zoneinfo/Europe/Berlin
X-LIC-LOCATION:Europe/Berlin
X-PROLEPTIC-TZNAME:LMT
BEGIN:STANDARD
TZNAME:CET
TZOFFSETFROM:+005328
TZOFFSETTO:+0100
DTSTART:18930401T000000
END:STANDARD
BEGIN:DAYLIGHT
TZNAME:CEST
TZOFFSETFROM:+0100
TZOFFSETTO:+0200
DTSTART:19160430T230000
RDATE:19400401T020000
RDATE:19430329T020000
RDATE:19460414T020000
RDATE:19470406T030000
RDATE:19480418T020000
RDATE:19490410T020000
RDATE:19800406T020000
END:DAYLIGHT
BEGIN:STANDARD
TZNAME:CET
TZOFFSETFROM:+0200
TZOFFSETTO:+0100
DTSTART:19161001T010000
RDATE:19421102T030000
RDATE:19431004T030000
RDATE:19441002T030000
RDATE:19451118T030000
RDATE:19461007T030000
END:STANDARD
BEGIN:DAYLIGHT
TZNAME:CEST
TZOFFSETFROM:+0100
TZOFFSETTO:+0200
DTSTART:19170416T020000
RRULE:FREQ=YEARLY;UNTIL=19180415T010000Z;BYMONTH=4;BYDAY=3MO
END:DAYLIGHT
BEGIN:STANDARD
TZNAME:CET
TZOFFSETFROM:+0200
TZOFFSETTO:+0100
DTSTART:19170917T030000
RRULE:FREQ=YEARLY;UNTIL=19180916T010000Z;BYMONTH=9;BYDAY=3MO
END:STANDARD
BEGIN:DAYLIGHT
TZNAME:CEST
TZOFFSETFROM:+0100
TZOFFSETTO:+0200
DTSTART:19440403T020000
RRULE:FREQ=YEARLY;UNTIL=19450402T010000Z;BYMONTH=4;BYDAY=1MO
END:DAYLIGHT
BEGIN:DAYLIGHT
TZNAME:CEMT
TZOFFSETFROM:+0200
TZOFFSETTO:+0300
DTSTART:19450524T020000
RDATE:19470511T030000
END:DAYLIGHT
BEGIN:DAYLIGHT
TZNAME:CEST
TZOFFSETFROM:+0300
TZOFFSETTO:+0200
DTSTART:19450924T030000
RDATE:19470629T030000
END:DAYLIGHT
BEGIN:STANDARD
TZNAME:CET
TZOFFSETFROM:+0100
TZOFFSETTO:+0100
DTSTART:19460101T000000
RDATE:19800101T000000
END:STANDARD
BEGIN:STANDARD
TZNAME:CET
TZOFFSETFROM:+0200
TZOFFSETTO:+0100
DTSTART:19471005T030000
RRULE:FREQ=YEARLY;UNTIL=19491002T010000Z;BYMONTH=10;BYDAY=1SU
END:STANDARD
BEGIN:STANDARD
TZNAME:CET
TZOFFSETFROM:+0200
TZOFFSETTO:+0100
DTSTART:19800928T030000
RRULE:FREQ=YEARLY;UNTIL=19950924T010000Z;BYMONTH=9;BYDAY=-1SU
END:STANDARD
BEGIN:DAYLIGHT
TZNAME:CEST
TZOFFSETFROM:+0100
TZOFFSETTO:+0200
DTSTART:19810329T020000
RRULE:FREQ=YEARLY;BYMONTH=3;BYDAY=-1SU
END:DAYLIGHT
BEGIN:STANDARD
TZNAME:CET
TZOFFSETFROM:+0200
TZOFFSETTO:+0100
DTSTART:19961027T030000
RRULE:FREQ=YEARLY;BYMONTH=10;BYDAY=-1SU
END:STANDARD
END:VTIMEZONE
BEGIN:VEVENT
DTSTAMP:20260424T084017Z
DTSTART;TZID=Europe/Berlin:20251107T194500
DTEND;TZID=Europe/Berlin:20251107T224500
SUMMARY:HE 3. Liga Gr. 1 Ostermundigen V vs bls Spiez (9)
UID:46936b62-05b5-479a-b8eb-4b02cfeb0f74
STATUS:CONFIRMED
LAST-MODIFIED:20251115T171519Z
DESCRIPTION:3. Liga Herren Gruppe 1\nBegegnungs-Nr: 9\nHeim: Ostermundigen V\nGast: bls Spiez\n\nAdresse: Dennigkofenweg 169\, 3072 Ostermundigen\n
LOCATION:Dennigkofenweg 169\, 3072 Ostermundigen
CATEGORIES:Saison 2025/26
END:VEVENT
BEGIN:VEVENT
DTSTAMP:20260424T084017Z
DTSTART;TZID=Europe/Berlin:20251212T194500
DTEND;TZID=Europe/Berlin:20251212T224500
SUMMARY:HE 3. Liga Gr. 1 Ostermundigen V vs Bern V (25)
UID:b00ec9e2-9fa8-4aef-bec8-8d731b527bd3
STATUS:CONFIRMED
LAST-MODIFIED:20251216T120321Z
DESCRIPTION:3. Liga Herren Gruppe 1\nBegegnungs-Nr: 25\nHeim: Ostermundigen V\nGast: Bern V\n\nAdresse: Dennigkofenweg 169\, 3072 Ostermundigen\n
LOCATION:Dennigkofenweg 169\, 3072 Ostermundigen
CATEGORIES:Saison 2025/26
END:VEVENT
BEGIN:VEVENT
DTSTAMP:20260424T084017Z
DTSTART;TZID=Europe/Berlin:20250926T194500
DTEND;TZID=Europe/Berlin:20250926T224500
SUMMARY:HE 3. Liga Gr. 1 Ostermundigen V vs Royal Bern II (1)
UID:20ab5351-0d25-4fdd-85fd-e39592ccc1d6
STATUS:CONFIRMED
LAST-MODIFIED:20251003T173112Z
DESCRIPTION:3. Liga Herren Gruppe 1\nBegegnungs-Nr: 1\nHeim: Ostermundigen V\nGast: Royal Bern II\n\nAdresse: Dennigkofenweg 169\, 3072 Ostermundigen\n
LOCATION:Dennigkofenweg 169\, 3072 Ostermundigen
CATEGORIES:Saison 2025/26
END:VEVENT
BEGIN:VEVENT
DTSTAMP:20260424T084017Z
DTSTART;TZID=Europe/Berlin:20251114T194500
DTEND;TZID=Europe/Berlin:20251114T224500
SUMMARY:HE 3. Liga Gr. 1 Ostermundigen V vs Heimberg IV (17)
UID:3539fd0b-e58e-445e-a33d-68b4168c6cbc
STATUS:CONFIRMED
LAST-MODIFIED:20251115T171547Z
DESCRIPTION:3. Liga Herren Gruppe 1\nBegegnungs-Nr: 17\nHeim: Ostermundigen V\nGast: Heimberg IV\n\nAdresse: Dennigkofenweg 169\, 3072 Ostermundigen\n
LOCATION:Dennigkofenweg 169\, 3072 Ostermundigen
CATEGORIES:Saison 2025/26
END:VEVENT
BEGIN:VEVENT
DTSTAMP:20260424T084017Z
DTSTART;TZID=Europe/Berlin:20260313T194500
DTEND;TZID=Europe/Berlin:20260313T224500
SUMMARY:HE 3. Liga Gr. 1 Ostermundigen V vs Belp II (21)
UID:8a3e9c91-94cd-4b8a-9e4f-bbee78b32ba4
STATUS:CONFIRMED
LAST-MODIFIED:20260315T225856Z
DESCRIPTION:3. Liga Herren Gruppe 1\nBegegnungs-Nr: 21\nHeim: Ostermundigen V\nGast: Belp II\n\nAdresse: Dennigkofenweg 169\, 3072 Ostermundigen\n
LOCATION:Dennigkofenweg 169\, 3072 Ostermundigen
CATEGORIES:Saison 2025/26
END:VEVENT
BEGIN:VEVENT
DTSTAMP:20260424T084017Z
DTSTART;TZID=Europe/Berlin:20260127T193000
DTEND;TZID=Europe/Berlin:20260127T223000
SUMMARY:HE 3. Liga Gr. 1 Ostermundigen V vs Münsingen (13)
UID:425a6bad-b82b-47eb-b8e9-a1121b5f7d48
STATUS:CONFIRMED
LAST-MODIFIED:20260217T212647Z
DESCRIPTION:3. Liga Herren Gruppe 1\nBegegnungs-Nr: 13\nHeim: Ostermundigen V\nGast: Münsingen\n\nAdresse: Dennigkofenweg 169\, 3072 Ostermundigen\n
LOCATION:Dennigkofenweg 169\, 3072 Ostermundigen
CATEGORIES:Saison 2025/26
END:VEVENT
BEGIN:VEVENT
DTSTAMP:20260424T084017Z
DTSTART;TZID=Europe/Berlin:20260130T194500
DTEND;TZID=Europe/Berlin:20260130T224500
SUMMARY:HE 3. Liga Gr. 1 Ostermundigen V vs Interlaken (5)
UID:54e1fca1-830a-4c46-8571-3dbba0f2d077
STATUS:CONFIRMED
LAST-MODIFIED:20260217T212716Z
DESCRIPTION:3. Liga Herren Gruppe 1\nBegegnungs-Nr: 5\nHeim: Ostermundigen V\nGast: Interlaken\n\nAdresse: Dennigkofenweg 169\, 3072 Ostermundigen\n
LOCATION:Dennigkofenweg 169\, 3072 Ostermundigen
CATEGORIES:Saison 2025/26
END:VEVENT
BEGIN:VEVENT
DTSTAMP:20260424T084017Z
DTSTART;TZID=Europe/Berlin:20260531T000000
DTEND;TZID=Europe/Berlin:20260531T030000
SUMMARY:HE 3. Liga Final Ostermundigen V vs Brügg (6)
UID:02f541d8-2fcc-40f9-9db3-789db28d9518
STATUS:CONFIRMED
DESCRIPTION:3. Liga Herren Final\nBegegnungs-Nr: 6\nHeim: Ostermundigen V\nGast: Brügg\n
LOCATION:
CATEGORIES:Saison 2025/26
END:VEVENT
BEGIN:VEVENT
DTSTAMP:20260424T084017Z
DTSTART;TZID=Europe/Berlin:20260515T000000
DTEND;TZID=Europe/Berlin:20260515T030000
SUMMARY:HE 3. Liga Final Ostermundigen V vs Aarberg II (3)
UID:6872c9ed-3d5b-4b4b-8e58-fa7d7d77296d
STATUS:CONFIRMED
DESCRIPTION:3. Liga Herren Final\nBegegnungs-Nr: 3\nHeim: Ostermundigen V\nGast: Aarberg II\n
LOCATION:
CATEGORIES:Saison 2025/26
END:VEVENT
BEGIN:VEVENT
DTSTAMP:20260424T084017Z
DTSTART;TZID=Europe/Berlin:20250905T200000
DTEND;TZID=Europe/Berlin:20250905T230000
SUMMARY:HE 3. Liga Gr. 1 Interlaken vs Ostermundigen V (5)
UID:78472eac-9120-4e40-97c5-b3a66db8cb54
STATUS:CONFIRMED
LAST-MODIFIED:20250907T200147Z
DESCRIPTION:3. Liga Herren Gruppe 1\nBegegnungs-Nr: 5\nHeim: Interlaken\nGast: Ostermundigen V\n\nAdresse: Burgweg 239R\, 3852 Ringgenberg\n
LOCATION:Burgweg 239R\, 3852 Ringgenberg
CATEGORIES:Saison 2025/26
END:VEVENT
BEGIN:VEVENT
DTSTAMP:20260424T084017Z
DTSTART;TZID=Europe/Berlin:20251205T193000
DTEND;TZID=Europe/Berlin:20251205T223000
SUMMARY:HE 3. Liga Gr. 1 Belp II vs Ostermundigen V (21)
UID:e433a1eb-078a-4c34-8a0c-5f65f4fdc7d3
STATUS:CONFIRMED
LAST-MODIFIED:20251206T233451Z
DESCRIPTION:3. Liga Herren Gruppe 1\nBegegnungs-Nr: 21\nHeim: Belp II\nGast: Ostermundigen V\n\nAdresse: Neumattstrasse 39\, 3123 Belp\n
LOCATION:Neumattstrasse 39\, 3123 Belp
CATEGORIES:Saison 2025/26
END:VEVENT
BEGIN:VEVENT
DTSTAMP:20260424T084017Z
DTSTART;TZID=Europe/Berlin:20251027T193000
DTEND;TZID=Europe/Berlin:20251027T223000
SUMMARY:HE 3. Liga Gr. 1 Münsingen vs Ostermundigen V (13)
UID:8f1d7fb5-1f6e-47be-8659-fca9b6314d2f
STATUS:CONFIRMED
LAST-MODIFIED:20251029T220753Z
DESCRIPTION:3. Liga Herren Gruppe 1\nBegegnungs-Nr: 13\nHeim: Münsingen\nGast: Ostermundigen V\n\nAdresse: Turnhallenweg 8\, 3110 Münsingen\n
LOCATION:Turnhallenweg 8\, 3110 Münsingen
CATEGORIES:Saison 2025/26
END:VEVENT
BEGIN:VEVENT
DTSTAMP:20260424T084017Z
DTSTART;TZID=Europe/Berlin:20260326T200000
DTEND;TZID=Europe/Berlin:20260326T230000
SUMMARY:HE 3. Liga Gr. 1 Bern V vs Ostermundigen V (25)
UID:9f652f1a-af29-417c-a77f-65831a61b36e
STATUS:CONFIRMED
LAST-MODIFIED:20260409T123519Z
DESCRIPTION:3. Liga Herren Gruppe 1\nBegegnungs-Nr: 25\nHeim: Bern V\nGast: Ostermundigen V\n\nAdresse: Mädergutstrasse 58\, 3018 Bern\n
LOCATION:Mädergutstrasse 58\, 3018 Bern
CATEGORIES:Saison 2025/26
END:VEVENT
BEGIN:VEVENT
DTSTAMP:20260424T084017Z
DTSTART;TZID=Europe/Berlin:20260307T170000
DTEND;TZID=Europe/Berlin:20260307T200000
SUMMARY:HE 3. Liga Gr. 1 Heimberg IV vs Ostermundigen V (17)
UID:2f74da19-daa2-4508-bef8-ae14dba86b50
STATUS:CONFIRMED
LAST-MODIFIED:20260308T173644Z
DESCRIPTION:3. Liga Herren Gruppe 1\nBegegnungs-Nr: 17\nHeim: Heimberg IV\nGast: Ostermundigen V\n\nAdresse: Niesenstrasse 38\, 3627 Heimberg\n
LOCATION:Niesenstrasse 38\, 3627 Heimberg
CATEGORIES:Saison 2025/26
END:VEVENT
BEGIN:VEVENT
DTSTAMP:20260424T084017Z
DTSTART;TZID=Europe/Berlin:20260112T194500
DTEND;TZID=Europe/Berlin:20260112T224500
SUMMARY:HE 3. Liga Gr. 1 Royal Bern II vs Ostermundigen V (1)
UID:42e375b7-8d56-4ae4-9e02-1e6c083a6c87
STATUS:CONFIRMED
LAST-MODIFIED:20260125T000356Z
DESCRIPTION:3. Liga Herren Gruppe 1\nBegegnungs-Nr: 1\nHeim: Royal Bern II\nGast: Ostermundigen V\n\nAdresse: Dändlikerweg 60\, 3014 Bern\n
LOCATION:Dändlikerweg 60\, 3014 Bern
CATEGORIES:Saison 2025/26
END:VEVENT
BEGIN:VEVENT
DTSTAMP:20260424T084017Z
DTSTART;TZID=Europe/Berlin:20260203T194500
DTEND;TZID=Europe/Berlin:20260203T224500
SUMMARY:HE 3. Liga Gr. 1 bls Spiez vs Ostermundigen V (9)
UID:fc6d1a6d-6679-41b1-a1d7-1ba7bcced44c
STATUS:CONFIRMED
LAST-MODIFIED:20260217T212759Z
DESCRIPTION:3. Liga Herren Gruppe 1\nBegegnungs-Nr: 9\nHeim: bls Spiez\nGast: Ostermundigen V\n\nAdresse: Hofachernweg 19 / Oberlandstr. 89\, 3700 Spiez\n
LOCATION:Hofachernweg 19 / Oberlandstr. 89\, 3700 Spiez
CATEGORIES:Saison 2025/26
END:VEVENT
BEGIN:VEVENT
DTSTAMP:20260424T084017Z
DTSTART;TZID=Europe/Berlin:20260501T000000
DTEND;TZID=Europe/Berlin:20260501T030000
SUMMARY:HE 3. Liga Final Lyss vs Ostermundigen V (2)
UID:f20c2ed0-98ee-4a7f-90b1-042f4810ddca
STATUS:CONFIRMED
DESCRIPTION:3. Liga Herren Final\nBegegnungs-Nr: 2\nHeim: Lyss\nGast: Ostermundigen V\n
LOCATION:
CATEGORIES:Saison 2025/26
END:VEVENT
END:VCALENDAR
