BEGIN:VCALENDAR
PRODID:-//nuDatenautomaten//framework iCal4j //DE
VERSION:2.0
CALSCALE:GREGORIAN
BEGIN:VTIMEZONE
TZID:Europe/Berlin
LAST-MODIFIED:20260306T231828Z
TZURL:https://www.tzurl.org/zoneinfo/Europe/Berlin
X-LIC-LOCATION:Europe/Berlin
X-PROLEPTIC-TZNAME:LMT
BEGIN:STANDARD
TZNAME:CET
TZOFFSETFROM:+005328
TZOFFSETTO:+0100
DTSTART:18930401T000000
END:STANDARD
BEGIN:DAYLIGHT
TZNAME:CEST
TZOFFSETFROM:+0100
TZOFFSETTO:+0200
DTSTART:19160430T230000
RDATE:19400401T020000
RDATE:19430329T020000
RDATE:19460414T020000
RDATE:19470406T030000
RDATE:19480418T020000
RDATE:19490410T020000
RDATE:19800406T020000
END:DAYLIGHT
BEGIN:STANDARD
TZNAME:CET
TZOFFSETFROM:+0200
TZOFFSETTO:+0100
DTSTART:19161001T010000
RDATE:19421102T030000
RDATE:19431004T030000
RDATE:19441002T030000
RDATE:19451118T030000
RDATE:19461007T030000
END:STANDARD
BEGIN:DAYLIGHT
TZNAME:CEST
TZOFFSETFROM:+0100
TZOFFSETTO:+0200
DTSTART:19170416T020000
RRULE:FREQ=YEARLY;UNTIL=19180415T010000Z;BYMONTH=4;BYDAY=3MO
END:DAYLIGHT
BEGIN:STANDARD
TZNAME:CET
TZOFFSETFROM:+0200
TZOFFSETTO:+0100
DTSTART:19170917T030000
RRULE:FREQ=YEARLY;UNTIL=19180916T010000Z;BYMONTH=9;BYDAY=3MO
END:STANDARD
BEGIN:DAYLIGHT
TZNAME:CEST
TZOFFSETFROM:+0100
TZOFFSETTO:+0200
DTSTART:19440403T020000
RRULE:FREQ=YEARLY;UNTIL=19450402T010000Z;BYMONTH=4;BYDAY=1MO
END:DAYLIGHT
BEGIN:DAYLIGHT
TZNAME:CEMT
TZOFFSETFROM:+0200
TZOFFSETTO:+0300
DTSTART:19450524T020000
RDATE:19470511T030000
END:DAYLIGHT
BEGIN:DAYLIGHT
TZNAME:CEST
TZOFFSETFROM:+0300
TZOFFSETTO:+0200
DTSTART:19450924T030000
RDATE:19470629T030000
END:DAYLIGHT
BEGIN:STANDARD
TZNAME:CET
TZOFFSETFROM:+0100
TZOFFSETTO:+0100
DTSTART:19460101T000000
RDATE:19800101T000000
END:STANDARD
BEGIN:STANDARD
TZNAME:CET
TZOFFSETFROM:+0200
TZOFFSETTO:+0100
DTSTART:19471005T030000
RRULE:FREQ=YEARLY;UNTIL=19491002T010000Z;BYMONTH=10;BYDAY=1SU
END:STANDARD
BEGIN:STANDARD
TZNAME:CET
TZOFFSETFROM:+0200
TZOFFSETTO:+0100
DTSTART:19800928T030000
RRULE:FREQ=YEARLY;UNTIL=19950924T010000Z;BYMONTH=9;BYDAY=-1SU
END:STANDARD
BEGIN:DAYLIGHT
TZNAME:CEST
TZOFFSETFROM:+0100
TZOFFSETTO:+0200
DTSTART:19810329T020000
RRULE:FREQ=YEARLY;BYMONTH=3;BYDAY=-1SU
END:DAYLIGHT
BEGIN:STANDARD
TZNAME:CET
TZOFFSETFROM:+0200
TZOFFSETTO:+0100
DTSTART:19961027T030000
RRULE:FREQ=YEARLY;BYMONTH=10;BYDAY=-1SU
END:STANDARD
END:VTIMEZONE
BEGIN:VEVENT
DTSTAMP:20260424T043440Z
DTSTART;TZID=Europe/Berlin:20250906T150000
DTEND;TZID=Europe/Berlin:20250906T180000
SUMMARY:J L1 Gr1\, Tours 1&2 Rolle vs Gland II (3)
UID:14b17736-b4c0-4db3-a352-af39bf2b693e
STATUS:CONFIRMED
LAST-MODIFIED:20250907T174239Z
DESCRIPTION:1ère ligue Jeunesse Groupe 1\, Tours 1&2\nBegegnungs-Nr: 3\nHeim: Rolle\nGast: Gland II\n\nAdresse: Route des Quatre-Communes 7\, 1180 Rolle\n
LOCATION:Route des Quatre-Communes 7\, 1180 Rolle
CATEGORIES:Saison 2025/26
END:VEVENT
BEGIN:VEVENT
DTSTAMP:20260424T043440Z
DTSTART;TZID=Europe/Berlin:20251122T130000
DTEND;TZID=Europe/Berlin:20251122T160000
SUMMARY:J L1 Gr1\, Tours 1&2 Rolle vs Lausanne (12)
UID:bf953a50-c475-4b18-a006-1659db5f36aa
STATUS:CONFIRMED
LAST-MODIFIED:20251123T123115Z
DESCRIPTION:1ère ligue Jeunesse Groupe 1\, Tours 1&2\nBegegnungs-Nr: 12\nHeim: Rolle\nGast: Lausanne\n\nAdresse: Route des Quatre-Communes 7\, 1180 Rolle\n
LOCATION:Route des Quatre-Communes 7\, 1180 Rolle
CATEGORIES:Saison 2025/26
END:VEVENT
BEGIN:VEVENT
DTSTAMP:20260424T043440Z
DTSTART;TZID=Europe/Berlin:20250906T100000
DTEND;TZID=Europe/Berlin:20250906T130000
SUMMARY:J L1 Gr1\, Tours 1&2 Rolle vs Collombey/Muraz (1)
UID:f6d5876b-ccce-460b-833a-4c37d68dfc1c
STATUS:CONFIRMED
LAST-MODIFIED:20250907T174228Z
DESCRIPTION:1ère ligue Jeunesse Groupe 1\, Tours 1&2\nBegegnungs-Nr: 1\nHeim: Rolle\nGast: Collombey/Muraz\n\nAdresse: Route des Quatre-Communes 7\, 1180 Rolle\n
LOCATION:Route des Quatre-Communes 7\, 1180 Rolle
CATEGORIES:Saison 2025/26
END:VEVENT
BEGIN:VEVENT
DTSTAMP:20260424T043440Z
DTSTART;TZID=Europe/Berlin:20260425T090000
DTEND;TZID=Europe/Berlin:20260425T120000
SUMMARY:J Finales\, Tour 5.1 Rolle vs Gland II (18)
UID:aa63cee5-8008-4c8f-a804-46e4504d56bc
STATUS:CONFIRMED
LAST-MODIFIED:20260324T143525Z
DESCRIPTION:Tour final Jeunesse - Tour 5 (1)\nBegegnungs-Nr: 18\nHeim: Rolle\nGast: Gland II\n
LOCATION:
CATEGORIES:Saison 2025/26
END:VEVENT
BEGIN:VEVENT
DTSTAMP:20260424T043440Z
DTSTART;TZID=Europe/Berlin:20260117T100000
DTEND;TZID=Europe/Berlin:20260117T130000
SUMMARY:J L1 Gr2\, Tours 3&4 Rolle vs Fribourg (2)
UID:7cf94f3b-6019-4ef6-837d-44ce1570fc73
STATUS:CONFIRMED
LAST-MODIFIED:20260118T114807Z
DESCRIPTION:1ère ligue Jeunesse Groupe 2\, Tours 3&4\nBegegnungs-Nr: 2\nHeim: Rolle\nGast: Fribourg\n\nAdresse: Route des Quatre-Communes 7\, 1180 Rolle\n
LOCATION:Route des Quatre-Communes 7\, 1180 Rolle
CATEGORIES:Saison 2025/26
END:VEVENT
BEGIN:VEVENT
DTSTAMP:20260424T043440Z
DTSTART;TZID=Europe/Berlin:20260117T130000
DTEND;TZID=Europe/Berlin:20260117T160000
SUMMARY:J L1 Gr2\, Tours 3&4 Rolle vs Gland (4)
UID:e1eb1a6a-5d76-418f-ad07-9c8b1bc4a419
STATUS:CONFIRMED
LAST-MODIFIED:20260118T114828Z
DESCRIPTION:1ère ligue Jeunesse Groupe 2\, Tours 3&4\nBegegnungs-Nr: 4\nHeim: Rolle\nGast: Gland\n\nAdresse: Route des Quatre-Communes 7\, 1180 Rolle\n
LOCATION:Route des Quatre-Communes 7\, 1180 Rolle
CATEGORIES:Saison 2025/26
END:VEVENT
BEGIN:VEVENT
DTSTAMP:20260424T043440Z
DTSTART;TZID=Europe/Berlin:20260228T150000
DTEND;TZID=Europe/Berlin:20260228T180000
SUMMARY:J L1 Gr2\, Tours 3&4 Rolle vs Lausanne III (12)
UID:0d732203-0c4a-4743-8e91-71ce4e1468b8
STATUS:CONFIRMED
LAST-MODIFIED:20260302T101426Z
DESCRIPTION:1ère ligue Jeunesse Groupe 2\, Tours 3&4\nBegegnungs-Nr: 12\nHeim: Rolle\nGast: Lausanne III\n\nAdresse: Route des Quatre-Communes 7\, 1180 Rolle\n
LOCATION:Route des Quatre-Communes 7\, 1180 Rolle
CATEGORIES:Saison 2025/26
END:VEVENT
BEGIN:VEVENT
DTSTAMP:20260424T043440Z
DTSTART;TZID=Europe/Berlin:20260425T090000
DTEND;TZID=Europe/Berlin:20260425T120000
SUMMARY:Test Rolle vs Gland II (18)
UID:4ac6a5b7-907e-4071-bc39-55fe05b1878b
STATUS:CONFIRMED
LAST-MODIFIED:20260324T143525Z
DESCRIPTION:Test\nBegegnungs-Nr: 18\nHeim: Rolle\nGast: Gland II\n
LOCATION:
CATEGORIES:Saison 2025/26
END:VEVENT
BEGIN:VEVENT
DTSTAMP:20260424T043440Z
DTSTART;TZID=Europe/Berlin:20250906T130000
DTEND;TZID=Europe/Berlin:20250906T160000
SUMMARY:J L1 Gr1\, Tours 1&2 Lausanne vs Rolle (6)
UID:0c499702-7f80-4a1e-bbd5-ce893b3666e9
STATUS:CONFIRMED
LAST-MODIFIED:20250906T192246Z
DESCRIPTION:1ère ligue Jeunesse Groupe 1\, Tours 1&2\nBegegnungs-Nr: 6\nHeim: Lausanne\nGast: Rolle\n\nAdresse: Vaudoise Aréna\, Ch. du Viaduc 14\, 1008 Prilly\n
LOCATION:Vaudoise Aréna\, Ch. du Viaduc 14\, 1008 Prilly
CATEGORIES:Saison 2025/26
END:VEVENT
BEGIN:VEVENT
DTSTAMP:20260424T043440Z
DTSTART;TZID=Europe/Berlin:20251122T150000
DTEND;TZID=Europe/Berlin:20251122T180000
SUMMARY:J L1 Gr1\, Tours 1&2 Gland II vs Rolle (9)
UID:3006b1b4-9335-4d0c-b45e-03d73b15eb89
STATUS:CONFIRMED
LAST-MODIFIED:20251123T123124Z
DESCRIPTION:1ère ligue Jeunesse Groupe 1\, Tours 1&2\nBegegnungs-Nr: 9\nHeim: Gland II\nGast: Rolle\n\nAdresse: Chemin de la Perroude 1\, 1196 Gland\n
LOCATION:Chemin de la Perroude 1\, 1196 Gland
CATEGORIES:Saison 2025/26
END:VEVENT
BEGIN:VEVENT
DTSTAMP:20260424T043440Z
DTSTART;TZID=Europe/Berlin:20251122T100000
DTEND;TZID=Europe/Berlin:20251122T130000
SUMMARY:J L1 Gr1\, Tours 1&2 Collombey/Muraz vs Rolle (7)
UID:bfd18abb-d765-425a-b84b-663ce3eea1d8
STATUS:CONFIRMED
LAST-MODIFIED:20251123T123033Z
DESCRIPTION:1ère ligue Jeunesse Groupe 1\, Tours 1&2\nBegegnungs-Nr: 7\nHeim: Collombey/Muraz\nGast: Rolle\n\nAdresse: Route du Montagnier 81\, 1868 Collombey\n
LOCATION:Route du Montagnier 81\, 1868 Collombey
CATEGORIES:Saison 2025/26
END:VEVENT
BEGIN:VEVENT
DTSTAMP:20260424T043440Z
DTSTART;TZID=Europe/Berlin:20260117T150000
DTEND;TZID=Europe/Berlin:20260117T180000
SUMMARY:J L1 Gr2\, Tours 3&4 Lausanne III vs Rolle (6)
UID:62be08ef-89aa-48d6-a12c-3c69decc309d
STATUS:CONFIRMED
LAST-MODIFIED:20260118T114859Z
DESCRIPTION:1ère ligue Jeunesse Groupe 2\, Tours 3&4\nBegegnungs-Nr: 6\nHeim: Lausanne III\nGast: Rolle\n\nAdresse: Vaudoise Aréna\, Ch. du Viaduc 14\, 1008 Prilly\n
LOCATION:Vaudoise Aréna\, Ch. du Viaduc 14\, 1008 Prilly
CATEGORIES:Saison 2025/26
END:VEVENT
BEGIN:VEVENT
DTSTAMP:20260424T043440Z
DTSTART;TZID=Europe/Berlin:20260228T100000
DTEND;TZID=Europe/Berlin:20260228T130000
SUMMARY:J L1 Gr2\, Tours 3&4 Fribourg vs Rolle (8)
UID:a10f1b19-c2b3-41e7-bb5a-18d2c0a3fc99
STATUS:CONFIRMED
LAST-MODIFIED:20260301T135349Z
DESCRIPTION:1ère ligue Jeunesse Groupe 2\, Tours 3&4\nBegegnungs-Nr: 8\nHeim: Fribourg\nGast: Rolle\n\nAdresse: Avenue Général Guisan 61\, 1700 Fribourg\n
LOCATION:Avenue Général Guisan 61\, 1700 Fribourg
CATEGORIES:Saison 2025/26
END:VEVENT
BEGIN:VEVENT
DTSTAMP:20260424T043440Z
DTSTART;TZID=Europe/Berlin:20260228T130000
DTEND;TZID=Europe/Berlin:20260228T160000
SUMMARY:J L1 Gr2\, Tours 3&4 Gland vs Rolle (10)
UID:e5415426-16b4-429e-8724-715663cf594d
STATUS:CONFIRMED
LAST-MODIFIED:20260301T135420Z
DESCRIPTION:1ère ligue Jeunesse Groupe 2\, Tours 3&4\nBegegnungs-Nr: 10\nHeim: Gland\nGast: Rolle\n\nAdresse: Chemin de la Perroude 1\, 1196 Gland\n
LOCATION:Chemin de la Perroude 1\, 1196 Gland
CATEGORIES:Saison 2025/26
END:VEVENT
END:VCALENDAR
