BEGIN:VCALENDAR
PRODID:-//nuDatenautomaten//framework iCal4j //DE
VERSION:2.0
CALSCALE:GREGORIAN
BEGIN:VTIMEZONE
TZID:Europe/Berlin
LAST-MODIFIED:20260306T231828Z
TZURL:https://www.tzurl.org/zoneinfo/Europe/Berlin
X-LIC-LOCATION:Europe/Berlin
X-PROLEPTIC-TZNAME:LMT
BEGIN:STANDARD
TZNAME:CET
TZOFFSETFROM:+005328
TZOFFSETTO:+0100
DTSTART:18930401T000000
END:STANDARD
BEGIN:DAYLIGHT
TZNAME:CEST
TZOFFSETFROM:+0100
TZOFFSETTO:+0200
DTSTART:19160430T230000
RDATE:19400401T020000
RDATE:19430329T020000
RDATE:19460414T020000
RDATE:19470406T030000
RDATE:19480418T020000
RDATE:19490410T020000
RDATE:19800406T020000
END:DAYLIGHT
BEGIN:STANDARD
TZNAME:CET
TZOFFSETFROM:+0200
TZOFFSETTO:+0100
DTSTART:19161001T010000
RDATE:19421102T030000
RDATE:19431004T030000
RDATE:19441002T030000
RDATE:19451118T030000
RDATE:19461007T030000
END:STANDARD
BEGIN:DAYLIGHT
TZNAME:CEST
TZOFFSETFROM:+0100
TZOFFSETTO:+0200
DTSTART:19170416T020000
RRULE:FREQ=YEARLY;UNTIL=19180415T010000Z;BYMONTH=4;BYDAY=3MO
END:DAYLIGHT
BEGIN:STANDARD
TZNAME:CET
TZOFFSETFROM:+0200
TZOFFSETTO:+0100
DTSTART:19170917T030000
RRULE:FREQ=YEARLY;UNTIL=19180916T010000Z;BYMONTH=9;BYDAY=3MO
END:STANDARD
BEGIN:DAYLIGHT
TZNAME:CEST
TZOFFSETFROM:+0100
TZOFFSETTO:+0200
DTSTART:19440403T020000
RRULE:FREQ=YEARLY;UNTIL=19450402T010000Z;BYMONTH=4;BYDAY=1MO
END:DAYLIGHT
BEGIN:DAYLIGHT
TZNAME:CEMT
TZOFFSETFROM:+0200
TZOFFSETTO:+0300
DTSTART:19450524T020000
RDATE:19470511T030000
END:DAYLIGHT
BEGIN:DAYLIGHT
TZNAME:CEST
TZOFFSETFROM:+0300
TZOFFSETTO:+0200
DTSTART:19450924T030000
RDATE:19470629T030000
END:DAYLIGHT
BEGIN:STANDARD
TZNAME:CET
TZOFFSETFROM:+0100
TZOFFSETTO:+0100
DTSTART:19460101T000000
RDATE:19800101T000000
END:STANDARD
BEGIN:STANDARD
TZNAME:CET
TZOFFSETFROM:+0200
TZOFFSETTO:+0100
DTSTART:19471005T030000
RRULE:FREQ=YEARLY;UNTIL=19491002T010000Z;BYMONTH=10;BYDAY=1SU
END:STANDARD
BEGIN:STANDARD
TZNAME:CET
TZOFFSETFROM:+0200
TZOFFSETTO:+0100
DTSTART:19800928T030000
RRULE:FREQ=YEARLY;UNTIL=19950924T010000Z;BYMONTH=9;BYDAY=-1SU
END:STANDARD
BEGIN:DAYLIGHT
TZNAME:CEST
TZOFFSETFROM:+0100
TZOFFSETTO:+0200
DTSTART:19810329T020000
RRULE:FREQ=YEARLY;BYMONTH=3;BYDAY=-1SU
END:DAYLIGHT
BEGIN:STANDARD
TZNAME:CET
TZOFFSETFROM:+0200
TZOFFSETTO:+0100
DTSTART:19961027T030000
RRULE:FREQ=YEARLY;BYMONTH=10;BYDAY=-1SU
END:STANDARD
END:VTIMEZONE
BEGIN:VEVENT
DTSTAMP:20260424T151018Z
DTSTART;TZID=Europe/Berlin:20250911T193000
DTEND;TZID=Europe/Berlin:20250911T223000
SUMMARY:ME L6 Gr 7\, Tours 1&2 Fribourg XI vs Avry-Rosé VI (0)
UID:25536f1d-e397-4457-8bdd-b2bf57a04d60
STATUS:CONFIRMED
LAST-MODIFIED:20250913T130146Z
DESCRIPTION:6ème ligue Hommes Groupe 7\, Tours 1&2\nBegegnungs-Nr: 0\nHeim: Fribourg XI\nGast: Avry-Rosé VI\n\nAdresse: Avenue Général Guisan 61\, 1700 Fribourg\n
LOCATION:Avenue Général Guisan 61\, 1700 Fribourg
CATEGORIES:Saison 2025/26
END:VEVENT
BEGIN:VEVENT
DTSTAMP:20260424T151018Z
DTSTART;TZID=Europe/Berlin:20251002T193000
DTEND;TZID=Europe/Berlin:20251002T223000
SUMMARY:ME L6 Gr 7\, Tours 1&2 Fribourg XI vs Marly II (0)
UID:95e7ccce-a270-48d9-8790-ac8786d9c055
STATUS:CONFIRMED
LAST-MODIFIED:20251005T200221Z
DESCRIPTION:6ème ligue Hommes Groupe 7\, Tours 1&2\nBegegnungs-Nr: 0\nHeim: Fribourg XI\nGast: Marly II\n\nAdresse: Avenue Général Guisan 61\, 1700 Fribourg\n
LOCATION:Avenue Général Guisan 61\, 1700 Fribourg
CATEGORIES:Saison 2025/26
END:VEVENT
BEGIN:VEVENT
DTSTAMP:20260424T151018Z
DTSTART;TZID=Europe/Berlin:20251030T193000
DTEND;TZID=Europe/Berlin:20251030T223000
SUMMARY:ME L6 Gr 7\, Tours 1&2 Fribourg XI vs Fribourg IX (0)
UID:7453af48-b27b-4265-b948-c5a0083414b0
STATUS:CONFIRMED
LAST-MODIFIED:20251103T123846Z
DESCRIPTION:6ème ligue Hommes Groupe 7\, Tours 1&2\nBegegnungs-Nr: 0\nHeim: Fribourg XI\nGast: Fribourg IX\n\nAdresse: Avenue Général Guisan 61\, 1700 Fribourg\n
LOCATION:Avenue Général Guisan 61\, 1700 Fribourg
CATEGORIES:Saison 2025/26
END:VEVENT
BEGIN:VEVENT
DTSTAMP:20260424T151018Z
DTSTART;TZID=Europe/Berlin:20251120T193000
DTEND;TZID=Europe/Berlin:20251120T223000
SUMMARY:ME L6 Gr 7\, Tours 1&2 Fribourg XI vs Matran II (0)
UID:f0f63d17-1487-4cad-8048-f70702c96490
STATUS:CONFIRMED
LAST-MODIFIED:20251121T101012Z
DESCRIPTION:6ème ligue Hommes Groupe 7\, Tours 1&2\nBegegnungs-Nr: 0\nHeim: Fribourg XI\nGast: Matran II\n\nAdresse: Avenue Général Guisan 61\, 1700 Fribourg\n
LOCATION:Avenue Général Guisan 61\, 1700 Fribourg
CATEGORIES:Saison 2025/26
END:VEVENT
BEGIN:VEVENT
DTSTAMP:20260424T151018Z
DTSTART;TZID=Europe/Berlin:20251211T193000
DTEND;TZID=Europe/Berlin:20251211T223000
SUMMARY:ME L6 Gr 7\, Tours 1&2 Fribourg XI vs Domdidier III (0)
UID:2fa7991d-79b7-4289-b81a-25b76a29950f
STATUS:CONFIRMED
LAST-MODIFIED:20251213T181435Z
DESCRIPTION:6ème ligue Hommes Groupe 7\, Tours 1&2\nBegegnungs-Nr: 0\nHeim: Fribourg XI\nGast: Domdidier III\n\nAdresse: Avenue Général Guisan 61\, 1700 Fribourg\n
LOCATION:Avenue Général Guisan 61\, 1700 Fribourg
CATEGORIES:Saison 2025/26
END:VEVENT
BEGIN:VEVENT
DTSTAMP:20260424T151018Z
DTSTART;TZID=Europe/Berlin:20260319T193000
DTEND;TZID=Europe/Berlin:20260319T223000
SUMMARY:ME L6 Gr 5\, Tours 3&4 Fribourg XI vs Marly (0)
UID:bffe9f6f-c8b3-453f-b09e-71ad33295cee
STATUS:CONFIRMED
LAST-MODIFIED:20260321T125945Z
DESCRIPTION:6ème ligue Hommes Groupe 5\, Tours 3&4\nBegegnungs-Nr: 0\nHeim: Fribourg XI\nGast: Marly\n\nAdresse: Avenue Général Guisan 61\, 1700 Fribourg\n
LOCATION:Avenue Général Guisan 61\, 1700 Fribourg
CATEGORIES:Saison 2025/26
END:VEVENT
BEGIN:VEVENT
DTSTAMP:20260424T151018Z
DTSTART;TZID=Europe/Berlin:20260326T193000
DTEND;TZID=Europe/Berlin:20260326T223000
SUMMARY:ME L6 Gr 5\, Tours 3&4 Fribourg XI vs Matran III (0)
UID:dac263a4-be04-470a-bbf8-d602e46fd153
STATUS:CONFIRMED
LAST-MODIFIED:20260330T184751Z
DESCRIPTION:6ème ligue Hommes Groupe 5\, Tours 3&4\nBegegnungs-Nr: 0\nHeim: Fribourg XI\nGast: Matran III\n\nAdresse: Avenue Général Guisan 61\, 1700 Fribourg\n
LOCATION:Avenue Général Guisan 61\, 1700 Fribourg
CATEGORIES:Saison 2025/26
END:VEVENT
BEGIN:VEVENT
DTSTAMP:20260424T151018Z
DTSTART;TZID=Europe/Berlin:20260115T193000
DTEND;TZID=Europe/Berlin:20260115T223000
SUMMARY:ME L6 Gr 5\, Tours 3&4 Fribourg XI vs Fribourg X (0)
UID:9dc2272c-e036-491c-bdb4-978d5646be4a
STATUS:CONFIRMED
LAST-MODIFIED:20260116T194315Z
DESCRIPTION:6ème ligue Hommes Groupe 5\, Tours 3&4\nBegegnungs-Nr: 0\nHeim: Fribourg XI\nGast: Fribourg X\n\nAdresse: Avenue Général Guisan 61\, 1700 Fribourg\n
LOCATION:Avenue Général Guisan 61\, 1700 Fribourg
CATEGORIES:Saison 2025/26
END:VEVENT
BEGIN:VEVENT
DTSTAMP:20260424T151018Z
DTSTART;TZID=Europe/Berlin:20260212T193000
DTEND;TZID=Europe/Berlin:20260212T223000
SUMMARY:ME L6 Gr 5\, Tours 3&4 Fribourg XI vs Marly III (0)
UID:18afea32-ce79-43e1-a464-68e961f71c17
STATUS:CONFIRMED
LAST-MODIFIED:20260214T170724Z
DESCRIPTION:6ème ligue Hommes Groupe 5\, Tours 3&4\nBegegnungs-Nr: 0\nHeim: Fribourg XI\nGast: Marly III\n\nAdresse: Avenue Général Guisan 61\, 1700 Fribourg\n
LOCATION:Avenue Général Guisan 61\, 1700 Fribourg
CATEGORIES:Saison 2025/26
END:VEVENT
BEGIN:VEVENT
DTSTAMP:20260424T151018Z
DTSTART;TZID=Europe/Berlin:20260226T193000
DTEND;TZID=Europe/Berlin:20260226T223000
SUMMARY:ME L6 Gr 5\, Tours 3&4 Fribourg XI vs Avry-Rosé VII (0)
UID:2ece6390-e498-4b08-aa9b-9556aa9931f4
STATUS:CONFIRMED
LAST-MODIFIED:20260301T135025Z
DESCRIPTION:6ème ligue Hommes Groupe 5\, Tours 3&4\nBegegnungs-Nr: 0\nHeim: Fribourg XI\nGast: Avry-Rosé VII\n\nAdresse: Avenue Général Guisan 61\, 1700 Fribourg\n
LOCATION:Avenue Général Guisan 61\, 1700 Fribourg
CATEGORIES:Saison 2025/26
END:VEVENT
BEGIN:VEVENT
DTSTAMP:20260424T151018Z
DTSTART;TZID=Europe/Berlin:20250828T193000
DTEND;TZID=Europe/Berlin:20250828T223000
SUMMARY:ME L6 Gr 7\, Tours 1&2 Fribourg IX vs Fribourg XI (0)
UID:61509117-48b3-4bab-9692-51dfb3421be7
STATUS:CONFIRMED
LAST-MODIFIED:20250912T145134Z
DESCRIPTION:6ème ligue Hommes Groupe 7\, Tours 1&2\nBegegnungs-Nr: 0\nHeim: Fribourg IX\nGast: Fribourg XI\n\nAdresse: Route du Centre sportif\, 1752 Villars-sur-Glâne\n
LOCATION:Route du Centre sportif\, 1752 Villars-sur-Glâne
CATEGORIES:Saison 2025/26
END:VEVENT
BEGIN:VEVENT
DTSTAMP:20260424T151018Z
DTSTART;TZID=Europe/Berlin:20250915T200000
DTEND;TZID=Europe/Berlin:20250915T230000
SUMMARY:ME L6 Gr 7\, Tours 1&2 Matran II vs Fribourg XI (0)
UID:84cda86a-017a-455e-b884-1f76f0043e69
STATUS:CONFIRMED
LAST-MODIFIED:20250921T140846Z
DESCRIPTION:6ème ligue Hommes Groupe 7\, Tours 1&2\nBegegnungs-Nr: 0\nHeim: Matran II\nGast: Fribourg XI\n\nAdresse: Route de l'Ecole\, 1753 Matran\n
LOCATION:Route de l'Ecole\, 1753 Matran
CATEGORIES:Saison 2025/26
END:VEVENT
BEGIN:VEVENT
DTSTAMP:20260424T151018Z
DTSTART;TZID=Europe/Berlin:20251008T200000
DTEND;TZID=Europe/Berlin:20251008T230000
SUMMARY:ME L6 Gr 7\, Tours 1&2 Domdidier III vs Fribourg XI (0)
UID:d5a18470-bac4-4afc-84cc-99c4484d99c7
STATUS:CONFIRMED
LAST-MODIFIED:20251009T103124Z
DESCRIPTION:6ème ligue Hommes Groupe 7\, Tours 1&2\nBegegnungs-Nr: 0\nHeim: Domdidier III\nGast: Fribourg XI\n\nAdresse: Pré-de-la-Cour\, 1564 Domdidier\n
LOCATION:Pré-de-la-Cour\, 1564 Domdidier
CATEGORIES:Saison 2025/26
END:VEVENT
BEGIN:VEVENT
DTSTAMP:20260424T151018Z
DTSTART;TZID=Europe/Berlin:20251104T200000
DTEND;TZID=Europe/Berlin:20251104T230000
SUMMARY:ME L6 Gr 7\, Tours 1&2 Avry-Rosé VI vs Fribourg XI (0)
UID:88bb7b67-b3f0-4d2c-a825-aa358e991e78
STATUS:CONFIRMED
LAST-MODIFIED:20251109T130850Z
DESCRIPTION:6ème ligue Hommes Groupe 7\, Tours 1&2\nBegegnungs-Nr: 0\nHeim: Avry-Rosé VI\nGast: Fribourg XI\n\nAdresse: Route du Château 15\, 1754 Avry-sur-Matran\n
LOCATION:Route du Château 15\, 1754 Avry-sur-Matran
CATEGORIES:Saison 2025/26
END:VEVENT
BEGIN:VEVENT
DTSTAMP:20260424T151018Z
DTSTART;TZID=Europe/Berlin:20251125T193000
DTEND;TZID=Europe/Berlin:20251125T223000
SUMMARY:ME L6 Gr 7\, Tours 1&2 Marly II vs Fribourg XI (0)
UID:6f88215d-d023-44fa-a34f-ef02ad961130
STATUS:CONFIRMED
LAST-MODIFIED:20251126T124845Z
DESCRIPTION:6ème ligue Hommes Groupe 7\, Tours 1&2\nBegegnungs-Nr: 0\nHeim: Marly II\nGast: Fribourg XI\n\nAdresse: Grand Pré - Rte des Ecoles\, 1723 Marly\n
LOCATION:Grand Pré - Rte des Ecoles\, 1723 Marly
CATEGORIES:Saison 2025/26
END:VEVENT
BEGIN:VEVENT
DTSTAMP:20260424T151018Z
DTSTART;TZID=Europe/Berlin:20260313T191500
DTEND;TZID=Europe/Berlin:20260313T221500
SUMMARY:ME L6 Gr 5\, Tours 3&4 Fribourg X vs Fribourg XI (0)
UID:748a6e25-6c1c-40a4-990a-60e1a6041a2b
STATUS:CONFIRMED
LAST-MODIFIED:20260317T111412Z
DESCRIPTION:6ème ligue Hommes Groupe 5\, Tours 3&4\nBegegnungs-Nr: 0\nHeim: Fribourg X\nGast: Fribourg XI\n\nAdresse: Avenue Général Guisan 61\, 1700 Fribourg\n
LOCATION:Avenue Général Guisan 61\, 1700 Fribourg
CATEGORIES:Saison 2025/26
END:VEVENT
BEGIN:VEVENT
DTSTAMP:20260424T151018Z
DTSTART;TZID=Europe/Berlin:20260421T193000
DTEND;TZID=Europe/Berlin:20260421T223000
SUMMARY:ME L6 Gr 5\, Tours 3&4 Marly III vs Fribourg XI (0)
UID:e2999e92-7537-4345-8be7-174ce4b005dd
STATUS:CONFIRMED
LAST-MODIFIED:20260423T075646Z
DESCRIPTION:6ème ligue Hommes Groupe 5\, Tours 3&4\nBegegnungs-Nr: 0\nHeim: Marly III\nGast: Fribourg XI\n\nAdresse: Grand Pré - Rte des Ecoles\, 1723 Marly\n
LOCATION:Grand Pré - Rte des Ecoles\, 1723 Marly
CATEGORIES:Saison 2025/26
END:VEVENT
BEGIN:VEVENT
DTSTAMP:20260424T151018Z
DTSTART;TZID=Europe/Berlin:20260430T193000
DTEND;TZID=Europe/Berlin:20260430T223000
SUMMARY:ME L6 Gr 5\, Tours 3&4 Avry-Rosé VII vs Fribourg XI (0)
UID:8147ef52-ae58-4c4f-bb04-2515e4e66bf9
STATUS:CONFIRMED
DESCRIPTION:6ème ligue Hommes Groupe 5\, Tours 3&4\nBegegnungs-Nr: 0\nHeim: Avry-Rosé VII\nGast: Fribourg XI\n\nAdresse: Route du Château 15\, 1754 Avry-sur-Matran\n
LOCATION:Route du Château 15\, 1754 Avry-sur-Matran
CATEGORIES:Saison 2025/26
END:VEVENT
BEGIN:VEVENT
DTSTAMP:20260424T151018Z
DTSTART;TZID=Europe/Berlin:20260120T193000
DTEND;TZID=Europe/Berlin:20260120T223000
SUMMARY:ME L6 Gr 5\, Tours 3&4 Marly vs Fribourg XI (0)
UID:4f2be024-545d-46b0-85a5-3ad667218331
STATUS:CONFIRMED
LAST-MODIFIED:20260121T122559Z
DESCRIPTION:6ème ligue Hommes Groupe 5\, Tours 3&4\nBegegnungs-Nr: 0\nHeim: Marly\nGast: Fribourg XI\n\nAdresse: Grand Pré - Rte des Ecoles\, 1723 Marly\n
LOCATION:Grand Pré - Rte des Ecoles\, 1723 Marly
CATEGORIES:Saison 2025/26
END:VEVENT
BEGIN:VEVENT
DTSTAMP:20260424T151018Z
DTSTART;TZID=Europe/Berlin:20260202T200000
DTEND;TZID=Europe/Berlin:20260202T230000
SUMMARY:ME L6 Gr 5\, Tours 3&4 Matran III vs Fribourg XI (0)
UID:23008b28-12eb-4590-9203-c3f79d840a09
STATUS:CONFIRMED
LAST-MODIFIED:20260203T175436Z
DESCRIPTION:6ème ligue Hommes Groupe 5\, Tours 3&4\nBegegnungs-Nr: 0\nHeim: Matran III\nGast: Fribourg XI\n\nAdresse: Route de l'Ecole\, 1753 Matran\n
LOCATION:Route de l'Ecole\, 1753 Matran
CATEGORIES:Saison 2025/26
END:VEVENT
END:VCALENDAR
