BEGIN:VCALENDAR
PRODID:-//nuDatenautomaten//framework iCal4j //DE
VERSION:2.0
CALSCALE:GREGORIAN
BEGIN:VTIMEZONE
TZID:Europe/Berlin
LAST-MODIFIED:20260306T231828Z
TZURL:https://www.tzurl.org/zoneinfo/Europe/Berlin
X-LIC-LOCATION:Europe/Berlin
X-PROLEPTIC-TZNAME:LMT
BEGIN:STANDARD
TZNAME:CET
TZOFFSETFROM:+005328
TZOFFSETTO:+0100
DTSTART:18930401T000000
END:STANDARD
BEGIN:DAYLIGHT
TZNAME:CEST
TZOFFSETFROM:+0100
TZOFFSETTO:+0200
DTSTART:19160430T230000
RDATE:19400401T020000
RDATE:19430329T020000
RDATE:19460414T020000
RDATE:19470406T030000
RDATE:19480418T020000
RDATE:19490410T020000
RDATE:19800406T020000
END:DAYLIGHT
BEGIN:STANDARD
TZNAME:CET
TZOFFSETFROM:+0200
TZOFFSETTO:+0100
DTSTART:19161001T010000
RDATE:19421102T030000
RDATE:19431004T030000
RDATE:19441002T030000
RDATE:19451118T030000
RDATE:19461007T030000
END:STANDARD
BEGIN:DAYLIGHT
TZNAME:CEST
TZOFFSETFROM:+0100
TZOFFSETTO:+0200
DTSTART:19170416T020000
RRULE:FREQ=YEARLY;UNTIL=19180415T010000Z;BYMONTH=4;BYDAY=3MO
END:DAYLIGHT
BEGIN:STANDARD
TZNAME:CET
TZOFFSETFROM:+0200
TZOFFSETTO:+0100
DTSTART:19170917T030000
RRULE:FREQ=YEARLY;UNTIL=19180916T010000Z;BYMONTH=9;BYDAY=3MO
END:STANDARD
BEGIN:DAYLIGHT
TZNAME:CEST
TZOFFSETFROM:+0100
TZOFFSETTO:+0200
DTSTART:19440403T020000
RRULE:FREQ=YEARLY;UNTIL=19450402T010000Z;BYMONTH=4;BYDAY=1MO
END:DAYLIGHT
BEGIN:DAYLIGHT
TZNAME:CEMT
TZOFFSETFROM:+0200
TZOFFSETTO:+0300
DTSTART:19450524T020000
RDATE:19470511T030000
END:DAYLIGHT
BEGIN:DAYLIGHT
TZNAME:CEST
TZOFFSETFROM:+0300
TZOFFSETTO:+0200
DTSTART:19450924T030000
RDATE:19470629T030000
END:DAYLIGHT
BEGIN:STANDARD
TZNAME:CET
TZOFFSETFROM:+0100
TZOFFSETTO:+0100
DTSTART:19460101T000000
RDATE:19800101T000000
END:STANDARD
BEGIN:STANDARD
TZNAME:CET
TZOFFSETFROM:+0200
TZOFFSETTO:+0100
DTSTART:19471005T030000
RRULE:FREQ=YEARLY;UNTIL=19491002T010000Z;BYMONTH=10;BYDAY=1SU
END:STANDARD
BEGIN:STANDARD
TZNAME:CET
TZOFFSETFROM:+0200
TZOFFSETTO:+0100
DTSTART:19800928T030000
RRULE:FREQ=YEARLY;UNTIL=19950924T010000Z;BYMONTH=9;BYDAY=-1SU
END:STANDARD
BEGIN:DAYLIGHT
TZNAME:CEST
TZOFFSETFROM:+0100
TZOFFSETTO:+0200
DTSTART:19810329T020000
RRULE:FREQ=YEARLY;BYMONTH=3;BYDAY=-1SU
END:DAYLIGHT
BEGIN:STANDARD
TZNAME:CET
TZOFFSETFROM:+0200
TZOFFSETTO:+0100
DTSTART:19961027T030000
RRULE:FREQ=YEARLY;BYMONTH=10;BYDAY=-1SU
END:STANDARD
END:VTIMEZONE
BEGIN:VEVENT
DTSTAMP:20260424T120313Z
DTSTART;TZID=Europe/Berlin:20251015T194500
DTEND;TZID=Europe/Berlin:20251015T224500
SUMMARY:Ligue 3 Gr.3 Ph.A UGS-Chênois VII vs Meyrin III (14)
UID:e4050c05-14ae-421b-8d8c-1e6f6b5bb311
STATUS:CONFIRMED
LAST-MODIFIED:20251016T092240Z
DESCRIPTION:3ème ligue Homme Gr.3 Phase A\nBegegnungs-Nr: 14\nHeim: UGS-Chênois VII\nGast: Meyrin III\n
LOCATION:
CATEGORIES:Saison 2025/26
END:VEVENT
BEGIN:VEVENT
DTSTAMP:20260424T120313Z
DTSTART;TZID=Europe/Berlin:20250924T194500
DTEND;TZID=Europe/Berlin:20250924T224500
SUMMARY:Ligue 3 Gr.3 Ph.A UGS-Chênois VII vs Onex III (9)
UID:718f3095-7d14-4859-a1c1-782553f23bfc
STATUS:CONFIRMED
LAST-MODIFIED:20250925T122704Z
DESCRIPTION:3ème ligue Homme Gr.3 Phase A\nBegegnungs-Nr: 9\nHeim: UGS-Chênois VII\nGast: Onex III\n
LOCATION:
CATEGORIES:Saison 2025/26
END:VEVENT
BEGIN:VEVENT
DTSTAMP:20260424T120313Z
DTSTART;TZID=Europe/Berlin:20251112T194500
DTEND;TZID=Europe/Berlin:20251112T224500
SUMMARY:Ligue 3 Gr.3 Ph.A UGS-Chênois VII vs Bernex IV (20)
UID:a33921ab-d950-4ccc-ab61-2e3a457ee9fd
STATUS:CONFIRMED
LAST-MODIFIED:20251113T134721Z
DESCRIPTION:3ème ligue Homme Gr.3 Phase A\nBegegnungs-Nr: 20\nHeim: UGS-Chênois VII\nGast: Bernex IV\n
LOCATION:
CATEGORIES:Saison 2025/26
END:VEVENT
BEGIN:VEVENT
DTSTAMP:20260424T120313Z
DTSTART;TZID=Europe/Berlin:20250903T194500
DTEND;TZID=Europe/Berlin:20250903T224500
SUMMARY:Ligue 3 Gr.3 Ph.A UGS-Chênois VII vs Mandement V (1)
UID:8ac799f6-dd99-4332-8c78-53f063bf7b19
STATUS:CONFIRMED
LAST-MODIFIED:20250904T115106Z
DESCRIPTION:3ème ligue Homme Gr.3 Phase A\nBegegnungs-Nr: 1\nHeim: UGS-Chênois VII\nGast: Mandement V\n
LOCATION:
CATEGORIES:Saison 2025/26
END:VEVENT
BEGIN:VEVENT
DTSTAMP:20260424T120313Z
DTSTART;TZID=Europe/Berlin:20251126T194500
DTEND;TZID=Europe/Berlin:20251126T224500
SUMMARY:Ligue 3 Gr.3 Ph.A UGS-Chênois VII vs Grand-Saconnex (26)
UID:dd464be2-2a55-42e0-98cb-3bef07007a39
STATUS:CONFIRMED
LAST-MODIFIED:20251127T113244Z
DESCRIPTION:3ème ligue Homme Gr.3 Phase A\nBegegnungs-Nr: 26\nHeim: UGS-Chênois VII\nGast: Grand-Saconnex\n
LOCATION:
CATEGORIES:Saison 2025/26
END:VEVENT
BEGIN:VEVENT
DTSTAMP:20260424T120313Z
DTSTART;TZID=Europe/Berlin:20260211T194500
DTEND;TZID=Europe/Berlin:20260211T224500
SUMMARY:Ligue 3 Gr.2 Ph.B UGS-Chênois VII vs Onex III (12)
UID:3834929e-528c-44e0-8ba1-65e56d4421a7
STATUS:CONFIRMED
LAST-MODIFIED:20260213T081606Z
DESCRIPTION:3ème ligue Homme Gr.2 Phase B\nBegegnungs-Nr: 12\nHeim: UGS-Chênois VII\nGast: Onex III\n
LOCATION:
CATEGORIES:Saison 2025/26
END:VEVENT
BEGIN:VEVENT
DTSTAMP:20260424T120313Z
DTSTART;TZID=Europe/Berlin:20260128T194500
DTEND;TZID=Europe/Berlin:20260128T224500
SUMMARY:Ligue 3 Gr.2 Ph.B UGS-Chênois VII vs Carouge V (8)
UID:2ce4ab4b-cd0f-46bc-8a42-86aa324c8827
STATUS:CONFIRMED
LAST-MODIFIED:20260130T083717Z
DESCRIPTION:3ème ligue Homme Gr.2 Phase B\nBegegnungs-Nr: 8\nHeim: UGS-Chênois VII\nGast: Carouge V\n
LOCATION:
CATEGORIES:Saison 2025/26
END:VEVENT
BEGIN:VEVENT
DTSTAMP:20260424T120313Z
DTSTART;TZID=Europe/Berlin:20260429T194500
DTEND;TZID=Europe/Berlin:20260429T224500
SUMMARY:Ligue 3 Gr.2 Ph.B UGS-Chênois VII vs ZZ-Lancy VIII (28)
UID:72f42fe0-0916-4900-bfaa-3192b9b9b58d
STATUS:CONFIRMED
DESCRIPTION:3ème ligue Homme Gr.2 Phase B\nBegegnungs-Nr: 28\nHeim: UGS-Chênois VII\nGast: ZZ-Lancy VIII\n
LOCATION:
CATEGORIES:Saison 2025/26
END:VEVENT
BEGIN:VEVENT
DTSTAMP:20260424T120313Z
DTSTART;TZID=Europe/Berlin:20260318T194500
DTEND;TZID=Europe/Berlin:20260318T224500
SUMMARY:Ligue 3 Gr.2 Ph.B UGS-Chênois VII vs Châtelaine V (20)
UID:4e7cfcea-bbce-4bb0-b7bf-aafe47b02b50
STATUS:CONFIRMED
LAST-MODIFIED:20260319T171107Z
DESCRIPTION:3ème ligue Homme Gr.2 Phase B\nBegegnungs-Nr: 20\nHeim: UGS-Chênois VII\nGast: Châtelaine V\n
LOCATION:
CATEGORIES:Saison 2025/26
END:VEVENT
BEGIN:VEVENT
DTSTAMP:20260424T120313Z
DTSTART;TZID=Europe/Berlin:20260114T194500
DTEND;TZID=Europe/Berlin:20260114T224500
SUMMARY:Ligue 3 Gr.2 Ph.B UGS-Chênois VII vs Veyrier II (2)
UID:5f86c3c9-5047-4dc6-b8df-d9076dc5f735
STATUS:CONFIRMED
LAST-MODIFIED:20260116T092010Z
DESCRIPTION:3ème ligue Homme Gr.2 Phase B\nBegegnungs-Nr: 2\nHeim: UGS-Chênois VII\nGast: Veyrier II\n
LOCATION:
CATEGORIES:Saison 2025/26
END:VEVENT
BEGIN:VEVENT
DTSTAMP:20260424T120313Z
DTSTART;TZID=Europe/Berlin:20251029T194500
DTEND;TZID=Europe/Berlin:20251029T224500
SUMMARY:Ligue 3 Gr.3 Ph.A Mandement V vs UGS-Chênois VII (16)
UID:a6701c9b-845d-46cc-89ed-53bcf61de037
STATUS:CONFIRMED
LAST-MODIFIED:20251030T122240Z
DESCRIPTION:3ème ligue Homme Gr.3 Phase A\nBegegnungs-Nr: 16\nHeim: Mandement V\nGast: UGS-Chênois VII\n
LOCATION:
CATEGORIES:Saison 2025/26
END:VEVENT
BEGIN:VEVENT
DTSTAMP:20260424T120313Z
DTSTART;TZID=Europe/Berlin:20251008T194500
DTEND;TZID=Europe/Berlin:20251008T224500
SUMMARY:Ligue 3 Gr.3 Ph.A Grand-Saconnex vs UGS-Chênois VII (11)
UID:f9f28eac-855b-4d09-b22f-b076e5658add
STATUS:CONFIRMED
LAST-MODIFIED:20251009T090627Z
DESCRIPTION:3ème ligue Homme Gr.3 Phase A\nBegegnungs-Nr: 11\nHeim: Grand-Saconnex\nGast: UGS-Chênois VII\n
LOCATION:
CATEGORIES:Saison 2025/26
END:VEVENT
BEGIN:VEVENT
DTSTAMP:20260424T120313Z
DTSTART;TZID=Europe/Berlin:20250917T194500
DTEND;TZID=Europe/Berlin:20250917T224500
SUMMARY:Ligue 3 Gr.3 Ph.A Bernex IV vs UGS-Chênois VII (5)
UID:29037372-2b1b-4c6c-a382-7adcc5db3c7e
STATUS:CONFIRMED
LAST-MODIFIED:20250918T144208Z
DESCRIPTION:3ème ligue Homme Gr.3 Phase A\nBegegnungs-Nr: 5\nHeim: Bernex IV\nGast: UGS-Chênois VII\n
LOCATION:
CATEGORIES:Saison 2025/26
END:VEVENT
BEGIN:VEVENT
DTSTAMP:20260424T120313Z
DTSTART;TZID=Europe/Berlin:20251203T194500
DTEND;TZID=Europe/Berlin:20251203T224500
SUMMARY:Ligue 3 Gr.3 Ph.A Meyrin III vs UGS-Chênois VII (29)
UID:cbcf8634-1f9d-4a89-9eb7-879ca38077ef
STATUS:CONFIRMED
LAST-MODIFIED:20251204T083607Z
DESCRIPTION:3ème ligue Homme Gr.3 Phase A\nBegegnungs-Nr: 29\nHeim: Meyrin III\nGast: UGS-Chênois VII\n
LOCATION:
CATEGORIES:Saison 2025/26
END:VEVENT
BEGIN:VEVENT
DTSTAMP:20260424T120313Z
DTSTART;TZID=Europe/Berlin:20251119T194500
DTEND;TZID=Europe/Berlin:20251119T224500
SUMMARY:Ligue 3 Gr.3 Ph.A Onex III vs UGS-Chênois VII (24)
UID:ac99fc67-10bc-4626-8027-0d05eafb753f
STATUS:CONFIRMED
LAST-MODIFIED:20251120T123713Z
DESCRIPTION:3ème ligue Homme Gr.3 Phase A\nBegegnungs-Nr: 24\nHeim: Onex III\nGast: UGS-Chênois VII\n
LOCATION:
CATEGORIES:Saison 2025/26
END:VEVENT
BEGIN:VEVENT
DTSTAMP:20260424T120313Z
DTSTART;TZID=Europe/Berlin:20260311T194500
DTEND;TZID=Europe/Berlin:20260311T224500
SUMMARY:Ligue 3 Gr.2 Ph.B Veyrier II vs UGS-Chênois VII (17)
UID:7edfb301-37b6-4880-85dc-bb596509870d
STATUS:CONFIRMED
LAST-MODIFIED:20260312T140156Z
DESCRIPTION:3ème ligue Homme Gr.2 Phase B\nBegegnungs-Nr: 17\nHeim: Veyrier II\nGast: UGS-Chênois VII\n\nAdresse: -\, 1255 Veyrier\n
LOCATION:-\, 1255 Veyrier
CATEGORIES:Saison 2025/26
END:VEVENT
BEGIN:VEVENT
DTSTAMP:20260424T120313Z
DTSTART;TZID=Europe/Berlin:20260218T200000
DTEND;TZID=Europe/Berlin:20260218T230000
SUMMARY:Ligue 3 Gr.2 Ph.B ZZ-Lancy VIII vs UGS-Chênois VII (13)
UID:1d9f2ec0-0d66-4cad-88de-64758178fcae
STATUS:CONFIRMED
LAST-MODIFIED:20260219T120236Z
DESCRIPTION:3ème ligue Homme Gr.2 Phase B\nBegegnungs-Nr: 13\nHeim: ZZ-Lancy VIII\nGast: UGS-Chênois VII\n
LOCATION:
CATEGORIES:Saison 2025/26
END:VEVENT
BEGIN:VEVENT
DTSTAMP:20260424T120313Z
DTSTART;TZID=Europe/Berlin:20260121T194500
DTEND;TZID=Europe/Berlin:20260121T224500
SUMMARY:Ligue 3 Gr.2 Ph.B Châtelaine V vs UGS-Chênois VII (5)
UID:abbc9bd6-0902-487d-93c7-20f0e38277e8
STATUS:CONFIRMED
LAST-MODIFIED:20260122T093958Z
DESCRIPTION:3ème ligue Homme Gr.2 Phase B\nBegegnungs-Nr: 5\nHeim: Châtelaine V\nGast: UGS-Chênois VII\n
LOCATION:
CATEGORIES:Saison 2025/26
END:VEVENT
BEGIN:VEVENT
DTSTAMP:20260424T120313Z
DTSTART;TZID=Europe/Berlin:20260401T194500
DTEND;TZID=Europe/Berlin:20260401T224500
SUMMARY:Ligue 3 Gr.2 Ph.B Onex III vs UGS-Chênois VII (27)
UID:1bcb2f2d-3d99-4975-9675-9da22176b7f6
STATUS:CONFIRMED
LAST-MODIFIED:20260402T091151Z
DESCRIPTION:3ème ligue Homme Gr.2 Phase B\nBegegnungs-Nr: 27\nHeim: Onex III\nGast: UGS-Chênois VII\n
LOCATION:
CATEGORIES:Saison 2025/26
END:VEVENT
BEGIN:VEVENT
DTSTAMP:20260424T120313Z
DTSTART;TZID=Europe/Berlin:20260325T200000
DTEND;TZID=Europe/Berlin:20260325T230000
SUMMARY:Ligue 3 Gr.2 Ph.B Carouge V vs UGS-Chênois VII (23)
UID:47d354b8-53e8-46ee-ab7f-577aaa825a92
STATUS:CONFIRMED
LAST-MODIFIED:20260326T095440Z
DESCRIPTION:3ème ligue Homme Gr.2 Phase B\nBegegnungs-Nr: 23\nHeim: Carouge V\nGast: UGS-Chênois VII\n
LOCATION:
CATEGORIES:Saison 2025/26
END:VEVENT
END:VCALENDAR
