BEGIN:VCALENDAR
PRODID:-//nuDatenautomaten//framework iCal4j //DE
VERSION:2.0
CALSCALE:GREGORIAN
BEGIN:VTIMEZONE
TZID:Europe/Berlin
LAST-MODIFIED:20260306T231828Z
TZURL:https://www.tzurl.org/zoneinfo/Europe/Berlin
X-LIC-LOCATION:Europe/Berlin
X-PROLEPTIC-TZNAME:LMT
BEGIN:STANDARD
TZNAME:CET
TZOFFSETFROM:+005328
TZOFFSETTO:+0100
DTSTART:18930401T000000
END:STANDARD
BEGIN:DAYLIGHT
TZNAME:CEST
TZOFFSETFROM:+0100
TZOFFSETTO:+0200
DTSTART:19160430T230000
RDATE:19400401T020000
RDATE:19430329T020000
RDATE:19460414T020000
RDATE:19470406T030000
RDATE:19480418T020000
RDATE:19490410T020000
RDATE:19800406T020000
END:DAYLIGHT
BEGIN:STANDARD
TZNAME:CET
TZOFFSETFROM:+0200
TZOFFSETTO:+0100
DTSTART:19161001T010000
RDATE:19421102T030000
RDATE:19431004T030000
RDATE:19441002T030000
RDATE:19451118T030000
RDATE:19461007T030000
END:STANDARD
BEGIN:DAYLIGHT
TZNAME:CEST
TZOFFSETFROM:+0100
TZOFFSETTO:+0200
DTSTART:19170416T020000
RRULE:FREQ=YEARLY;UNTIL=19180415T010000Z;BYMONTH=4;BYDAY=3MO
END:DAYLIGHT
BEGIN:STANDARD
TZNAME:CET
TZOFFSETFROM:+0200
TZOFFSETTO:+0100
DTSTART:19170917T030000
RRULE:FREQ=YEARLY;UNTIL=19180916T010000Z;BYMONTH=9;BYDAY=3MO
END:STANDARD
BEGIN:DAYLIGHT
TZNAME:CEST
TZOFFSETFROM:+0100
TZOFFSETTO:+0200
DTSTART:19440403T020000
RRULE:FREQ=YEARLY;UNTIL=19450402T010000Z;BYMONTH=4;BYDAY=1MO
END:DAYLIGHT
BEGIN:DAYLIGHT
TZNAME:CEMT
TZOFFSETFROM:+0200
TZOFFSETTO:+0300
DTSTART:19450524T020000
RDATE:19470511T030000
END:DAYLIGHT
BEGIN:DAYLIGHT
TZNAME:CEST
TZOFFSETFROM:+0300
TZOFFSETTO:+0200
DTSTART:19450924T030000
RDATE:19470629T030000
END:DAYLIGHT
BEGIN:STANDARD
TZNAME:CET
TZOFFSETFROM:+0100
TZOFFSETTO:+0100
DTSTART:19460101T000000
RDATE:19800101T000000
END:STANDARD
BEGIN:STANDARD
TZNAME:CET
TZOFFSETFROM:+0200
TZOFFSETTO:+0100
DTSTART:19471005T030000
RRULE:FREQ=YEARLY;UNTIL=19491002T010000Z;BYMONTH=10;BYDAY=1SU
END:STANDARD
BEGIN:STANDARD
TZNAME:CET
TZOFFSETFROM:+0200
TZOFFSETTO:+0100
DTSTART:19800928T030000
RRULE:FREQ=YEARLY;UNTIL=19950924T010000Z;BYMONTH=9;BYDAY=-1SU
END:STANDARD
BEGIN:DAYLIGHT
TZNAME:CEST
TZOFFSETFROM:+0100
TZOFFSETTO:+0200
DTSTART:19810329T020000
RRULE:FREQ=YEARLY;BYMONTH=3;BYDAY=-1SU
END:DAYLIGHT
BEGIN:STANDARD
TZNAME:CET
TZOFFSETFROM:+0200
TZOFFSETTO:+0100
DTSTART:19961027T030000
RRULE:FREQ=YEARLY;BYMONTH=10;BYDAY=-1SU
END:STANDARD
END:VTIMEZONE
BEGIN:VEVENT
DTSTAMP:20260424T114931Z
DTSTART;TZID=Europe/Berlin:20251027T194500
DTEND;TZID=Europe/Berlin:20251027T224500
SUMMARY:Ligue 1 Ph.A Silver Star II vs UGS-Chênois IV (29)
UID:fc89b45e-d85c-432c-bb46-09bfee5ed137
STATUS:CONFIRMED
LAST-MODIFIED:20251031T074547Z
DESCRIPTION:1ère ligue Homme Gr. unique Phase A\nBegegnungs-Nr: 29\nHeim: Silver Star II\nGast: UGS-Chênois IV\n
LOCATION:
CATEGORIES:Saison 2025/26
END:VEVENT
BEGIN:VEVENT
DTSTAMP:20260424T114931Z
DTSTART;TZID=Europe/Berlin:20251006T194500
DTEND;TZID=Europe/Berlin:20251006T224500
SUMMARY:Ligue 1 Ph.A Silver Star II vs ZZ-Lancy III (19)
UID:53d780bf-d1af-42e9-a57f-76d784c1ccb3
STATUS:CONFIRMED
LAST-MODIFIED:20251007T070935Z
DESCRIPTION:1ère ligue Homme Gr. unique Phase A\nBegegnungs-Nr: 19\nHeim: Silver Star II\nGast: ZZ-Lancy III\n
LOCATION:
CATEGORIES:Saison 2025/26
END:VEVENT
BEGIN:VEVENT
DTSTAMP:20260424T114931Z
DTSTART;TZID=Europe/Berlin:20251117T194500
DTEND;TZID=Europe/Berlin:20251117T224500
SUMMARY:Ligue 1 Ph.A Silver Star II vs Châtelaine II (40)
UID:bff39216-5cee-422f-9456-b32345fe136c
STATUS:CONFIRMED
LAST-MODIFIED:20251118T080722Z
DESCRIPTION:1ère ligue Homme Gr. unique Phase A\nBegegnungs-Nr: 40\nHeim: Silver Star II\nGast: Châtelaine II\n
LOCATION:
CATEGORIES:Saison 2025/26
END:VEVENT
BEGIN:VEVENT
DTSTAMP:20260424T114931Z
DTSTART;TZID=Europe/Berlin:20250915T194500
DTEND;TZID=Europe/Berlin:20250915T224500
SUMMARY:Ligue 1 Ph.A Silver Star II vs Carouge III (7)
UID:22232254-70da-412d-b4b7-5c0b1c4297e3
STATUS:CONFIRMED
LAST-MODIFIED:20250916T071405Z
DESCRIPTION:1ère ligue Homme Gr. unique Phase A\nBegegnungs-Nr: 7\nHeim: Silver Star II\nGast: Carouge III\n
LOCATION:
CATEGORIES:Saison 2025/26
END:VEVENT
BEGIN:VEVENT
DTSTAMP:20260424T114931Z
DTSTART;TZID=Europe/Berlin:20260112T194500
DTEND;TZID=Europe/Berlin:20260112T224500
SUMMARY:Ligue 1 Ph.B Silver Star II vs Versoix II (5)
UID:2cf98201-ed57-4853-b53e-7ab112024720
STATUS:CONFIRMED
LAST-MODIFIED:20260113T081206Z
DESCRIPTION:1ère ligue Homme Gr. unique Phase B\nBegegnungs-Nr: 5\nHeim: Silver Star II\nGast: Versoix II\n
LOCATION:
CATEGORIES:Saison 2025/26
END:VEVENT
BEGIN:VEVENT
DTSTAMP:20260424T114931Z
DTSTART;TZID=Europe/Berlin:20260330T194500
DTEND;TZID=Europe/Berlin:20260330T224500
SUMMARY:Ligue 1 Ph.B Silver Star II vs Mandement II (45)
UID:bba2856f-c1cf-4cd9-b093-0559afc2b6b7
STATUS:CONFIRMED
LAST-MODIFIED:20260331T164145Z
DESCRIPTION:1ère ligue Homme Gr. unique Phase B\nBegegnungs-Nr: 45\nHeim: Silver Star II\nGast: Mandement II\n
LOCATION:
CATEGORIES:Saison 2025/26
END:VEVENT
BEGIN:VEVENT
DTSTAMP:20260424T114931Z
DTSTART;TZID=Europe/Berlin:20260323T194500
DTEND;TZID=Europe/Berlin:20260323T224500
SUMMARY:Ligue 1 Ph.B Silver Star II vs ZZ-Lancy IV (37)
UID:dddff481-10e0-4096-bbd0-219f88607cdb
STATUS:CONFIRMED
LAST-MODIFIED:20260324T072223Z
DESCRIPTION:1ère ligue Homme Gr. unique Phase B\nBegegnungs-Nr: 37\nHeim: Silver Star II\nGast: ZZ-Lancy IV\n
LOCATION:
CATEGORIES:Saison 2025/26
END:VEVENT
BEGIN:VEVENT
DTSTAMP:20260424T114931Z
DTSTART;TZID=Europe/Berlin:20260309T194500
DTEND;TZID=Europe/Berlin:20260309T224500
SUMMARY:Ligue 1 Ph.B Silver Star II vs Carouge III (26)
UID:c9dac525-494b-4bd9-84ab-e97224a7f5e4
STATUS:CONFIRMED
LAST-MODIFIED:20260314T113745Z
DESCRIPTION:1ère ligue Homme Gr. unique Phase B\nBegegnungs-Nr: 26\nHeim: Silver Star II\nGast: Carouge III\n
LOCATION:
CATEGORIES:Saison 2025/26
END:VEVENT
BEGIN:VEVENT
DTSTAMP:20260424T114931Z
DTSTART;TZID=Europe/Berlin:20260119T194500
DTEND;TZID=Europe/Berlin:20260119T224500
SUMMARY:Ligue 1 Ph.B Silver Star II vs Châtelaine (8)
UID:6486d3b7-d73b-446a-886d-d3dbcc6a4ec4
STATUS:CONFIRMED
LAST-MODIFIED:20260120T120706Z
DESCRIPTION:1ère ligue Homme Gr. unique Phase B\nBegegnungs-Nr: 8\nHeim: Silver Star II\nGast: Châtelaine\n\nAdresse: Rue de Vermont 33\, 1202 Genève\n
LOCATION:Rue de Vermont 33\, 1202 Genève
CATEGORIES:Saison 2025/26
END:VEVENT
BEGIN:VEVENT
DTSTAMP:20260424T114931Z
DTSTART;TZID=Europe/Berlin:20251110T194500
DTEND;TZID=Europe/Berlin:20251110T224500
SUMMARY:Ligue 1 Ph.A Mandement III vs Silver Star II (35)
UID:6dcfd1c4-23e5-4467-a7a7-4a699f24752a
STATUS:CONFIRMED
LAST-MODIFIED:20251111T081825Z
DESCRIPTION:1ère ligue Homme Gr. unique Phase A\nBegegnungs-Nr: 35\nHeim: Mandement III\nGast: Silver Star II\n
LOCATION:
CATEGORIES:Saison 2025/26
END:VEVENT
BEGIN:VEVENT
DTSTAMP:20260424T114931Z
DTSTART;TZID=Europe/Berlin:20251013T200000
DTEND;TZID=Europe/Berlin:20251013T230000
SUMMARY:Ligue 1 Ph.A ZZ-Lancy IV vs Silver Star II (25)
UID:a33afcad-53e2-4bfe-8ea4-48b6a239b1b3
STATUS:CONFIRMED
LAST-MODIFIED:20251014T080559Z
DESCRIPTION:1ère ligue Homme Gr. unique Phase A\nBegegnungs-Nr: 25\nHeim: ZZ-Lancy IV\nGast: Silver Star II\n
LOCATION:
CATEGORIES:Saison 2025/26
END:VEVENT
BEGIN:VEVENT
DTSTAMP:20260424T114931Z
DTSTART;TZID=Europe/Berlin:20250901T194500
DTEND;TZID=Europe/Berlin:20250901T224500
SUMMARY:Ligue 1 Ph.A Versoix II vs Silver Star II (1)
UID:3868de50-78ed-495e-b08d-13af5e2e0eed
STATUS:CONFIRMED
LAST-MODIFIED:20250902T182145Z
DESCRIPTION:1ère ligue Homme Gr. unique Phase A\nBegegnungs-Nr: 1\nHeim: Versoix II\nGast: Silver Star II\n
LOCATION:
CATEGORIES:Saison 2025/26
END:VEVENT
BEGIN:VEVENT
DTSTAMP:20260424T114931Z
DTSTART;TZID=Europe/Berlin:20250922T200000
DTEND;TZID=Europe/Berlin:20250922T230000
SUMMARY:Ligue 1 Ph.A Châtelaine vs Silver Star II (13)
UID:6e2dd39d-3d86-4769-911c-c5be4002a7d4
STATUS:CONFIRMED
LAST-MODIFIED:20250923T181918Z
DESCRIPTION:1ère ligue Homme Gr. unique Phase A\nBegegnungs-Nr: 13\nHeim: Châtelaine\nGast: Silver Star II\n
LOCATION:
CATEGORIES:Saison 2025/26
END:VEVENT
BEGIN:VEVENT
DTSTAMP:20260424T114931Z
DTSTART;TZID=Europe/Berlin:20251124T194500
DTEND;TZID=Europe/Berlin:20251124T224500
SUMMARY:Ligue 1 Ph.A Mandement II vs Silver Star II (45)
UID:0379f386-7688-4d62-bf9e-aafe19f7f821
STATUS:CONFIRMED
LAST-MODIFIED:20251125T075242Z
DESCRIPTION:1ère ligue Homme Gr. unique Phase A\nBegegnungs-Nr: 45\nHeim: Mandement II\nGast: Silver Star II\n
LOCATION:
CATEGORIES:Saison 2025/26
END:VEVENT
BEGIN:VEVENT
DTSTAMP:20260424T114931Z
DTSTART;TZID=Europe/Berlin:20260216T194500
DTEND;TZID=Europe/Berlin:20260216T224500
SUMMARY:Ligue 1 Ph.B Bernex III vs Silver Star II (25)
UID:de263091-b932-4833-a086-c7d886e7d0a7
STATUS:CONFIRMED
LAST-MODIFIED:20260217T124043Z
DESCRIPTION:1ère ligue Homme Gr. unique Phase B\nBegegnungs-Nr: 25\nHeim: Bernex III\nGast: Silver Star II\n
LOCATION:
CATEGORIES:Saison 2025/26
END:VEVENT
BEGIN:VEVENT
DTSTAMP:20260424T114931Z
DTSTART;TZID=Europe/Berlin:20260316T194500
DTEND;TZID=Europe/Berlin:20260316T224500
SUMMARY:Ligue 1 Ph.B Bernex II vs Silver Star II (33)
UID:db0a014f-7a4d-4eaf-b95d-3209febee96e
STATUS:CONFIRMED
LAST-MODIFIED:20260316T180802Z
DESCRIPTION:1ère ligue Homme Gr. unique Phase B\nBegegnungs-Nr: 33\nHeim: Bernex II\nGast: Silver Star II\n
LOCATION:
CATEGORIES:Saison 2025/26
END:VEVENT
BEGIN:VEVENT
DTSTAMP:20260424T114931Z
DTSTART;TZID=Europe/Berlin:20260209T200000
DTEND;TZID=Europe/Berlin:20260209T230000
SUMMARY:Ligue 1 Ph.B ZZ-Lancy III vs Silver Star II (20)
UID:dd6dd30a-76a8-4809-876a-4a7a5b2a069b
STATUS:CONFIRMED
LAST-MODIFIED:20260210T082156Z
DESCRIPTION:1ère ligue Homme Gr. unique Phase B\nBegegnungs-Nr: 20\nHeim: ZZ-Lancy III\nGast: Silver Star II\n
LOCATION:
CATEGORIES:Saison 2025/26
END:VEVENT
BEGIN:VEVENT
DTSTAMP:20260424T114931Z
DTSTART;TZID=Europe/Berlin:20260126T194500
DTEND;TZID=Europe/Berlin:20260126T224500
SUMMARY:Ligue 1 Ph.B UGS-Chênois IV vs Silver Star II (15)
UID:ee7b566b-4c0e-452a-81db-8dfc887bb8b1
STATUS:CONFIRMED
LAST-MODIFIED:20260127T084744Z
DESCRIPTION:1ère ligue Homme Gr. unique Phase B\nBegegnungs-Nr: 15\nHeim: UGS-Chênois IV\nGast: Silver Star II\n\nAdresse: Route de Frontenex 68\, 1208 Genève\n
LOCATION:Route de Frontenex 68\, 1208 Genève
CATEGORIES:Saison 2025/26
END:VEVENT
END:VCALENDAR
