BEGIN:VCALENDAR
PRODID:-//nuDatenautomaten//framework iCal4j //DE
VERSION:2.0
CALSCALE:GREGORIAN
BEGIN:VTIMEZONE
TZID:Europe/Berlin
LAST-MODIFIED:20260306T231828Z
TZURL:https://www.tzurl.org/zoneinfo/Europe/Berlin
X-LIC-LOCATION:Europe/Berlin
X-PROLEPTIC-TZNAME:LMT
BEGIN:STANDARD
TZNAME:CET
TZOFFSETFROM:+005328
TZOFFSETTO:+0100
DTSTART:18930401T000000
END:STANDARD
BEGIN:DAYLIGHT
TZNAME:CEST
TZOFFSETFROM:+0100
TZOFFSETTO:+0200
DTSTART:19160430T230000
RDATE:19400401T020000
RDATE:19430329T020000
RDATE:19460414T020000
RDATE:19470406T030000
RDATE:19480418T020000
RDATE:19490410T020000
RDATE:19800406T020000
END:DAYLIGHT
BEGIN:STANDARD
TZNAME:CET
TZOFFSETFROM:+0200
TZOFFSETTO:+0100
DTSTART:19161001T010000
RDATE:19421102T030000
RDATE:19431004T030000
RDATE:19441002T030000
RDATE:19451118T030000
RDATE:19461007T030000
END:STANDARD
BEGIN:DAYLIGHT
TZNAME:CEST
TZOFFSETFROM:+0100
TZOFFSETTO:+0200
DTSTART:19170416T020000
RRULE:FREQ=YEARLY;UNTIL=19180415T010000Z;BYMONTH=4;BYDAY=3MO
END:DAYLIGHT
BEGIN:STANDARD
TZNAME:CET
TZOFFSETFROM:+0200
TZOFFSETTO:+0100
DTSTART:19170917T030000
RRULE:FREQ=YEARLY;UNTIL=19180916T010000Z;BYMONTH=9;BYDAY=3MO
END:STANDARD
BEGIN:DAYLIGHT
TZNAME:CEST
TZOFFSETFROM:+0100
TZOFFSETTO:+0200
DTSTART:19440403T020000
RRULE:FREQ=YEARLY;UNTIL=19450402T010000Z;BYMONTH=4;BYDAY=1MO
END:DAYLIGHT
BEGIN:DAYLIGHT
TZNAME:CEMT
TZOFFSETFROM:+0200
TZOFFSETTO:+0300
DTSTART:19450524T020000
RDATE:19470511T030000
END:DAYLIGHT
BEGIN:DAYLIGHT
TZNAME:CEST
TZOFFSETFROM:+0300
TZOFFSETTO:+0200
DTSTART:19450924T030000
RDATE:19470629T030000
END:DAYLIGHT
BEGIN:STANDARD
TZNAME:CET
TZOFFSETFROM:+0100
TZOFFSETTO:+0100
DTSTART:19460101T000000
RDATE:19800101T000000
END:STANDARD
BEGIN:STANDARD
TZNAME:CET
TZOFFSETFROM:+0200
TZOFFSETTO:+0100
DTSTART:19471005T030000
RRULE:FREQ=YEARLY;UNTIL=19491002T010000Z;BYMONTH=10;BYDAY=1SU
END:STANDARD
BEGIN:STANDARD
TZNAME:CET
TZOFFSETFROM:+0200
TZOFFSETTO:+0100
DTSTART:19800928T030000
RRULE:FREQ=YEARLY;UNTIL=19950924T010000Z;BYMONTH=9;BYDAY=-1SU
END:STANDARD
BEGIN:DAYLIGHT
TZNAME:CEST
TZOFFSETFROM:+0100
TZOFFSETTO:+0200
DTSTART:19810329T020000
RRULE:FREQ=YEARLY;BYMONTH=3;BYDAY=-1SU
END:DAYLIGHT
BEGIN:STANDARD
TZNAME:CET
TZOFFSETFROM:+0200
TZOFFSETTO:+0100
DTSTART:19961027T030000
RRULE:FREQ=YEARLY;BYMONTH=10;BYDAY=-1SU
END:STANDARD
END:VTIMEZONE
BEGIN:VEVENT
DTSTAMP:20260424T115000Z
DTSTART;TZID=Europe/Berlin:20251206T153000
DTEND;TZID=Europe/Berlin:20251206T183000
SUMMARY:HE NLB Gr. 1 Carouge II vs Vevey (0)
UID:237746d2-de46-420f-8919-b80147513692
STATUS:CONFIRMED
LAST-MODIFIED:20251209T094452Z
DESCRIPTION:Herren Nationalliga B Gruppe 1\nBegegnungs-Nr: 0\nHeim: Carouge II\nGast: Vevey\n\nAdresse: Route de Veyrier 44\, 1227 Carouge GE\n
LOCATION:Route de Veyrier 44\, 1227 Carouge GE
CATEGORIES:Saison 2025/26
END:VEVENT
BEGIN:VEVENT
DTSTAMP:20260424T115000Z
DTSTART;TZID=Europe/Berlin:20250907T143000
DTEND;TZID=Europe/Berlin:20250907T173000
SUMMARY:HE NLB Gr. 1 Carouge II vs Heimberg (4)
UID:b60e4862-4089-4baf-88ac-dde26e44595b
STATUS:CONFIRMED
LAST-MODIFIED:20250918T112157Z
DESCRIPTION:Herren Nationalliga B Gruppe 1\nBegegnungs-Nr: 4\nHeim: Carouge II\nGast: Heimberg\n\nAdresse: Route de Veyrier 44\, 1227 Carouge GE\n
LOCATION:Route de Veyrier 44\, 1227 Carouge GE
CATEGORIES:Saison 2025/26
END:VEVENT
BEGIN:VEVENT
DTSTAMP:20260424T115000Z
DTSTART;TZID=Europe/Berlin:20251114T200000
DTEND;TZID=Europe/Berlin:20251114T230000
SUMMARY:HE NLB Gr. 1 Carouge II vs Mandement (20)
UID:eb445656-3a36-4915-8e16-7a7e10507c2c
STATUS:CONFIRMED
LAST-MODIFIED:20251117T125318Z
DESCRIPTION:Herren Nationalliga B Gruppe 1\nBegegnungs-Nr: 20\nHeim: Carouge II\nGast: Mandement\n\nAdresse: Route de Veyrier 44\, 1227 Carouge GE\n
LOCATION:Route de Veyrier 44\, 1227 Carouge GE
CATEGORIES:Saison 2025/26
END:VEVENT
BEGIN:VEVENT
DTSTAMP:20260424T115000Z
DTSTART;TZID=Europe/Berlin:20250921T143000
DTEND;TZID=Europe/Berlin:20250921T173000
SUMMARY:HE NLB Gr. 1 Carouge II vs Silver Star (5)
UID:acc1ae2c-5ddb-49e2-b974-e38bac86011e
STATUS:CONFIRMED
LAST-MODIFIED:20250922T073257Z
DESCRIPTION:Herren Nationalliga B Gruppe 1\nBegegnungs-Nr: 5\nHeim: Carouge II\nGast: Silver Star\n\nAdresse: Route de Veyrier 44\, 1227 Carouge GE\n
LOCATION:Route de Veyrier 44\, 1227 Carouge GE
CATEGORIES:Saison 2025/26
END:VEVENT
BEGIN:VEVENT
DTSTAMP:20260424T115000Z
DTSTART;TZID=Europe/Berlin:20251025T123000
DTEND;TZID=Europe/Berlin:20251025T153000
SUMMARY:HE NLB Gr. 1 Carouge II vs Bulle (9)
UID:ff4f6e2a-2dbb-4964-ab85-8600a0c02767
STATUS:CONFIRMED
LAST-MODIFIED:20251029T083253Z
DESCRIPTION:Herren Nationalliga B Gruppe 1\nBegegnungs-Nr: 9\nHeim: Carouge II\nGast: Bulle\n\nAdresse: Route de Veyrier 44\, 1227 Carouge GE\n
LOCATION:Route de Veyrier 44\, 1227 Carouge GE
CATEGORIES:Saison 2025/26
END:VEVENT
BEGIN:VEVENT
DTSTAMP:20260424T115000Z
DTSTART;TZID=Europe/Berlin:20260228T123000
DTEND;TZID=Europe/Berlin:20260228T153000
SUMMARY:HE NLB Gr. 1 Carouge II vs Basel (16)
UID:14e75610-6048-4581-a40a-1eec7f18e10c
STATUS:CONFIRMED
LAST-MODIFIED:20260302T213435Z
DESCRIPTION:Herren Nationalliga B Gruppe 1\nBegegnungs-Nr: 16\nHeim: Carouge II\nGast: Basel\n\nAdresse: Route de Veyrier 44\, 1227 Carouge GE\n
LOCATION:Route de Veyrier 44\, 1227 Carouge GE
CATEGORIES:Saison 2025/26
END:VEVENT
BEGIN:VEVENT
DTSTAMP:20260424T115000Z
DTSTART;TZID=Europe/Berlin:20260329T143000
DTEND;TZID=Europe/Berlin:20260329T173000
SUMMARY:HE NLB Gr. 1 Carouge II vs UGS-Chênois (24)
UID:eae9a785-b337-4fa5-abcb-c8a1969264c7
STATUS:CONFIRMED
LAST-MODIFIED:20260330T075458Z
DESCRIPTION:Herren Nationalliga B Gruppe 1\nBegegnungs-Nr: 24\nHeim: Carouge II\nGast: UGS-Chênois\n\nAdresse: Route de Veyrier 44\, 1227 Carouge GE\n
LOCATION:Route de Veyrier 44\, 1227 Carouge GE
CATEGORIES:Saison 2025/26
END:VEVENT
BEGIN:VEVENT
DTSTAMP:20260424T115000Z
DTSTART;TZID=Europe/Berlin:20260221T143000
DTEND;TZID=Europe/Berlin:20260221T173000
SUMMARY:HE NLB Gr. 1 Carouge II vs Vernier (12)
UID:51a5997d-d4cd-40f3-ace8-aa3e14b03902
STATUS:CONFIRMED
LAST-MODIFIED:20260223T152753Z
DESCRIPTION:Herren Nationalliga B Gruppe 1\nBegegnungs-Nr: 12\nHeim: Carouge II\nGast: Vernier\n\nAdresse: Route de Veyrier 44\, 1227 Carouge GE\n
LOCATION:Route de Veyrier 44\, 1227 Carouge GE
CATEGORIES:Saison 2025/26
END:VEVENT
BEGIN:VEVENT
DTSTAMP:20260424T115000Z
DTSTART;TZID=Europe/Berlin:20260111T150000
DTEND;TZID=Europe/Berlin:20260111T180000
SUMMARY:HE NLB Gr. 1 Vevey vs Carouge II (0)
UID:e34c3ac4-6c1b-4f1c-a55f-ebee97b0dc9d
STATUS:CONFIRMED
LAST-MODIFIED:20260112T202447Z
DESCRIPTION:Herren Nationalliga B Gruppe 1\nBegegnungs-Nr: 0\nHeim: Vevey\nGast: Carouge II\n\nAdresse: Rue Louis-Meyer\, 1800 Vevey\n
LOCATION:Rue Louis-Meyer\, 1800 Vevey
CATEGORIES:Saison 2025/26
END:VEVENT
BEGIN:VEVENT
DTSTAMP:20260424T115000Z
DTSTART;TZID=Europe/Berlin:20251101T130000
DTEND;TZID=Europe/Berlin:20251101T160000
SUMMARY:HE NLB Gr. 1 Basel vs Carouge II (16)
UID:c7b6dcab-2e8e-40aa-abde-e006843321c6
STATUS:CONFIRMED
LAST-MODIFIED:20251101T164655Z
DESCRIPTION:Herren Nationalliga B Gruppe 1\nBegegnungs-Nr: 16\nHeim: Basel\nGast: Carouge II\n\nAdresse: Schwarzwaldallee 107\, 4058 Basel\n
LOCATION:Schwarzwaldallee 107\, 4058 Basel
CATEGORIES:Saison 2025/26
END:VEVENT
BEGIN:VEVENT
DTSTAMP:20260424T115000Z
DTSTART;TZID=Europe/Berlin:20251213T150000
DTEND;TZID=Europe/Berlin:20251213T180000
SUMMARY:HE NLB Gr. 1 UGS-Chênois vs Carouge II (24)
UID:793abdc4-a2b6-46bf-942f-a06343313387
STATUS:CONFIRMED
LAST-MODIFIED:20251216T084106Z
DESCRIPTION:Herren Nationalliga B Gruppe 1\nBegegnungs-Nr: 24\nHeim: UGS-Chênois\nGast: Carouge II\n\nAdresse: Route de Frontenex 68\, 1208 Genève\n
LOCATION:Route de Frontenex 68\, 1208 Genève
CATEGORIES:Saison 2025/26
END:VEVENT
BEGIN:VEVENT
DTSTAMP:20260424T115000Z
DTSTART;TZID=Europe/Berlin:20251214T150000
DTEND;TZID=Europe/Berlin:20251214T180000
SUMMARY:HE NLB Gr. 1 Vernier vs Carouge II (28)
UID:5d6c81c8-0ba7-4169-9a12-5c9b52477a67
STATUS:CONFIRMED
LAST-MODIFIED:20251216T084633Z
DESCRIPTION:Herren Nationalliga B Gruppe 1\nBegegnungs-Nr: 28\nHeim: Vernier\nGast: Carouge II\n\nAdresse: Chemin de Saule 120\, 1233 Bernex\n
LOCATION:Chemin de Saule 120\, 1233 Bernex
CATEGORIES:Saison 2025/26
END:VEVENT
BEGIN:VEVENT
DTSTAMP:20260424T115000Z
DTSTART;TZID=Europe/Berlin:20260416T194500
DTEND;TZID=Europe/Berlin:20260416T224500
SUMMARY:HE NLB Gr. 1 Mandement vs Carouge II (28)
UID:168177ed-5c42-4346-ac58-085b605bd554
STATUS:CONFIRMED
LAST-MODIFIED:20260416T204416Z
DESCRIPTION:Herren Nationalliga B Gruppe 1\nBegegnungs-Nr: 28\nHeim: Mandement\nGast: Carouge II\n
LOCATION:
CATEGORIES:Saison 2025/26
END:VEVENT
BEGIN:VEVENT
DTSTAMP:20260424T115000Z
DTSTART;TZID=Europe/Berlin:20260131T150000
DTEND;TZID=Europe/Berlin:20260131T180000
SUMMARY:HE NLB Gr. 1 Silver Star vs Carouge II (5)
UID:0dfb7b58-ff9a-4b44-b80e-74382ea3beea
STATUS:CONFIRMED
LAST-MODIFIED:20260203T080835Z
DESCRIPTION:Herren Nationalliga B Gruppe 1\nBegegnungs-Nr: 5\nHeim: Silver Star\nGast: Carouge II\n\nAdresse: Rue de Vermont 33\, 1202 Genève\n
LOCATION:Rue de Vermont 33\, 1202 Genève
CATEGORIES:Saison 2025/26
END:VEVENT
BEGIN:VEVENT
DTSTAMP:20260424T115000Z
DTSTART;TZID=Europe/Berlin:20260307T154500
DTEND;TZID=Europe/Berlin:20260307T184500
SUMMARY:HE NLB Gr. 1 Bulle vs Carouge II (17)
UID:0c6474a9-ad0e-4dcb-9131-df7fa7143408
STATUS:CONFIRMED
LAST-MODIFIED:20260310T064752Z
DESCRIPTION:Herren Nationalliga B Gruppe 1\nBegegnungs-Nr: 17\nHeim: Bulle\nGast: Carouge II\n\nAdresse: Rue du Stade 50\, 1630 Bulle\n
LOCATION:Rue du Stade 50\, 1630 Bulle
CATEGORIES:Saison 2025/26
END:VEVENT
BEGIN:VEVENT
DTSTAMP:20260424T115000Z
DTSTART;TZID=Europe/Berlin:20260110T163000
DTEND;TZID=Europe/Berlin:20260110T193000
SUMMARY:HE NLB Gr. 1 Heimberg vs Carouge II (4)
UID:3afbe44b-7c06-4aa6-bb84-c40f673f1cc1
STATUS:CONFIRMED
LAST-MODIFIED:20260112T202427Z
DESCRIPTION:Herren Nationalliga B Gruppe 1\nBegegnungs-Nr: 4\nHeim: Heimberg\nGast: Carouge II\n\nAdresse: Niesenstrasse 38\, 3627 Heimberg\n
LOCATION:Niesenstrasse 38\, 3627 Heimberg
CATEGORIES:Saison 2025/26
END:VEVENT
END:VCALENDAR
