BEGIN:VCALENDAR
PRODID:-//nuDatenautomaten//framework iCal4j //DE
VERSION:2.0
CALSCALE:GREGORIAN
BEGIN:VTIMEZONE
TZID:Europe/Berlin
LAST-MODIFIED:20260306T231828Z
TZURL:https://www.tzurl.org/zoneinfo/Europe/Berlin
X-LIC-LOCATION:Europe/Berlin
X-PROLEPTIC-TZNAME:LMT
BEGIN:STANDARD
TZNAME:CET
TZOFFSETFROM:+005328
TZOFFSETTO:+0100
DTSTART:18930401T000000
END:STANDARD
BEGIN:DAYLIGHT
TZNAME:CEST
TZOFFSETFROM:+0100
TZOFFSETTO:+0200
DTSTART:19160430T230000
RDATE:19400401T020000
RDATE:19430329T020000
RDATE:19460414T020000
RDATE:19470406T030000
RDATE:19480418T020000
RDATE:19490410T020000
RDATE:19800406T020000
END:DAYLIGHT
BEGIN:STANDARD
TZNAME:CET
TZOFFSETFROM:+0200
TZOFFSETTO:+0100
DTSTART:19161001T010000
RDATE:19421102T030000
RDATE:19431004T030000
RDATE:19441002T030000
RDATE:19451118T030000
RDATE:19461007T030000
END:STANDARD
BEGIN:DAYLIGHT
TZNAME:CEST
TZOFFSETFROM:+0100
TZOFFSETTO:+0200
DTSTART:19170416T020000
RRULE:FREQ=YEARLY;UNTIL=19180415T010000Z;BYMONTH=4;BYDAY=3MO
END:DAYLIGHT
BEGIN:STANDARD
TZNAME:CET
TZOFFSETFROM:+0200
TZOFFSETTO:+0100
DTSTART:19170917T030000
RRULE:FREQ=YEARLY;UNTIL=19180916T010000Z;BYMONTH=9;BYDAY=3MO
END:STANDARD
BEGIN:DAYLIGHT
TZNAME:CEST
TZOFFSETFROM:+0100
TZOFFSETTO:+0200
DTSTART:19440403T020000
RRULE:FREQ=YEARLY;UNTIL=19450402T010000Z;BYMONTH=4;BYDAY=1MO
END:DAYLIGHT
BEGIN:DAYLIGHT
TZNAME:CEMT
TZOFFSETFROM:+0200
TZOFFSETTO:+0300
DTSTART:19450524T020000
RDATE:19470511T030000
END:DAYLIGHT
BEGIN:DAYLIGHT
TZNAME:CEST
TZOFFSETFROM:+0300
TZOFFSETTO:+0200
DTSTART:19450924T030000
RDATE:19470629T030000
END:DAYLIGHT
BEGIN:STANDARD
TZNAME:CET
TZOFFSETFROM:+0100
TZOFFSETTO:+0100
DTSTART:19460101T000000
RDATE:19800101T000000
END:STANDARD
BEGIN:STANDARD
TZNAME:CET
TZOFFSETFROM:+0200
TZOFFSETTO:+0100
DTSTART:19471005T030000
RRULE:FREQ=YEARLY;UNTIL=19491002T010000Z;BYMONTH=10;BYDAY=1SU
END:STANDARD
BEGIN:STANDARD
TZNAME:CET
TZOFFSETFROM:+0200
TZOFFSETTO:+0100
DTSTART:19800928T030000
RRULE:FREQ=YEARLY;UNTIL=19950924T010000Z;BYMONTH=9;BYDAY=-1SU
END:STANDARD
BEGIN:DAYLIGHT
TZNAME:CEST
TZOFFSETFROM:+0100
TZOFFSETTO:+0200
DTSTART:19810329T020000
RRULE:FREQ=YEARLY;BYMONTH=3;BYDAY=-1SU
END:DAYLIGHT
BEGIN:STANDARD
TZNAME:CET
TZOFFSETFROM:+0200
TZOFFSETTO:+0100
DTSTART:19961027T030000
RRULE:FREQ=YEARLY;BYMONTH=10;BYDAY=-1SU
END:STANDARD
END:VTIMEZONE
BEGIN:VEVENT
DTSTAMP:20260424T191150Z
DTSTART;TZID=Europe/Berlin:20260116T194500
DTEND;TZID=Europe/Berlin:20260116T224500
SUMMARY:HE 4. Liga Gr. 2 Oberwil III vs Wettstein Basel (0)
UID:0e2eb76b-8223-48dd-995a-520fb443cf4a
STATUS:CONFIRMED
LAST-MODIFIED:20260123T081552Z
DESCRIPTION:4. Liga Herren Gruppe 2\nBegegnungs-Nr: 0\nHeim: Oberwil III\nGast: Wettstein Basel\n\nAdresse: Schulstrasse\, 4104 Oberwil\n
LOCATION:Schulstrasse\, 4104 Oberwil
CATEGORIES:Saison 2025/26
END:VEVENT
BEGIN:VEVENT
DTSTAMP:20260424T191150Z
DTSTART;TZID=Europe/Berlin:20260123T200000
DTEND;TZID=Europe/Berlin:20260123T230000
SUMMARY:HE 4. Liga Gr. 2 Oberwil III vs KV Liestal III (0)
UID:65eab921-469f-47f7-ad0e-6ad0844d9dfa
STATUS:CONFIRMED
LAST-MODIFIED:20260130T134937Z
DESCRIPTION:4. Liga Herren Gruppe 2\nBegegnungs-Nr: 0\nHeim: Oberwil III\nGast: KV Liestal III\n\nAdresse: Schulstrasse\, 4104 Oberwil\n
LOCATION:Schulstrasse\, 4104 Oberwil
CATEGORIES:Saison 2025/26
END:VEVENT
BEGIN:VEVENT
DTSTAMP:20260424T191150Z
DTSTART;TZID=Europe/Berlin:20260206T194500
DTEND;TZID=Europe/Berlin:20260206T224500
SUMMARY:HE 4. Liga Gr. 2 Oberwil III vs Münchenstein-City II (0)
UID:bbadfc5d-7f8c-4e0e-aeef-464bbe5b0d8c
STATUS:CONFIRMED
LAST-MODIFIED:20260211T093731Z
DESCRIPTION:4. Liga Herren Gruppe 2\nBegegnungs-Nr: 0\nHeim: Oberwil III\nGast: Münchenstein-City II\n\nAdresse: Schulstrasse\, 4104 Oberwil\n
LOCATION:Schulstrasse\, 4104 Oberwil
CATEGORIES:Saison 2025/26
END:VEVENT
BEGIN:VEVENT
DTSTAMP:20260424T191150Z
DTSTART;TZID=Europe/Berlin:20260320T194500
DTEND;TZID=Europe/Berlin:20260320T224500
SUMMARY:HE 4. Liga Gr. 2 Oberwil III vs Gelterkinden III (0)
UID:5c97d99f-ef8a-461b-a863-8b8f8c19f85d
STATUS:CONFIRMED
LAST-MODIFIED:20260416T093607Z
DESCRIPTION:4. Liga Herren Gruppe 2\nBegegnungs-Nr: 0\nHeim: Oberwil III\nGast: Gelterkinden III\n\nAdresse: Schulstrasse\, 4104 Oberwil\n
LOCATION:Schulstrasse\, 4104 Oberwil
CATEGORIES:Saison 2025/26
END:VEVENT
BEGIN:VEVENT
DTSTAMP:20260424T191150Z
DTSTART;TZID=Europe/Berlin:20260327T194500
DTEND;TZID=Europe/Berlin:20260327T224500
SUMMARY:HE 4. Liga Gr. 2 Oberwil III vs Basel VIII (0)
UID:f49d19a4-6a2d-4987-b82f-934e4213a007
STATUS:CONFIRMED
LAST-MODIFIED:20260416T093646Z
DESCRIPTION:4. Liga Herren Gruppe 2\nBegegnungs-Nr: 0\nHeim: Oberwil III\nGast: Basel VIII\n\nAdresse: Schulstrasse\, 4104 Oberwil\n
LOCATION:Schulstrasse\, 4104 Oberwil
CATEGORIES:Saison 2025/26
END:VEVENT
BEGIN:VEVENT
DTSTAMP:20260424T191150Z
DTSTART;TZID=Europe/Berlin:20250822T194500
DTEND;TZID=Europe/Berlin:20250822T224500
SUMMARY:HE 4. Liga Gr. 2 Oberwil III vs Oberwil IV (0)
UID:51b1db2e-8a9c-412a-86f2-0c31f3eff4ec
STATUS:CONFIRMED
LAST-MODIFIED:20250825T070131Z
DESCRIPTION:4. Liga Herren Gruppe 2\nBegegnungs-Nr: 0\nHeim: Oberwil III\nGast: Oberwil IV\n\nAdresse: Schulstrasse\, 4104 Oberwil\n
LOCATION:Schulstrasse\, 4104 Oberwil
CATEGORIES:Saison 2025/26
END:VEVENT
BEGIN:VEVENT
DTSTAMP:20260424T191150Z
DTSTART;TZID=Europe/Berlin:20251124T194500
DTEND;TZID=Europe/Berlin:20251124T224500
SUMMARY:HE 4. Liga Gr. 2 Oberwil III vs Liebrüti II (0)
UID:625a0c33-705a-4b9a-8dc4-629545b59853
STATUS:CONFIRMED
LAST-MODIFIED:20251127T135442Z
DESCRIPTION:4. Liga Herren Gruppe 2\nBegegnungs-Nr: 0\nHeim: Oberwil III\nGast: Liebrüti II\n\nAdresse: Schulstrasse\, 4104 Oberwil\n
LOCATION:Schulstrasse\, 4104 Oberwil
CATEGORIES:Saison 2025/26
END:VEVENT
BEGIN:VEVENT
DTSTAMP:20260424T191150Z
DTSTART;TZID=Europe/Berlin:20251215T194500
DTEND;TZID=Europe/Berlin:20251215T224500
SUMMARY:HE 4. Liga Gr. 2 Oberwil IV vs Oberwil III (0)
UID:ecb77612-e3fa-4684-8d77-3f0836070ffb
STATUS:CONFIRMED
LAST-MODIFIED:20251217T080258Z
DESCRIPTION:4. Liga Herren Gruppe 2\nBegegnungs-Nr: 0\nHeim: Oberwil IV\nGast: Oberwil III\n\nAdresse: Schulstrasse\, 4104 Oberwil\n
LOCATION:Schulstrasse\, 4104 Oberwil
CATEGORIES:Saison 2025/26
END:VEVENT
BEGIN:VEVENT
DTSTAMP:20260424T191150Z
DTSTART;TZID=Europe/Berlin:20260311T193000
DTEND;TZID=Europe/Berlin:20260311T223000
SUMMARY:HE 4. Liga Gr. 2 Liebrüti II vs Oberwil III (0)
UID:97d740cc-6738-4860-8bfe-cc316ba7a101
STATUS:CONFIRMED
LAST-MODIFIED:20260313T125340Z
DESCRIPTION:4. Liga Herren Gruppe 2\nBegegnungs-Nr: 0\nHeim: Liebrüti II\nGast: Oberwil III\n\nAdresse: Schwarzackerstr. 59\, 4303 Kaiseraugst\n
LOCATION:Schwarzackerstr. 59\, 4303 Kaiseraugst
CATEGORIES:Saison 2025/26
END:VEVENT
BEGIN:VEVENT
DTSTAMP:20260424T191150Z
DTSTART;TZID=Europe/Berlin:20250903T193000
DTEND;TZID=Europe/Berlin:20250903T223000
SUMMARY:HE 4. Liga Gr. 2 Wettstein Basel vs Oberwil III (0)
UID:66872db3-c16e-4afe-b542-6e5650fd6bd9
STATUS:CONFIRMED
LAST-MODIFIED:20250905T121344Z
DESCRIPTION:4. Liga Herren Gruppe 2\nBegegnungs-Nr: 0\nHeim: Wettstein Basel\nGast: Oberwil III\n\nAdresse: Zu den Drei Linden 70\, 4058 Basel\n
LOCATION:Zu den Drei Linden 70\, 4058 Basel
CATEGORIES:Saison 2025/26
END:VEVENT
BEGIN:VEVENT
DTSTAMP:20260424T191150Z
DTSTART;TZID=Europe/Berlin:20250911T200000
DTEND;TZID=Europe/Berlin:20250911T230000
SUMMARY:HE 4. Liga Gr. 2 KV Liestal III vs Oberwil III (0)
UID:fdfa5dc2-6d08-4b46-bc7c-da87eb525adc
STATUS:CONFIRMED
LAST-MODIFIED:20250912T144337Z
DESCRIPTION:4. Liga Herren Gruppe 2\nBegegnungs-Nr: 0\nHeim: KV Liestal III\nGast: Oberwil III\n\nAdresse: Büchelistrasse\, 4410 Liestal\n
LOCATION:Büchelistrasse\, 4410 Liestal
CATEGORIES:Saison 2025/26
END:VEVENT
BEGIN:VEVENT
DTSTAMP:20260424T191150Z
DTSTART;TZID=Europe/Berlin:20251030T193000
DTEND;TZID=Europe/Berlin:20251030T223000
SUMMARY:HE 4. Liga Gr. 2 Münchenstein-City II vs Oberwil III (0)
UID:0b80831b-b37b-49c9-a893-aa708145bf10
STATUS:CONFIRMED
LAST-MODIFIED:20251031T143216Z
DESCRIPTION:4. Liga Herren Gruppe 2\nBegegnungs-Nr: 0\nHeim: Münchenstein-City II\nGast: Oberwil III\n\nAdresse: Gruthweg 8\, 4142 Münchenstein\n
LOCATION:Gruthweg 8\, 4142 Münchenstein
CATEGORIES:Saison 2025/26
END:VEVENT
BEGIN:VEVENT
DTSTAMP:20260424T191150Z
DTSTART;TZID=Europe/Berlin:20251020T201500
DTEND;TZID=Europe/Berlin:20251020T231500
SUMMARY:HE 4. Liga Gr. 2 Gelterkinden III vs Oberwil III (0)
UID:26f2238a-ce4d-4c22-a7dd-ca0ca1aa36d4
STATUS:CONFIRMED
LAST-MODIFIED:20251021T080619Z
DESCRIPTION:4. Liga Herren Gruppe 2\nBegegnungs-Nr: 0\nHeim: Gelterkinden III\nGast: Oberwil III\n\nAdresse: Turnhallenstrasse 18\, 4460 Gelterkinden\n
LOCATION:Turnhallenstrasse 18\, 4460 Gelterkinden
CATEGORIES:Saison 2025/26
END:VEVENT
BEGIN:VEVENT
DTSTAMP:20260424T191150Z
DTSTART;TZID=Europe/Berlin:20251210T200000
DTEND;TZID=Europe/Berlin:20251210T230000
SUMMARY:HE 4. Liga Gr. 2 Basel VIII vs Oberwil III (0)
UID:c96f1c9a-a858-4ca0-8176-6a00567aba70
STATUS:CONFIRMED
LAST-MODIFIED:20251211T112006Z
DESCRIPTION:4. Liga Herren Gruppe 2\nBegegnungs-Nr: 0\nHeim: Basel VIII\nGast: Oberwil III\n\nAdresse: Schwarzwaldallee 107\, 4058 Basel\n
LOCATION:Schwarzwaldallee 107\, 4058 Basel
CATEGORIES:Saison 2025/26
END:VEVENT
END:VCALENDAR
