BEGIN:VCALENDAR
PRODID:-//nuDatenautomaten//framework iCal4j //DE
VERSION:2.0
CALSCALE:GREGORIAN
BEGIN:VTIMEZONE
TZID:Europe/Berlin
LAST-MODIFIED:20260306T231828Z
TZURL:https://www.tzurl.org/zoneinfo/Europe/Berlin
X-LIC-LOCATION:Europe/Berlin
X-PROLEPTIC-TZNAME:LMT
BEGIN:STANDARD
TZNAME:CET
TZOFFSETFROM:+005328
TZOFFSETTO:+0100
DTSTART:18930401T000000
END:STANDARD
BEGIN:DAYLIGHT
TZNAME:CEST
TZOFFSETFROM:+0100
TZOFFSETTO:+0200
DTSTART:19160430T230000
RDATE:19400401T020000
RDATE:19430329T020000
RDATE:19460414T020000
RDATE:19470406T030000
RDATE:19480418T020000
RDATE:19490410T020000
RDATE:19800406T020000
END:DAYLIGHT
BEGIN:STANDARD
TZNAME:CET
TZOFFSETFROM:+0200
TZOFFSETTO:+0100
DTSTART:19161001T010000
RDATE:19421102T030000
RDATE:19431004T030000
RDATE:19441002T030000
RDATE:19451118T030000
RDATE:19461007T030000
END:STANDARD
BEGIN:DAYLIGHT
TZNAME:CEST
TZOFFSETFROM:+0100
TZOFFSETTO:+0200
DTSTART:19170416T020000
RRULE:FREQ=YEARLY;UNTIL=19180415T010000Z;BYMONTH=4;BYDAY=3MO
END:DAYLIGHT
BEGIN:STANDARD
TZNAME:CET
TZOFFSETFROM:+0200
TZOFFSETTO:+0100
DTSTART:19170917T030000
RRULE:FREQ=YEARLY;UNTIL=19180916T010000Z;BYMONTH=9;BYDAY=3MO
END:STANDARD
BEGIN:DAYLIGHT
TZNAME:CEST
TZOFFSETFROM:+0100
TZOFFSETTO:+0200
DTSTART:19440403T020000
RRULE:FREQ=YEARLY;UNTIL=19450402T010000Z;BYMONTH=4;BYDAY=1MO
END:DAYLIGHT
BEGIN:DAYLIGHT
TZNAME:CEMT
TZOFFSETFROM:+0200
TZOFFSETTO:+0300
DTSTART:19450524T020000
RDATE:19470511T030000
END:DAYLIGHT
BEGIN:DAYLIGHT
TZNAME:CEST
TZOFFSETFROM:+0300
TZOFFSETTO:+0200
DTSTART:19450924T030000
RDATE:19470629T030000
END:DAYLIGHT
BEGIN:STANDARD
TZNAME:CET
TZOFFSETFROM:+0100
TZOFFSETTO:+0100
DTSTART:19460101T000000
RDATE:19800101T000000
END:STANDARD
BEGIN:STANDARD
TZNAME:CET
TZOFFSETFROM:+0200
TZOFFSETTO:+0100
DTSTART:19471005T030000
RRULE:FREQ=YEARLY;UNTIL=19491002T010000Z;BYMONTH=10;BYDAY=1SU
END:STANDARD
BEGIN:STANDARD
TZNAME:CET
TZOFFSETFROM:+0200
TZOFFSETTO:+0100
DTSTART:19800928T030000
RRULE:FREQ=YEARLY;UNTIL=19950924T010000Z;BYMONTH=9;BYDAY=-1SU
END:STANDARD
BEGIN:DAYLIGHT
TZNAME:CEST
TZOFFSETFROM:+0100
TZOFFSETTO:+0200
DTSTART:19810329T020000
RRULE:FREQ=YEARLY;BYMONTH=3;BYDAY=-1SU
END:DAYLIGHT
BEGIN:STANDARD
TZNAME:CET
TZOFFSETFROM:+0200
TZOFFSETTO:+0100
DTSTART:19961027T030000
RRULE:FREQ=YEARLY;BYMONTH=10;BYDAY=-1SU
END:STANDARD
END:VTIMEZONE
BEGIN:VEVENT
DTSTAMP:20260424T122741Z
DTSTART;TZID=Europe/Berlin:20260105T194500
DTEND;TZID=Europe/Berlin:20260105T224500
SUMMARY:HE 4. Liga Gr. 7 Wetzikon VII vs Uster III (0)
UID:97c5488e-504a-490a-8fbb-38bd75959fcb
STATUS:CONFIRMED
LAST-MODIFIED:20260112T092848Z
DESCRIPTION:4. Liga Herren Gruppe 7\nBegegnungs-Nr: 0\nHeim: Wetzikon VII\nGast: Uster III\n\nAdresse: Usterstrasse 37\, 8620 Wetzikon\n
LOCATION:Usterstrasse 37\, 8620 Wetzikon
CATEGORIES:Saison 2025/26
END:VEVENT
BEGIN:VEVENT
DTSTAMP:20260424T122741Z
DTSTART;TZID=Europe/Berlin:20260126T194500
DTEND;TZID=Europe/Berlin:20260126T224500
SUMMARY:HE 4. Liga Gr. 7 Wetzikon VII vs Flums IV (0)
UID:7413f0eb-a79a-4554-9e1b-9494e15c66a1
STATUS:CONFIRMED
LAST-MODIFIED:20260127T152220Z
DESCRIPTION:4. Liga Herren Gruppe 7\nBegegnungs-Nr: 0\nHeim: Wetzikon VII\nGast: Flums IV\n\nAdresse: Usterstrasse 37\, 8620 Wetzikon\n
LOCATION:Usterstrasse 37\, 8620 Wetzikon
CATEGORIES:Saison 2025/26
END:VEVENT
BEGIN:VEVENT
DTSTAMP:20260424T122741Z
DTSTART;TZID=Europe/Berlin:20260316T194500
DTEND;TZID=Europe/Berlin:20260316T224500
SUMMARY:HE 4. Liga Gr. 7 Wetzikon VII vs Toggenburg II (0)
UID:02b039ce-876e-4631-992b-a200352d0639
STATUS:CONFIRMED
LAST-MODIFIED:20260317T135429Z
DESCRIPTION:4. Liga Herren Gruppe 7\nBegegnungs-Nr: 0\nHeim: Wetzikon VII\nGast: Toggenburg II\n\nAdresse: Usterstrasse 37\, 8620 Wetzikon\n
LOCATION:Usterstrasse 37\, 8620 Wetzikon
CATEGORIES:Saison 2025/26
END:VEVENT
BEGIN:VEVENT
DTSTAMP:20260424T122741Z
DTSTART;TZID=Europe/Berlin:20250901T194500
DTEND;TZID=Europe/Berlin:20250901T224500
SUMMARY:HE 4. Liga Gr. 7 Wetzikon VII vs Gossau Zuerich (0)
UID:1d2a5c97-b902-4097-9743-d5b8432db7b5
STATUS:CONFIRMED
LAST-MODIFIED:20250902T092813Z
DESCRIPTION:4. Liga Herren Gruppe 7\nBegegnungs-Nr: 0\nHeim: Wetzikon VII\nGast: Gossau Zuerich\n\nAdresse: Usterstrasse 37\, 8620 Wetzikon\n
LOCATION:Usterstrasse 37\, 8620 Wetzikon
CATEGORIES:Saison 2025/26
END:VEVENT
BEGIN:VEVENT
DTSTAMP:20260424T122741Z
DTSTART;TZID=Europe/Berlin:20251201T194500
DTEND;TZID=Europe/Berlin:20251201T224500
SUMMARY:HE 4. Liga Gr. 7 Wetzikon VII vs Wollerau (0)
UID:ddcebcb5-dcea-4dd7-8370-055240b2d69b
STATUS:CONFIRMED
LAST-MODIFIED:20251205T130534Z
DESCRIPTION:4. Liga Herren Gruppe 7\nBegegnungs-Nr: 0\nHeim: Wetzikon VII\nGast: Wollerau\n\nAdresse: Usterstrasse 37\, 8620 Wetzikon\n
LOCATION:Usterstrasse 37\, 8620 Wetzikon
CATEGORIES:Saison 2025/26
END:VEVENT
BEGIN:VEVENT
DTSTAMP:20260424T122741Z
DTSTART;TZID=Europe/Berlin:20250922T194500
DTEND;TZID=Europe/Berlin:20250922T224500
SUMMARY:HE 4. Liga Gr. 7 Wetzikon VII vs Meilen-Männedorf III (0)
UID:518a7cfb-7a23-4c84-aa44-176fa4ffc7aa
STATUS:CONFIRMED
LAST-MODIFIED:20250926T131651Z
DESCRIPTION:4. Liga Herren Gruppe 7\nBegegnungs-Nr: 0\nHeim: Wetzikon VII\nGast: Meilen-Männedorf III\n\nAdresse: Usterstrasse 37\, 8620 Wetzikon\n
LOCATION:Usterstrasse 37\, 8620 Wetzikon
CATEGORIES:Saison 2025/26
END:VEVENT
BEGIN:VEVENT
DTSTAMP:20260424T122741Z
DTSTART;TZID=Europe/Berlin:20251027T194500
DTEND;TZID=Europe/Berlin:20251027T224500
SUMMARY:HE 4. Liga Gr. 7 Wetzikon VII vs Glarus II (0)
UID:7f710afb-1c6a-4f60-8043-419badbca221
STATUS:CONFIRMED
LAST-MODIFIED:20251031T143658Z
DESCRIPTION:4. Liga Herren Gruppe 7\nBegegnungs-Nr: 0\nHeim: Wetzikon VII\nGast: Glarus II\n\nAdresse: Usterstrasse 37\, 8620 Wetzikon\n
LOCATION:Usterstrasse 37\, 8620 Wetzikon
CATEGORIES:Saison 2025/26
END:VEVENT
BEGIN:VEVENT
DTSTAMP:20260424T122741Z
DTSTART;TZID=Europe/Berlin:20260123T200000
DTEND;TZID=Europe/Berlin:20260123T230000
SUMMARY:HE 4. Liga Gr. 7 Gossau Zuerich vs Wetzikon VII (0)
UID:79358f2a-5dba-4b9b-8d69-f1fea21ef3a4
STATUS:CONFIRMED
LAST-MODIFIED:20260127T150044Z
DESCRIPTION:4. Liga Herren Gruppe 7\nBegegnungs-Nr: 0\nHeim: Gossau Zuerich\nGast: Wetzikon VII\n\nAdresse: Schulstrasse\, 8624 Grüt-Gossau\n
LOCATION:Schulstrasse\, 8624 Grüt-Gossau
CATEGORIES:Saison 2025/26
END:VEVENT
BEGIN:VEVENT
DTSTAMP:20260424T122741Z
DTSTART;TZID=Europe/Berlin:20260305T194500
DTEND;TZID=Europe/Berlin:20260305T224500
SUMMARY:HE 4. Liga Gr. 7 Meilen-Männedorf III vs Wetzikon VII (0)
UID:1c1e1aed-1b6c-417a-b4ef-29bca1a57eaf
STATUS:CONFIRMED
LAST-MODIFIED:20260313T131335Z
DESCRIPTION:4. Liga Herren Gruppe 7\nBegegnungs-Nr: 0\nHeim: Meilen-Männedorf III\nGast: Wetzikon VII\n\nAdresse: Schulhausstr. 27\, 8706 Meilen\n
LOCATION:Schulhausstr. 27\, 8706 Meilen
CATEGORIES:Saison 2025/26
END:VEVENT
BEGIN:VEVENT
DTSTAMP:20260424T122741Z
DTSTART;TZID=Europe/Berlin:20260320T200000
DTEND;TZID=Europe/Berlin:20260320T230000
SUMMARY:HE 4. Liga Gr. 7 Glarus II vs Wetzikon VII (0)
UID:c8df413e-0be0-4449-bb5e-d921f6fad277
STATUS:CONFIRMED
LAST-MODIFIED:20260326T152440Z
DESCRIPTION:4. Liga Herren Gruppe 7\nBegegnungs-Nr: 0\nHeim: Glarus II\nGast: Wetzikon VII\n\nAdresse: Schwertgasse 23\, 8750 Glarus\n
LOCATION:Schwertgasse 23\, 8750 Glarus
CATEGORIES:Saison 2025/26
END:VEVENT
BEGIN:VEVENT
DTSTAMP:20260424T122741Z
DTSTART;TZID=Europe/Berlin:20260413T200000
DTEND;TZID=Europe/Berlin:20260413T230000
SUMMARY:HE 4. Liga Gr. 7 Wollerau vs Wetzikon VII (0)
UID:f3014c05-5e44-4b4f-987b-9403bf4e680f
STATUS:CONFIRMED
LAST-MODIFIED:20260416T103652Z
DESCRIPTION:4. Liga Herren Gruppe 7\nBegegnungs-Nr: 0\nHeim: Wollerau\nGast: Wetzikon VII\n\nAdresse: Erlenstrasse 18\, 8832 Wollerau\n
LOCATION:Erlenstrasse 18\, 8832 Wollerau
CATEGORIES:Saison 2025/26
END:VEVENT
BEGIN:VEVENT
DTSTAMP:20260424T122741Z
DTSTART;TZID=Europe/Berlin:20250825T194500
DTEND;TZID=Europe/Berlin:20250825T224500
SUMMARY:HE 4. Liga Gr. 7 Uster III vs Wetzikon VII (0)
UID:31a825dc-0b9c-44ac-a844-67b822cfada1
STATUS:CONFIRMED
LAST-MODIFIED:20250826T111954Z
DESCRIPTION:4. Liga Herren Gruppe 7\nBegegnungs-Nr: 0\nHeim: Uster III\nGast: Wetzikon VII\n\nAdresse: Wilstrasse 30 / Zürcherstrasse\, 8610 Uster\n
LOCATION:Wilstrasse 30 / Zürcherstrasse\, 8610 Uster
CATEGORIES:Saison 2025/26
END:VEVENT
BEGIN:VEVENT
DTSTAMP:20260424T122741Z
DTSTART;TZID=Europe/Berlin:20250919T201500
DTEND;TZID=Europe/Berlin:20250919T231500
SUMMARY:HE 4. Liga Gr. 7 Flums IV vs Wetzikon VII (0)
UID:42ff55b7-d400-4c57-a46b-d2719f5daa8f
STATUS:CONFIRMED
LAST-MODIFIED:20250926T131633Z
DESCRIPTION:4. Liga Herren Gruppe 7\nBegegnungs-Nr: 0\nHeim: Flums IV\nGast: Wetzikon VII\n\nAdresse: Bahnhofstrasse 23\, 8890 Flums\n
LOCATION:Bahnhofstrasse 23\, 8890 Flums
CATEGORIES:Saison 2025/26
END:VEVENT
BEGIN:VEVENT
DTSTAMP:20260424T122741Z
DTSTART;TZID=Europe/Berlin:20251103T200000
DTEND;TZID=Europe/Berlin:20251103T230000
SUMMARY:HE 4. Liga Gr. 7 Toggenburg II vs Wetzikon VII (0)
UID:9b3461b8-1b47-4fd3-897e-8bc64b21113a
STATUS:CONFIRMED
LAST-MODIFIED:20251107T144936Z
DESCRIPTION:4. Liga Herren Gruppe 7\nBegegnungs-Nr: 0\nHeim: Toggenburg II\nGast: Wetzikon VII\n\nAdresse: Frohmaderweg\, 9630 Wattwil\n
LOCATION:Frohmaderweg\, 9630 Wattwil
CATEGORIES:Saison 2025/26
END:VEVENT
END:VCALENDAR
