BEGIN:VCALENDAR
PRODID:-//nuDatenautomaten//framework iCal4j //DE
VERSION:2.0
CALSCALE:GREGORIAN
BEGIN:VTIMEZONE
TZID:Europe/Berlin
LAST-MODIFIED:20260306T231828Z
TZURL:https://www.tzurl.org/zoneinfo/Europe/Berlin
X-LIC-LOCATION:Europe/Berlin
X-PROLEPTIC-TZNAME:LMT
BEGIN:STANDARD
TZNAME:CET
TZOFFSETFROM:+005328
TZOFFSETTO:+0100
DTSTART:18930401T000000
END:STANDARD
BEGIN:DAYLIGHT
TZNAME:CEST
TZOFFSETFROM:+0100
TZOFFSETTO:+0200
DTSTART:19160430T230000
RDATE:19400401T020000
RDATE:19430329T020000
RDATE:19460414T020000
RDATE:19470406T030000
RDATE:19480418T020000
RDATE:19490410T020000
RDATE:19800406T020000
END:DAYLIGHT
BEGIN:STANDARD
TZNAME:CET
TZOFFSETFROM:+0200
TZOFFSETTO:+0100
DTSTART:19161001T010000
RDATE:19421102T030000
RDATE:19431004T030000
RDATE:19441002T030000
RDATE:19451118T030000
RDATE:19461007T030000
END:STANDARD
BEGIN:DAYLIGHT
TZNAME:CEST
TZOFFSETFROM:+0100
TZOFFSETTO:+0200
DTSTART:19170416T020000
RRULE:FREQ=YEARLY;UNTIL=19180415T010000Z;BYMONTH=4;BYDAY=3MO
END:DAYLIGHT
BEGIN:STANDARD
TZNAME:CET
TZOFFSETFROM:+0200
TZOFFSETTO:+0100
DTSTART:19170917T030000
RRULE:FREQ=YEARLY;UNTIL=19180916T010000Z;BYMONTH=9;BYDAY=3MO
END:STANDARD
BEGIN:DAYLIGHT
TZNAME:CEST
TZOFFSETFROM:+0100
TZOFFSETTO:+0200
DTSTART:19440403T020000
RRULE:FREQ=YEARLY;UNTIL=19450402T010000Z;BYMONTH=4;BYDAY=1MO
END:DAYLIGHT
BEGIN:DAYLIGHT
TZNAME:CEMT
TZOFFSETFROM:+0200
TZOFFSETTO:+0300
DTSTART:19450524T020000
RDATE:19470511T030000
END:DAYLIGHT
BEGIN:DAYLIGHT
TZNAME:CEST
TZOFFSETFROM:+0300
TZOFFSETTO:+0200
DTSTART:19450924T030000
RDATE:19470629T030000
END:DAYLIGHT
BEGIN:STANDARD
TZNAME:CET
TZOFFSETFROM:+0100
TZOFFSETTO:+0100
DTSTART:19460101T000000
RDATE:19800101T000000
END:STANDARD
BEGIN:STANDARD
TZNAME:CET
TZOFFSETFROM:+0200
TZOFFSETTO:+0100
DTSTART:19471005T030000
RRULE:FREQ=YEARLY;UNTIL=19491002T010000Z;BYMONTH=10;BYDAY=1SU
END:STANDARD
BEGIN:STANDARD
TZNAME:CET
TZOFFSETFROM:+0200
TZOFFSETTO:+0100
DTSTART:19800928T030000
RRULE:FREQ=YEARLY;UNTIL=19950924T010000Z;BYMONTH=9;BYDAY=-1SU
END:STANDARD
BEGIN:DAYLIGHT
TZNAME:CEST
TZOFFSETFROM:+0100
TZOFFSETTO:+0200
DTSTART:19810329T020000
RRULE:FREQ=YEARLY;BYMONTH=3;BYDAY=-1SU
END:DAYLIGHT
BEGIN:STANDARD
TZNAME:CET
TZOFFSETFROM:+0200
TZOFFSETTO:+0100
DTSTART:19961027T030000
RRULE:FREQ=YEARLY;BYMONTH=10;BYDAY=-1SU
END:STANDARD
END:VTIMEZONE
BEGIN:VEVENT
DTSTAMP:20260424T135849Z
DTSTART;TZID=Europe/Berlin:20250901T200000
DTEND;TZID=Europe/Berlin:20250901T230000
SUMMARY:HE 2. Liga Gr. 3 Chur II vs Affoltern A/A II (0)
UID:9797e4fe-7638-443f-8891-be15707e515e
STATUS:CONFIRMED
LAST-MODIFIED:20250902T091804Z
DESCRIPTION:2. Liga Herren Gruppe 3\nBegegnungs-Nr: 0\nHeim: Chur II\nGast: Affoltern A/A II\n\nAdresse: Sandstr. 35\, 7000 Chur\n
LOCATION:Sandstr. 35\, 7000 Chur
CATEGORIES:Saison 2025/26
END:VEVENT
BEGIN:VEVENT
DTSTAMP:20260424T135849Z
DTSTART;TZID=Europe/Berlin:20250922T200000
DTEND;TZID=Europe/Berlin:20250922T230000
SUMMARY:HE 2. Liga Gr. 3 Chur II vs Triesen (0)
UID:cd74f594-a2b4-4e83-81d4-afafbbc3242f
STATUS:CONFIRMED
LAST-MODIFIED:20250926T125833Z
DESCRIPTION:2. Liga Herren Gruppe 3\nBegegnungs-Nr: 0\nHeim: Chur II\nGast: Triesen\n\nAdresse: Sandstr. 35\, 7000 Chur\n
LOCATION:Sandstr. 35\, 7000 Chur
CATEGORIES:Saison 2025/26
END:VEVENT
BEGIN:VEVENT
DTSTAMP:20260424T135849Z
DTSTART;TZID=Europe/Berlin:20251103T200000
DTEND;TZID=Europe/Berlin:20251103T230000
SUMMARY:HE 2. Liga Gr. 3 Chur II vs Wädenswil II (0)
UID:815dd61f-5d43-408d-8eb3-5aa1018cdce7
STATUS:CONFIRMED
LAST-MODIFIED:20251107T144312Z
DESCRIPTION:2. Liga Herren Gruppe 3\nBegegnungs-Nr: 0\nHeim: Chur II\nGast: Wädenswil II\n\nAdresse: Sandstr. 35\, 7000 Chur\n
LOCATION:Sandstr. 35\, 7000 Chur
CATEGORIES:Saison 2025/26
END:VEVENT
BEGIN:VEVENT
DTSTAMP:20260424T135849Z
DTSTART;TZID=Europe/Berlin:20260112T200000
DTEND;TZID=Europe/Berlin:20260112T230000
SUMMARY:HE 2. Liga Gr. 3 Chur II vs Chur III (0)
UID:d1c9d8fb-b7ac-4b89-97fc-f5324b576a7d
STATUS:CONFIRMED
LAST-MODIFIED:20260115T093521Z
DESCRIPTION:2. Liga Herren Gruppe 3\nBegegnungs-Nr: 0\nHeim: Chur II\nGast: Chur III\n\nAdresse: Sandstr. 35\, 7000 Chur\n
LOCATION:Sandstr. 35\, 7000 Chur
CATEGORIES:Saison 2025/26
END:VEVENT
BEGIN:VEVENT
DTSTAMP:20260424T135849Z
DTSTART;TZID=Europe/Berlin:20260126T200000
DTEND;TZID=Europe/Berlin:20260126T230000
SUMMARY:HE 2. Liga Gr. 3 Chur II vs Rapperswil-Jona V (0)
UID:977c86dd-d5c4-45c1-9c60-415043e02de0
STATUS:CONFIRMED
LAST-MODIFIED:20260127T134449Z
DESCRIPTION:2. Liga Herren Gruppe 3\nBegegnungs-Nr: 0\nHeim: Chur II\nGast: Rapperswil-Jona V\n\nAdresse: Sandstr. 35\, 7000 Chur\n
LOCATION:Sandstr. 35\, 7000 Chur
CATEGORIES:Saison 2025/26
END:VEVENT
BEGIN:VEVENT
DTSTAMP:20260424T135849Z
DTSTART;TZID=Europe/Berlin:20260309T200000
DTEND;TZID=Europe/Berlin:20260309T230000
SUMMARY:HE 2. Liga Gr. 3 Chur II vs Wetzikon IV (0)
UID:866e6af7-7026-431f-a5c1-be3bae072aa6
STATUS:CONFIRMED
LAST-MODIFIED:20260310T155025Z
DESCRIPTION:2. Liga Herren Gruppe 3\nBegegnungs-Nr: 0\nHeim: Chur II\nGast: Wetzikon IV\n\nAdresse: Sandstr. 35\, 7000 Chur\n
LOCATION:Sandstr. 35\, 7000 Chur
CATEGORIES:Saison 2025/26
END:VEVENT
BEGIN:VEVENT
DTSTAMP:20260424T135849Z
DTSTART;TZID=Europe/Berlin:20260330T200000
DTEND;TZID=Europe/Berlin:20260330T230000
SUMMARY:HE 2. Liga Gr. 3 Chur II vs Uster (0)
UID:9114ff77-142c-45ad-b59b-d6f015ac31f9
STATUS:CONFIRMED
LAST-MODIFIED:20260401T121240Z
DESCRIPTION:2. Liga Herren Gruppe 3\nBegegnungs-Nr: 0\nHeim: Chur II\nGast: Uster\n\nAdresse: Sandstr. 35\, 7000 Chur\n
LOCATION:Sandstr. 35\, 7000 Chur
CATEGORIES:Saison 2025/26
END:VEVENT
BEGIN:VEVENT
DTSTAMP:20260424T135849Z
DTSTART;TZID=Europe/Berlin:20250829T200000
DTEND;TZID=Europe/Berlin:20250829T230000
SUMMARY:HE 2. Liga Gr. 3 Chur III vs Chur II (0)
UID:292fba6c-a35b-4994-8187-759be65a33fe
STATUS:CONFIRMED
LAST-MODIFIED:20250902T091727Z
DESCRIPTION:2. Liga Herren Gruppe 3\nBegegnungs-Nr: 0\nHeim: Chur III\nGast: Chur II\n\nAdresse: Bodmerstrasse 10\, 7000 Chur\n
LOCATION:Bodmerstrasse 10\, 7000 Chur
CATEGORIES:Saison 2025/26
END:VEVENT
BEGIN:VEVENT
DTSTAMP:20260424T135849Z
DTSTART;TZID=Europe/Berlin:20250918T200000
DTEND;TZID=Europe/Berlin:20250918T230000
SUMMARY:HE 2. Liga Gr. 3 Rapperswil-Jona V vs Chur II (0)
UID:5b8bf74b-829d-4da5-8bd4-8e08c9ca9ce1
STATUS:CONFIRMED
LAST-MODIFIED:20250926T125815Z
DESCRIPTION:2. Liga Herren Gruppe 3\nBegegnungs-Nr: 0\nHeim: Rapperswil-Jona V\nGast: Chur II\n\nAdresse: Kreuzstrasse 43\, 8640 Rapperswil\n
LOCATION:Kreuzstrasse 43\, 8640 Rapperswil
CATEGORIES:Saison 2025/26
END:VEVENT
BEGIN:VEVENT
DTSTAMP:20260424T135849Z
DTSTART;TZID=Europe/Berlin:20251110T194500
DTEND;TZID=Europe/Berlin:20251110T224500
SUMMARY:HE 2. Liga Gr. 3 Wetzikon IV vs Chur II (0)
UID:67fa851c-5d34-455d-bb22-f830fa89f28a
STATUS:CONFIRMED
LAST-MODIFIED:20251114T141823Z
DESCRIPTION:2. Liga Herren Gruppe 3\nBegegnungs-Nr: 0\nHeim: Wetzikon IV\nGast: Chur II\n\nAdresse: Usterstrasse 37\, 8620 Wetzikon\n
LOCATION:Usterstrasse 37\, 8620 Wetzikon
CATEGORIES:Saison 2025/26
END:VEVENT
BEGIN:VEVENT
DTSTAMP:20260424T135849Z
DTSTART;TZID=Europe/Berlin:20251203T201500
DTEND;TZID=Europe/Berlin:20251203T231500
SUMMARY:HE 2. Liga Gr. 3 Uster vs Chur II (0)
UID:c2fe0ab3-a469-48ed-ad4c-59b868b1e380
STATUS:CONFIRMED
LAST-MODIFIED:20251207T124717Z
DESCRIPTION:2. Liga Herren Gruppe 3\nBegegnungs-Nr: 0\nHeim: Uster\nGast: Chur II\n\nAdresse: Wilstrasse 30 / Zürcherstrasse\, 8610 Uster\n
LOCATION:Wilstrasse 30 / Zürcherstrasse\, 8610 Uster
CATEGORIES:Saison 2025/26
END:VEVENT
BEGIN:VEVENT
DTSTAMP:20260424T135849Z
DTSTART;TZID=Europe/Berlin:20260120T193000
DTEND;TZID=Europe/Berlin:20260120T223000
SUMMARY:HE 2. Liga Gr. 3 Affoltern A/A II vs Chur II (0)
UID:126cde22-4f39-4962-be89-6b96c668d682
STATUS:CONFIRMED
LAST-MODIFIED:20260121T092449Z
DESCRIPTION:2. Liga Herren Gruppe 3\nBegegnungs-Nr: 0\nHeim: Affoltern A/A II\nGast: Chur II\n\nAdresse: Butzenstrasse 8\, 8910 Affoltern am Albis\n
LOCATION:Butzenstrasse 8\, 8910 Affoltern am Albis
CATEGORIES:Saison 2025/26
END:VEVENT
BEGIN:VEVENT
DTSTAMP:20260424T135849Z
DTSTART;TZID=Europe/Berlin:20260227T194500
DTEND;TZID=Europe/Berlin:20260227T224500
SUMMARY:HE 2. Liga Gr. 3 Triesen vs Chur II (0)
UID:0724a02d-05dd-49d1-b004-3b01851318e3
STATUS:CONFIRMED
LAST-MODIFIED:20260303T105857Z
DESCRIPTION:2. Liga Herren Gruppe 3\nBegegnungs-Nr: 0\nHeim: Triesen\nGast: Chur II\n\nAdresse: Gässle 12\, 9495 Triesen\n
LOCATION:Gässle 12\, 9495 Triesen
CATEGORIES:Saison 2025/26
END:VEVENT
BEGIN:VEVENT
DTSTAMP:20260424T135849Z
DTSTART;TZID=Europe/Berlin:20260326T201500
DTEND;TZID=Europe/Berlin:20260326T231500
SUMMARY:HE 2. Liga Gr. 3 Wädenswil II vs Chur II (0)
UID:623a5641-4bfa-48ae-9212-1595be3e98c3
STATUS:CONFIRMED
LAST-MODIFIED:20260401T121136Z
DESCRIPTION:2. Liga Herren Gruppe 3\nBegegnungs-Nr: 0\nHeim: Wädenswil II\nGast: Chur II\n\nAdresse: Speerstrasse 95\, 8820 Wädenswil\n
LOCATION:Speerstrasse 95\, 8820 Wädenswil
CATEGORIES:Saison 2025/26
END:VEVENT
END:VCALENDAR
