BEGIN:VCALENDAR
PRODID:-//nuDatenautomaten//framework iCal4j //DE
VERSION:2.0
CALSCALE:GREGORIAN
BEGIN:VTIMEZONE
TZID:Europe/Berlin
LAST-MODIFIED:20260306T231828Z
TZURL:https://www.tzurl.org/zoneinfo/Europe/Berlin
X-LIC-LOCATION:Europe/Berlin
X-PROLEPTIC-TZNAME:LMT
BEGIN:STANDARD
TZNAME:CET
TZOFFSETFROM:+005328
TZOFFSETTO:+0100
DTSTART:18930401T000000
END:STANDARD
BEGIN:DAYLIGHT
TZNAME:CEST
TZOFFSETFROM:+0100
TZOFFSETTO:+0200
DTSTART:19160430T230000
RDATE:19400401T020000
RDATE:19430329T020000
RDATE:19460414T020000
RDATE:19470406T030000
RDATE:19480418T020000
RDATE:19490410T020000
RDATE:19800406T020000
END:DAYLIGHT
BEGIN:STANDARD
TZNAME:CET
TZOFFSETFROM:+0200
TZOFFSETTO:+0100
DTSTART:19161001T010000
RDATE:19421102T030000
RDATE:19431004T030000
RDATE:19441002T030000
RDATE:19451118T030000
RDATE:19461007T030000
END:STANDARD
BEGIN:DAYLIGHT
TZNAME:CEST
TZOFFSETFROM:+0100
TZOFFSETTO:+0200
DTSTART:19170416T020000
RRULE:FREQ=YEARLY;UNTIL=19180415T010000Z;BYMONTH=4;BYDAY=3MO
END:DAYLIGHT
BEGIN:STANDARD
TZNAME:CET
TZOFFSETFROM:+0200
TZOFFSETTO:+0100
DTSTART:19170917T030000
RRULE:FREQ=YEARLY;UNTIL=19180916T010000Z;BYMONTH=9;BYDAY=3MO
END:STANDARD
BEGIN:DAYLIGHT
TZNAME:CEST
TZOFFSETFROM:+0100
TZOFFSETTO:+0200
DTSTART:19440403T020000
RRULE:FREQ=YEARLY;UNTIL=19450402T010000Z;BYMONTH=4;BYDAY=1MO
END:DAYLIGHT
BEGIN:DAYLIGHT
TZNAME:CEMT
TZOFFSETFROM:+0200
TZOFFSETTO:+0300
DTSTART:19450524T020000
RDATE:19470511T030000
END:DAYLIGHT
BEGIN:DAYLIGHT
TZNAME:CEST
TZOFFSETFROM:+0300
TZOFFSETTO:+0200
DTSTART:19450924T030000
RDATE:19470629T030000
END:DAYLIGHT
BEGIN:STANDARD
TZNAME:CET
TZOFFSETFROM:+0100
TZOFFSETTO:+0100
DTSTART:19460101T000000
RDATE:19800101T000000
END:STANDARD
BEGIN:STANDARD
TZNAME:CET
TZOFFSETFROM:+0200
TZOFFSETTO:+0100
DTSTART:19471005T030000
RRULE:FREQ=YEARLY;UNTIL=19491002T010000Z;BYMONTH=10;BYDAY=1SU
END:STANDARD
BEGIN:STANDARD
TZNAME:CET
TZOFFSETFROM:+0200
TZOFFSETTO:+0100
DTSTART:19800928T030000
RRULE:FREQ=YEARLY;UNTIL=19950924T010000Z;BYMONTH=9;BYDAY=-1SU
END:STANDARD
BEGIN:DAYLIGHT
TZNAME:CEST
TZOFFSETFROM:+0100
TZOFFSETTO:+0200
DTSTART:19810329T020000
RRULE:FREQ=YEARLY;BYMONTH=3;BYDAY=-1SU
END:DAYLIGHT
BEGIN:STANDARD
TZNAME:CET
TZOFFSETFROM:+0200
TZOFFSETTO:+0100
DTSTART:19961027T030000
RRULE:FREQ=YEARLY;BYMONTH=10;BYDAY=-1SU
END:STANDARD
END:VTIMEZONE
BEGIN:VEVENT
DTSTAMP:20260424T063720Z
DTSTART;TZID=Europe/Berlin:20250905T193000
DTEND;TZID=Europe/Berlin:20250905T223000
SUMMARY:HE 1. Liga Bern vs Thun (2)
UID:a98b0cb8-2b95-4d71-af2f-f3b7f6113cec
STATUS:CONFIRMED
LAST-MODIFIED:20250907T200418Z
DESCRIPTION:1. Liga Herren\nBegegnungs-Nr: 2\nHeim: Bern\nGast: Thun\n\nAdresse: Papiermühlestrasse 81\, 3014 Bern\n
LOCATION:Papiermühlestrasse 81\, 3014 Bern
CATEGORIES:Saison 2025/26
END:VEVENT
BEGIN:VEVENT
DTSTAMP:20260424T063720Z
DTSTART;TZID=Europe/Berlin:20250917T194500
DTEND;TZID=Europe/Berlin:20250917T224500
SUMMARY:HE 1. Liga Bern vs Herzogenbuchsee (12)
UID:7ddc7f4c-beb9-4128-a39f-d464cbb85bec
STATUS:CONFIRMED
LAST-MODIFIED:20250918T140126Z
DESCRIPTION:1. Liga Herren\nBegegnungs-Nr: 12\nHeim: Bern\nGast: Herzogenbuchsee\n\nAdresse: Papiermühlestrasse 81\, 3014 Bern\n
LOCATION:Papiermühlestrasse 81\, 3014 Bern
CATEGORIES:Saison 2025/26
END:VEVENT
BEGIN:VEVENT
DTSTAMP:20260424T063720Z
DTSTART;TZID=Europe/Berlin:20251203T193000
DTEND;TZID=Europe/Berlin:20251203T223000
SUMMARY:HE 1. Liga Bern vs Solothurn (32)
UID:90c36c2e-bf2e-4e98-b6d9-8141ac6be284
STATUS:CONFIRMED
LAST-MODIFIED:20251206T230554Z
DESCRIPTION:1. Liga Herren\nBegegnungs-Nr: 32\nHeim: Bern\nGast: Solothurn\n\nAdresse: Papiermühlestrasse 81\, 3014 Bern\n
LOCATION:Papiermühlestrasse 81\, 3014 Bern
CATEGORIES:Saison 2025/26
END:VEVENT
BEGIN:VEVENT
DTSTAMP:20260424T063720Z
DTSTART;TZID=Europe/Berlin:20251031T193000
DTEND;TZID=Europe/Berlin:20251031T223000
SUMMARY:HE 1. Liga Bern vs Burgdorf III (22)
UID:cdeb5479-9041-4601-a366-2ce65c393059
STATUS:CONFIRMED
LAST-MODIFIED:20251111T072127Z
DESCRIPTION:1. Liga Herren\nBegegnungs-Nr: 22\nHeim: Bern\nGast: Burgdorf III\n\nAdresse: Papiermühlestrasse 81\, 3014 Bern\n
LOCATION:Papiermühlestrasse 81\, 3014 Bern
CATEGORIES:Saison 2025/26
END:VEVENT
BEGIN:VEVENT
DTSTAMP:20260424T063720Z
DTSTART;TZID=Europe/Berlin:20260327T193000
DTEND;TZID=Europe/Berlin:20260327T223000
SUMMARY:HE 1. Liga Bern vs Port II (41)
UID:a1a4f4fc-34eb-4cb9-a84e-0226977e5ee2
STATUS:CONFIRMED
LAST-MODIFIED:20260409T123541Z
DESCRIPTION:1. Liga Herren\nBegegnungs-Nr: 41\nHeim: Bern\nGast: Port II\n\nAdresse: Papiermühlestrasse 81\, 3014 Bern\n
LOCATION:Papiermühlestrasse 81\, 3014 Bern
CATEGORIES:Saison 2025/26
END:VEVENT
BEGIN:VEVENT
DTSTAMP:20260424T063720Z
DTSTART;TZID=Europe/Berlin:20260318T193000
DTEND;TZID=Europe/Berlin:20260318T223000
SUMMARY:HE 1. Liga Bern vs Heimberg II (37)
UID:80d095e4-f05e-4ac2-aba9-6563fb9f5982
STATUS:CONFIRMED
LAST-MODIFIED:20260327T143037Z
DESCRIPTION:1. Liga Herren\nBegegnungs-Nr: 37\nHeim: Bern\nGast: Heimberg II\n\nAdresse: Papiermühlestrasse 81\, 3014 Bern\n
LOCATION:Papiermühlestrasse 81\, 3014 Bern
CATEGORIES:Saison 2025/26
END:VEVENT
BEGIN:VEVENT
DTSTAMP:20260424T063720Z
DTSTART;TZID=Europe/Berlin:20260304T193000
DTEND;TZID=Europe/Berlin:20260304T223000
SUMMARY:HE 1. Liga Bern vs Aarberg (27)
UID:c77e7625-882b-439c-afda-035370924c7a
STATUS:CONFIRMED
LAST-MODIFIED:20260308T173221Z
DESCRIPTION:1. Liga Herren\nBegegnungs-Nr: 27\nHeim: Bern\nGast: Aarberg\n\nAdresse: Papiermühlestrasse 81\, 3014 Bern\n
LOCATION:Papiermühlestrasse 81\, 3014 Bern
CATEGORIES:Saison 2025/26
END:VEVENT
BEGIN:VEVENT
DTSTAMP:20260424T063720Z
DTSTART;TZID=Europe/Berlin:20260316T193000
DTEND;TZID=Europe/Berlin:20260316T223000
SUMMARY:HE 1. Liga Bern vs Münchenbuchsee (17)
UID:7520ab73-1ea0-4e2b-a0d6-8e0f8dd524bc
STATUS:CONFIRMED
LAST-MODIFIED:20260327T143003Z
DESCRIPTION:1. Liga Herren\nBegegnungs-Nr: 17\nHeim: Bern\nGast: Münchenbuchsee\n\nAdresse: Mädergutstrasse 58\, 3018 Bern\n
LOCATION:Mädergutstrasse 58\, 3018 Bern
CATEGORIES:Saison 2025/26
END:VEVENT
BEGIN:VEVENT
DTSTAMP:20260424T063720Z
DTSTART;TZID=Europe/Berlin:20260116T193000
DTEND;TZID=Europe/Berlin:20260116T223000
SUMMARY:HE 1. Liga Bern vs Port III (7)
UID:75554850-6b1c-4b68-b04f-3645fb205237
STATUS:CONFIRMED
LAST-MODIFIED:20260124T235903Z
DESCRIPTION:1. Liga Herren\nBegegnungs-Nr: 7\nHeim: Bern\nGast: Port III\n\nAdresse: Papiermühlestrasse 81\, 3014 Bern\n
LOCATION:Papiermühlestrasse 81\, 3014 Bern
CATEGORIES:Saison 2025/26
END:VEVENT
BEGIN:VEVENT
DTSTAMP:20260424T063720Z
DTSTART;TZID=Europe/Berlin:20251029T193000
DTEND;TZID=Europe/Berlin:20251029T223000
SUMMARY:HE 1. Liga Münchenbuchsee vs Bern (17)
UID:0f3ae4e2-ed60-4066-bde3-a4832aabc1e7
STATUS:CONFIRMED
LAST-MODIFIED:20251111T072056Z
DESCRIPTION:1. Liga Herren\nBegegnungs-Nr: 17\nHeim: Münchenbuchsee\nGast: Bern\n\nAdresse: Laubbergweg 41\, 3053 Münchenbuchsee\n
LOCATION:Laubbergweg 41\, 3053 Münchenbuchsee
CATEGORIES:Saison 2025/26
END:VEVENT
BEGIN:VEVENT
DTSTAMP:20260424T063720Z
DTSTART;TZID=Europe/Berlin:20250916T194500
DTEND;TZID=Europe/Berlin:20250916T224500
SUMMARY:HE 1. Liga Port III vs Bern (7)
UID:c968f391-6bb7-468f-bba9-f93549af9304
STATUS:CONFIRMED
LAST-MODIFIED:20250918T140107Z
DESCRIPTION:1. Liga Herren\nBegegnungs-Nr: 7\nHeim: Port III\nGast: Bern\n\nAdresse: Allmendstrasse 23\, 2562 Port\n
LOCATION:Allmendstrasse 23\, 2562 Port
CATEGORIES:Saison 2025/26
END:VEVENT
BEGIN:VEVENT
DTSTAMP:20260424T063720Z
DTSTART;TZID=Europe/Berlin:20251216T194500
DTEND;TZID=Europe/Berlin:20251216T224500
SUMMARY:HE 1. Liga Port II vs Bern (41)
UID:dc3d4917-26ab-4f1f-b9d9-923379a9c34f
STATUS:CONFIRMED
LAST-MODIFIED:20251217T100718Z
DESCRIPTION:1. Liga Herren\nBegegnungs-Nr: 41\nHeim: Port II\nGast: Bern\n\nAdresse: Allmendstrasse 23\, 2562 Port\n
LOCATION:Allmendstrasse 23\, 2562 Port
CATEGORIES:Saison 2025/26
END:VEVENT
BEGIN:VEVENT
DTSTAMP:20260424T063720Z
DTSTART;TZID=Europe/Berlin:20251206T150000
DTEND;TZID=Europe/Berlin:20251206T180000
SUMMARY:HE 1. Liga Heimberg II vs Bern (37)
UID:1452d9da-d3cb-4c01-8133-22a9f9aa0bcc
STATUS:CONFIRMED
LAST-MODIFIED:20251207T172534Z
DESCRIPTION:1. Liga Herren\nBegegnungs-Nr: 37\nHeim: Heimberg II\nGast: Bern\n\nAdresse: Niesenstrasse 38\, 3627 Heimberg\n
LOCATION:Niesenstrasse 38\, 3627 Heimberg
CATEGORIES:Saison 2025/26
END:VEVENT
BEGIN:VEVENT
DTSTAMP:20260424T063720Z
DTSTART;TZID=Europe/Berlin:20251112T201500
DTEND;TZID=Europe/Berlin:20251112T231500
SUMMARY:HE 1. Liga Aarberg vs Bern (27)
UID:5699ceea-cb65-4291-921c-3f8ad8774b0f
STATUS:CONFIRMED
LAST-MODIFIED:20251115T171108Z
DESCRIPTION:1. Liga Herren\nBegegnungs-Nr: 27\nHeim: Aarberg\nGast: Bern\n\nAdresse: Nidaustrasse 7\, 3270 Aarberg\n
LOCATION:Nidaustrasse 7\, 3270 Aarberg
CATEGORIES:Saison 2025/26
END:VEVENT
BEGIN:VEVENT
DTSTAMP:20260424T063720Z
DTSTART;TZID=Europe/Berlin:20260325T194500
DTEND;TZID=Europe/Berlin:20260325T224500
SUMMARY:HE 1. Liga Solothurn vs Bern (32)
UID:c5893385-6eb6-4371-b912-3dcad21e1ffa
STATUS:CONFIRMED
LAST-MODIFIED:20260409T123531Z
DESCRIPTION:1. Liga Herren\nBegegnungs-Nr: 32\nHeim: Solothurn\nGast: Bern\n\nAdresse: Untere Sternengasse 24\, 4500 Solothurn\n
LOCATION:Untere Sternengasse 24\, 4500 Solothurn
CATEGORIES:Saison 2025/26
END:VEVENT
BEGIN:VEVENT
DTSTAMP:20260424T063720Z
DTSTART;TZID=Europe/Berlin:20260110T130000
DTEND;TZID=Europe/Berlin:20260110T160000
SUMMARY:HE 1. Liga Thun vs Bern (2)
UID:e98af912-c1e2-4501-9947-4fab2bec9ba1
STATUS:CONFIRMED
LAST-MODIFIED:20260124T235830Z
DESCRIPTION:1. Liga Herren\nBegegnungs-Nr: 2\nHeim: Thun\nGast: Bern\n\nAdresse: Hallerstrasse 28\, 3604 Thun\n
LOCATION:Hallerstrasse 28\, 3604 Thun
CATEGORIES:Saison 2025/26
END:VEVENT
BEGIN:VEVENT
DTSTAMP:20260424T063720Z
DTSTART;TZID=Europe/Berlin:20260220T193000
DTEND;TZID=Europe/Berlin:20260220T223000
SUMMARY:HE 1. Liga Burgdorf III vs Bern (22)
UID:7415800c-2c82-43f9-ba27-34c4b5bd718e
STATUS:CONFIRMED
LAST-MODIFIED:20260224T075005Z
DESCRIPTION:1. Liga Herren\nBegegnungs-Nr: 22\nHeim: Burgdorf III\nGast: Bern\n\nAdresse: Pestalozzistrasse 69\, 3400 Burgdorf\n
LOCATION:Pestalozzistrasse 69\, 3400 Burgdorf
CATEGORIES:Saison 2025/26
END:VEVENT
BEGIN:VEVENT
DTSTAMP:20260424T063720Z
DTSTART;TZID=Europe/Berlin:20260127T201500
DTEND;TZID=Europe/Berlin:20260127T231500
SUMMARY:HE 1. Liga Herzogenbuchsee vs Bern (12)
UID:b2b1fa99-f786-4e1a-a8cd-95f89d7f3ff9
STATUS:CONFIRMED
LAST-MODIFIED:20260217T211826Z
DESCRIPTION:1. Liga Herren\nBegegnungs-Nr: 12\nHeim: Herzogenbuchsee\nGast: Bern\n\nAdresse: Ringstrasse 10\, 3360 Herzogenbuchsee\n
LOCATION:Ringstrasse 10\, 3360 Herzogenbuchsee
CATEGORIES:Saison 2025/26
END:VEVENT
END:VCALENDAR
