BEGIN:VCALENDAR
PRODID:-//nuDatenautomaten//framework iCal4j //DE
VERSION:2.0
CALSCALE:GREGORIAN
BEGIN:VTIMEZONE
TZID:Europe/Berlin
LAST-MODIFIED:20260306T231828Z
TZURL:https://www.tzurl.org/zoneinfo/Europe/Berlin
X-LIC-LOCATION:Europe/Berlin
X-PROLEPTIC-TZNAME:LMT
BEGIN:STANDARD
TZNAME:CET
TZOFFSETFROM:+005328
TZOFFSETTO:+0100
DTSTART:18930401T000000
END:STANDARD
BEGIN:DAYLIGHT
TZNAME:CEST
TZOFFSETFROM:+0100
TZOFFSETTO:+0200
DTSTART:19160430T230000
RDATE:19400401T020000
RDATE:19430329T020000
RDATE:19460414T020000
RDATE:19470406T030000
RDATE:19480418T020000
RDATE:19490410T020000
RDATE:19800406T020000
END:DAYLIGHT
BEGIN:STANDARD
TZNAME:CET
TZOFFSETFROM:+0200
TZOFFSETTO:+0100
DTSTART:19161001T010000
RDATE:19421102T030000
RDATE:19431004T030000
RDATE:19441002T030000
RDATE:19451118T030000
RDATE:19461007T030000
END:STANDARD
BEGIN:DAYLIGHT
TZNAME:CEST
TZOFFSETFROM:+0100
TZOFFSETTO:+0200
DTSTART:19170416T020000
RRULE:FREQ=YEARLY;UNTIL=19180415T010000Z;BYMONTH=4;BYDAY=3MO
END:DAYLIGHT
BEGIN:STANDARD
TZNAME:CET
TZOFFSETFROM:+0200
TZOFFSETTO:+0100
DTSTART:19170917T030000
RRULE:FREQ=YEARLY;UNTIL=19180916T010000Z;BYMONTH=9;BYDAY=3MO
END:STANDARD
BEGIN:DAYLIGHT
TZNAME:CEST
TZOFFSETFROM:+0100
TZOFFSETTO:+0200
DTSTART:19440403T020000
RRULE:FREQ=YEARLY;UNTIL=19450402T010000Z;BYMONTH=4;BYDAY=1MO
END:DAYLIGHT
BEGIN:DAYLIGHT
TZNAME:CEMT
TZOFFSETFROM:+0200
TZOFFSETTO:+0300
DTSTART:19450524T020000
RDATE:19470511T030000
END:DAYLIGHT
BEGIN:DAYLIGHT
TZNAME:CEST
TZOFFSETFROM:+0300
TZOFFSETTO:+0200
DTSTART:19450924T030000
RDATE:19470629T030000
END:DAYLIGHT
BEGIN:STANDARD
TZNAME:CET
TZOFFSETFROM:+0100
TZOFFSETTO:+0100
DTSTART:19460101T000000
RDATE:19800101T000000
END:STANDARD
BEGIN:STANDARD
TZNAME:CET
TZOFFSETFROM:+0200
TZOFFSETTO:+0100
DTSTART:19471005T030000
RRULE:FREQ=YEARLY;UNTIL=19491002T010000Z;BYMONTH=10;BYDAY=1SU
END:STANDARD
BEGIN:STANDARD
TZNAME:CET
TZOFFSETFROM:+0200
TZOFFSETTO:+0100
DTSTART:19800928T030000
RRULE:FREQ=YEARLY;UNTIL=19950924T010000Z;BYMONTH=9;BYDAY=-1SU
END:STANDARD
BEGIN:DAYLIGHT
TZNAME:CEST
TZOFFSETFROM:+0100
TZOFFSETTO:+0200
DTSTART:19810329T020000
RRULE:FREQ=YEARLY;BYMONTH=3;BYDAY=-1SU
END:DAYLIGHT
BEGIN:STANDARD
TZNAME:CET
TZOFFSETFROM:+0200
TZOFFSETTO:+0100
DTSTART:19961027T030000
RRULE:FREQ=YEARLY;BYMONTH=10;BYDAY=-1SU
END:STANDARD
END:VTIMEZONE
BEGIN:VEVENT
DTSTAMP:20260424T165359Z
DTSTART;TZID=Europe/Berlin:20251029T200000
DTEND;TZID=Europe/Berlin:20251029T230000
SUMMARY:HE 4. Liga Gr. 3 Steckborn-Homburg III vs Embrachertal III (0)
UID:6813047b-ff9d-4ded-a1ff-b852fba11053
STATUS:CONFIRMED
LAST-MODIFIED:20251107T152819Z
DESCRIPTION:4. Liga Herren Gruppe 3\nBegegnungs-Nr: 0\nHeim: Steckborn-Homburg III\nGast: Embrachertal III\n\nAdresse: Schulstrasse 4\, 8508 Unterhörstetten\n
LOCATION:Schulstrasse 4\, 8508 Unterhörstetten
CATEGORIES:Saison 2025/26
END:VEVENT
BEGIN:VEVENT
DTSTAMP:20260424T165359Z
DTSTART;TZID=Europe/Berlin:20260128T200000
DTEND;TZID=Europe/Berlin:20260128T230000
SUMMARY:HE 4. Liga Gr. 3 Steckborn-Homburg III vs Niederhasli IV (0)
UID:8ca0138f-30d4-41cf-90f3-f87c11bcfdca
STATUS:CONFIRMED
LAST-MODIFIED:20260130T082008Z
DESCRIPTION:4. Liga Herren Gruppe 3\nBegegnungs-Nr: 0\nHeim: Steckborn-Homburg III\nGast: Niederhasli IV\n\nAdresse: Schulstrasse 4\, 8508 Unterhörstetten\n
LOCATION:Schulstrasse 4\, 8508 Unterhörstetten
CATEGORIES:Saison 2025/26
END:VEVENT
BEGIN:VEVENT
DTSTAMP:20260424T165359Z
DTSTART;TZID=Europe/Berlin:20250827T200000
DTEND;TZID=Europe/Berlin:20250827T230000
SUMMARY:HE 4. Liga Gr. 3 Steckborn-Homburg III vs Bülach III (0)
UID:afedc384-7eb9-4807-9947-af56af38dae5
STATUS:CONFIRMED
LAST-MODIFIED:20250829T143451Z
DESCRIPTION:4. Liga Herren Gruppe 3\nBegegnungs-Nr: 0\nHeim: Steckborn-Homburg III\nGast: Bülach III\n\nAdresse: Schulstrasse 4\, 8508 Unterhörstetten\n
LOCATION:Schulstrasse 4\, 8508 Unterhörstetten
CATEGORIES:Saison 2025/26
END:VEVENT
BEGIN:VEVENT
DTSTAMP:20260424T165359Z
DTSTART;TZID=Europe/Berlin:20250917T200000
DTEND;TZID=Europe/Berlin:20250917T230000
SUMMARY:HE 4. Liga Gr. 3 Steckborn-Homburg III vs Dübendorf-Volketswil II (0)
UID:6474baa5-9476-4c55-8e95-cc3d563aab88
STATUS:CONFIRMED
LAST-MODIFIED:20250926T130917Z
DESCRIPTION:4. Liga Herren Gruppe 3\nBegegnungs-Nr: 0\nHeim: Steckborn-Homburg III\nGast: Dübendorf-Volketswil II\n\nAdresse: Schulstrasse 4\, 8508 Unterhörstetten\n
LOCATION:Schulstrasse 4\, 8508 Unterhörstetten
CATEGORIES:Saison 2025/26
END:VEVENT
BEGIN:VEVENT
DTSTAMP:20260424T165359Z
DTSTART;TZID=Europe/Berlin:20260302T200000
DTEND;TZID=Europe/Berlin:20260302T230000
SUMMARY:HE 4. Liga Gr. 3 Steckborn-Homburg III vs Uster II (0)
UID:98883919-1777-4dc5-b1dc-e6a1f7afa2a0
STATUS:CONFIRMED
LAST-MODIFIED:20260303T110041Z
DESCRIPTION:4. Liga Herren Gruppe 3\nBegegnungs-Nr: 0\nHeim: Steckborn-Homburg III\nGast: Uster II\n\nAdresse: Feldbach\, 8266 Steckborn\n
LOCATION:Feldbach\, 8266 Steckborn
CATEGORIES:Saison 2025/26
END:VEVENT
BEGIN:VEVENT
DTSTAMP:20260424T165359Z
DTSTART;TZID=Europe/Berlin:20260325T200000
DTEND;TZID=Europe/Berlin:20260325T230000
SUMMARY:HE 4. Liga Gr. 3 Steckborn-Homburg III vs Neuhausen V (0)
UID:68b47e38-b77d-4117-8702-51efeaa5f4b6
STATUS:CONFIRMED
LAST-MODIFIED:20260330T135127Z
DESCRIPTION:4. Liga Herren Gruppe 3\nBegegnungs-Nr: 0\nHeim: Steckborn-Homburg III\nGast: Neuhausen V\n\nAdresse: Schulstrasse 4\, 8508 Unterhörstetten\n
LOCATION:Schulstrasse 4\, 8508 Unterhörstetten
CATEGORIES:Saison 2025/26
END:VEVENT
BEGIN:VEVENT
DTSTAMP:20260424T165359Z
DTSTART;TZID=Europe/Berlin:20260415T200000
DTEND;TZID=Europe/Berlin:20260415T230000
SUMMARY:HE 4. Liga Gr. 3 Steckborn-Homburg III vs Winterthur III (0)
UID:5d356ed0-42ff-4b53-a3cc-deb196f7e812
STATUS:CONFIRMED
LAST-MODIFIED:20260416T103340Z
DESCRIPTION:4. Liga Herren Gruppe 3\nBegegnungs-Nr: 0\nHeim: Steckborn-Homburg III\nGast: Winterthur III\n\nAdresse: Schulstrasse 4\, 8508 Unterhörstetten\n
LOCATION:Schulstrasse 4\, 8508 Unterhörstetten
CATEGORIES:Saison 2025/26
END:VEVENT
BEGIN:VEVENT
DTSTAMP:20260424T165359Z
DTSTART;TZID=Europe/Berlin:20251204T200000
DTEND;TZID=Europe/Berlin:20251204T230000
SUMMARY:HE 4. Liga Gr. 3 Winterthur III vs Steckborn-Homburg III (0)
UID:6e20ce75-bf31-4625-a5e1-743bef89c198
STATUS:CONFIRMED
LAST-MODIFIED:20251210T083906Z
DESCRIPTION:4. Liga Herren Gruppe 3\nBegegnungs-Nr: 0\nHeim: Winterthur III\nGast: Steckborn-Homburg III\n\nAdresse: Buchackerstrasse 54\, 8400 Winterthur\n
LOCATION:Buchackerstrasse 54\, 8400 Winterthur
CATEGORIES:Saison 2025/26
END:VEVENT
BEGIN:VEVENT
DTSTAMP:20260424T165359Z
DTSTART;TZID=Europe/Berlin:20260123T193000
DTEND;TZID=Europe/Berlin:20260123T223000
SUMMARY:HE 4. Liga Gr. 3 Bülach III vs Steckborn-Homburg III (0)
UID:8411fb34-0c7e-4ba6-8bd2-76765cf81a52
STATUS:CONFIRMED
LAST-MODIFIED:20260127T140555Z
DESCRIPTION:4. Liga Herren Gruppe 3\nBegegnungs-Nr: 0\nHeim: Bülach III\nGast: Steckborn-Homburg III\n\nAdresse: Schwerzgruebstrasse 28\, 8180 Bülach\n
LOCATION:Schwerzgruebstrasse 28\, 8180 Bülach
CATEGORIES:Saison 2025/26
END:VEVENT
BEGIN:VEVENT
DTSTAMP:20260424T165359Z
DTSTART;TZID=Europe/Berlin:20260127T201500
DTEND;TZID=Europe/Berlin:20260127T231500
SUMMARY:HE 4. Liga Gr. 3 Dübendorf-Volketswil II vs Steckborn-Homburg III (0)
UID:fdfc506b-dc58-432a-995b-794d99c5ec3c
STATUS:CONFIRMED
LAST-MODIFIED:20260130T081957Z
DESCRIPTION:4. Liga Herren Gruppe 3\nBegegnungs-Nr: 0\nHeim: Dübendorf-Volketswil II\nGast: Steckborn-Homburg III\n\nAdresse: Dübendorfstrasse 46\, 8602 Wangen ZH\n
LOCATION:Dübendorfstrasse 46\, 8602 Wangen ZH
CATEGORIES:Saison 2025/26
END:VEVENT
BEGIN:VEVENT
DTSTAMP:20260424T165359Z
DTSTART;TZID=Europe/Berlin:20250901T193000
DTEND;TZID=Europe/Berlin:20250901T223000
SUMMARY:HE 4. Liga Gr. 3 Niederhasli IV vs Steckborn-Homburg III (0)
UID:b94b6d8a-1009-4ddb-bc45-791945654937
STATUS:CONFIRMED
LAST-MODIFIED:20250902T092507Z
DESCRIPTION:4. Liga Herren Gruppe 3\nBegegnungs-Nr: 0\nHeim: Niederhasli IV\nGast: Steckborn-Homburg III\n\nAdresse: Dorfstrasse 22\, 8155 Niederhasli\n
LOCATION:Dorfstrasse 22\, 8155 Niederhasli
CATEGORIES:Saison 2025/26
END:VEVENT
BEGIN:VEVENT
DTSTAMP:20260424T165359Z
DTSTART;TZID=Europe/Berlin:20260312T200000
DTEND;TZID=Europe/Berlin:20260312T230000
SUMMARY:HE 4. Liga Gr. 3 Embrachertal III vs Steckborn-Homburg III (0)
UID:984e0e0f-7efd-40e9-abbc-9f1907aa1c83
STATUS:CONFIRMED
LAST-MODIFIED:20260317T134604Z
DESCRIPTION:4. Liga Herren Gruppe 3\nBegegnungs-Nr: 0\nHeim: Embrachertal III\nGast: Steckborn-Homburg III\n\nAdresse: Schützenhausstrasse 20\, 8424 Embrach\n
LOCATION:Schützenhausstrasse 20\, 8424 Embrach
CATEGORIES:Saison 2025/26
END:VEVENT
BEGIN:VEVENT
DTSTAMP:20260424T165359Z
DTSTART;TZID=Europe/Berlin:20250925T201500
DTEND;TZID=Europe/Berlin:20250925T231500
SUMMARY:HE 4. Liga Gr. 3 Uster II vs Steckborn-Homburg III (0)
UID:570fbfd3-6931-4335-8f47-b34d17820e75
STATUS:CONFIRMED
LAST-MODIFIED:20250930T123135Z
DESCRIPTION:4. Liga Herren Gruppe 3\nBegegnungs-Nr: 0\nHeim: Uster II\nGast: Steckborn-Homburg III\n\nAdresse: Wilstrasse 30 / Zürcherstrasse\, 8610 Uster\n
LOCATION:Wilstrasse 30 / Zürcherstrasse\, 8610 Uster
CATEGORIES:Saison 2025/26
END:VEVENT
BEGIN:VEVENT
DTSTAMP:20260424T165359Z
DTSTART;TZID=Europe/Berlin:20251103T200000
DTEND;TZID=Europe/Berlin:20251103T230000
SUMMARY:HE 4. Liga Gr. 3 Neuhausen V vs Steckborn-Homburg III (0)
UID:3b220876-b1e5-4c07-ade3-2711f213cf3f
STATUS:CONFIRMED
LAST-MODIFIED:20251107T144737Z
DESCRIPTION:4. Liga Herren Gruppe 3\nBegegnungs-Nr: 0\nHeim: Neuhausen V\nGast: Steckborn-Homburg III\n\nAdresse: Ebnatstrasse 35\, 8200 Schaffhausen\n
LOCATION:Ebnatstrasse 35\, 8200 Schaffhausen
CATEGORIES:Saison 2025/26
END:VEVENT
END:VCALENDAR
